{"text_format":"1","workbook":"xlsx","n_sheets":7,"sheets":["成績入力","Ａ速報","B速報 ","N速報","Ａクラス詳細速報","Ｂクラス詳細速報","Ｎクラス詳細速報"],"not_rendered":{"charts":0,"images":0,"macros":1,"external_links":0,"defined_names":13,"comments":7,"pivot_tables":0},"unopened":[],"bounds":{"document_bytes":16777216,"sheet_cells":100000,"rows_first":2000,"rows_last":500,"rows_between":2000,"halvings":0,"cell_chars":16384,"cell_head_chars":4096},"cells_cut":0,"cells_raw":0,"read":"whole","date_system":"1900"}

{"sheet":"成績入力","index":0,"n_rows":288,"n_cols":73,"rows_kept":288,"cut":false,"hidden":false,"merged":[[150,70,150,72],[13,70,13,72],[87,70,87,72],[19,70,19,72],[10,34,11,34],[10,35,11,35],[10,36,11,36],[150,59,150,60],[87,36,88,36],[19,35,20,35],[10,65,11,65],[10,37,10,56],[19,34,20,34],[12,34,14,34],[85,37,85,57],[19,36,20,36],[10,64,11,64],[150,33,151,33],[150,34,151,34],[150,35,151,35],[150,36,151,36],[87,61,88,61],[150,61,151,61],[150,64,151,64],[148,37,148,57],[150,57,150,58],[87,57,87,58],[87,59,87,60],[87,64,88,64],[17,37,17,57],[19,57,19,58],[87,33,88,33],[3,44,3,45],[4,44,4,45],[10,57,10,58],[10,59,10,60],[10,61,11,61],[6,27,6,28],[7,25,8,25],[7,27,8,27],[19,33,20,33],[10,33,11,33],[7,26,8,26],[6,29,8,29],[7,28,8,28],[6,24,8,24],[6,25,6,26],[6,10,8,10],[6,11,8,11],[6,17,8,17],[6,20,8,20],[6,21,8,21],[6,22,8,22],[6,8,8,8],[6,9,8,9],[6,18,8,18],[6,19,8,19],[6,13,8,13],[6,1,8,1],[6,2,8,2],[6,3,8,3],[6,4,8,4],[19,64,20,64],[19,59,19,60],[16,4,16,5],[11,4,11,5],[6,23,8,23],[6,14,8,14],[6,15,8,15],[6,16,8,16],[6,5,8,5],[6,6,8,6],[6,12,8,12],[6,7,8,7],[87,34,88,34],[87,35,88,35],[19,61,20,61],[19,69,20,69],[87,69,88,69],[150,69,151,69],[13,69,14,69],[19,65,20,65],[150,65,151,65],[87,65,88,65]]}
[null,null,"大会名は各シートにリンク貼り付け有り",null,null,null,null,null,null,null,"\"ゼロ”非表示はツールのオプションで操作する"]
[null,null,null,null,null,null,null,null,null,null,null,null,null,null,null,null,null,null,null,null,null,null,null,null,null,null,null,null,null,null,null,null,null,null,null,null,null,null,null,null,null,null,null,null,null,null,"ｴﾝﾄﾘ","不参加","参加者","ｺﾞｰﾙ","競技中"]
[null,null,"トレイル・オリエンテーリング四国ｉｎまんのう",null,null,null,null,null,null,null,null,null,null,null,null,null,null,null,null,null,null,null,null,null,null,null,null,null,null,null,null,null,null,null,null,null,null,null,null,null,null,null,null,null,"Ａクラス",null,{"$f":"COUNTA(AI22:AI81)","v":38},{"$f":"COUNT(AK22:AK81)","v":0},{"$f":"AU3-AV3","v":38},{"$f":"COUNTA(AL22:AL81)","v":38},{"$f":"AW3-AX3","v":0}]
[null,null,null,null,null,null,null,null,null,null,null,null,null,null,null,null,null,null,null,null,null,null,null,null,null,null,null,null,null,null,null,null,null,null,null,null,null,null,null,null,null,null,null,null,"Ａクラス",null,{"$f":"COUNTA(#REF!)","v":1},{"$f":"COUNT(#REF!)","v":0},{"$f":"AU4-AV4","v":1},{"$f":"COUNTA(#REF!)","v":1},{"$f":"AW4-AX4","v":0}]
[null,null,"成績入力 (A)",null,null,null,null,null,null,null,null,null,null,null,null,null,null,null,null,null,null,null,null,null,null,null,null,null,null,null,null,null,null,null,null,null,null,null,null,null,null,null,null,null,"Ｂクラス",null,{"$f":"COUNTA(AI90:AI139)","v":5},{"$f":"COUNT(AK90:AK139)","v":0},{"$f":"AU5-AV5","v":5},{"$f":"COUNTA(AL90:AL139)","v":5},{"$f":"AW5-AX5","v":0}]
[null,null,null,null,null,null,null,null,null,null,null,null,null,null,null,null,null,null,null,null,null,null,null,null,null,null,null,null,null,null,null,null,null,null,null,null,null,null,null,null,null,null,null,null,"Ｎクラス",null,{"$f":"COUNTA(AI153:AI202)","v":4},{"$f":"COUNT(AK153:AK202)","v":0},{"$f":"AU6-AV6","v":4},{"$f":"COUNTA(AL153:AL202)","v":4},{"$f":"AW6-AX6","v":0}]
[null,"エントリ    番号","氏名","所属","不 参 加",1,{"$f":"F7+1","v":2},{"$f":"G7+1","v":3},4,5,6,7,8,9,10,11,12,13,14,15,16,17,18,19,20,"TC　1",null,"TC　２",null,"ﾀｲﾑ　ｵｰﾊﾞ減点",null,null,null,null,null,null,null,null,null,null,null,null,"ＯＡクラス",null,{"$f":"COUNTA(#REF!)","v":1},{"$f":"COUNT(#REF!)","v":0},{"$f":"AS7-AT7","v":1},{"$f":"COUNTA(#REF!)","v":1},{"$f":"AU7-AV7","v":0}]
[null,null,null,null,null,null,null,null,null,null,null,null,null,null,null,null,null,null,null,null,null,null,null,null,null,null,"TIME (秒)",null,"TIME (秒)"]
[]
[]
[null,null,null,null,null,null,null,null,null,null,null,null,null,null,null,null,null,null,null,null,null,null,null,null,null,null,null,null,null,null,null,null,null,"エントリ番号","氏名","所属","不参加","コ　ン　ト　ロ　ー　ル　番　号",null,null,null,null,null,null,null,null,null,null,null,null,null,null,null,null,null,null,null,"TC1",null,"TC2",null,"減点","C","TC","合計得点","合計TIME"]
[null,null,null,null,"Ａクラス",null,{"$f":"COUNTA(#REF!)","v":1},{"$f":"COUNT(#REF!)","v":0},{"$f":"G12-H12","v":1},{"$f":"COUNTA(#REF!)","v":1},{"$f":"I12-J12","v":0},null,null,null,null,null,null,null,null,null,null,null,null,null,null,null,null,null,null,null,null,null,null,null,null,null,null,1,2,3,4,5,6,7,8,9,10,11,12,13,14,15,16,17,18,19,20,"TC1","TIME (秒)","TC2","TIME (秒)",null,"得点","得点"]
[null,null,null,null,null,null,null,null,null,null,null,null,null,null,null,null,null,null,null,null,null,null,null,null,null,null,null,null,null,null,null,null,null,null,"正　解","Ａ　クラス",null,"A","B","Z","Z","B","D","D","A","B","A","Z","D","C","B","Z","A","B",null,null,null,"A",null,"C",null," "]
[null,null,null,null,null,null,null,null,null,null,null,null,null,null,null,null,null,null,null,null,null,null,null,null,null,null,null,null,null,null,null,null,null,null,null,"Ｂ　クラス",null,"D","A","D","D","A","B","D","D","C","B","C",null,null,null,null,null,null,null,null,null,null,null,null,null,null,null,null,null,null,null,null,null,"ＴＣ誤回答　　　ＴＩＭＥ合計へ","Ｔ  Ｃ  誤  回  答"]
[null,null,null,null,null,null,null,null,null,null,null,null,null,null,null,null,null,null,null,null,null,null,null,null,null,null,null,null,null,null,null,null,null,null,null,"Ｎ　クラス",null,"B","D","B","C","B","B","B","C","C",null,null,null,null,null,null,null,null,null,null,null,null,null,null,null,null,null,null,null,null,null,null,null,null,"ＴＣ１","ＴＣ２","ＴＣ１＋ＴＣ２"]
[]
[null,null,null,null,"Ｂクラス",null,{"$f":"COUNTA(AI90:AI139)","v":5},{"$f":"COUNT(AK90:AK139)","v":0},{"$f":"G17-H17","v":5},{"$f":"COUNTA(AL90:AL139)","v":5},{"$f":"I17-J17","v":0}]
[null,null,null,null,"Ｎクラス",null,{"$f":"COUNTA(AI153:AI202)","v":4},{"$f":"COUNT(AK153:AK202)","v":0},{"$f":"G18-H18","v":4},{"$f":"COUNTA(AL153:AL202)","v":4},{"$f":"I18-J18","v":0},null,null,null,null,null,null,null,null,null,null,null,null,null,null,null,null,null,null,null,null,null,null,"Ａ","クラス　集計",null,null,"　　　　　　トレイル・オリエンテーリング　岩槻城址公園大会　　　"]
[null,null,null,null,"ＯＡクラス",null,{"$f":"COUNTA(#REF!)","v":1},{"$f":"COUNT(#REF!)","v":0},{"$f":"G19-H19","v":1},{"$f":"COUNTA(#REF!)","v":1},{"$f":"I19-J19","v":0}]
[null,null,null,null,null,null,null,null,null,null,null,null,null,null,null,null,null,null,null,null,null,null,null,null,null,null,null,null,null,null,null,null,null,"エントリ番号","氏名","所属","不参加",1,{"$f":"AL20+1","v":2},{"$f":"AM20+1","v":3},4,5,6,7,8,9,10,11,12,13,14,15,16,17,18,19,20,"TC1",null,"TC2",null,"減点","C","TC","合計得点","合計TIME",null,null,null,"ＴＣ誤回答　　　ＴＩＭＥ合計へ","Ｔ  Ｃ  誤  回  答"]
[null,null,null,null,null,null,null,null,null,null,null,null,null,null,null,null,null,null,null,null,null,null,null,null,null,null,null,null,null,null,null,null,null,null,null,null,null,{"$f":"$AL$13","v":"A"},{"$f":"$AM$13","v":"B"},{"$f":"$AN$13","v":"Z"},{"$f":"$AO$13","v":"Z"},{"$f":"$AP$13","v":"B"},{"$f":"$AQ$13","v":"D"},{"$f":"$AR$13","v":"D"},{"$f":"$AS$13","v":"A"},{"$f":"$AT$13","v":"B"},{"$f":"$AU$13","v":"A"},{"$f":"$AV$13","v":"Z"},{"$f":"$AW$13","v":"D"},{"$f":"$AX$13","v":"C"},{"$f":"$AY$13","v":"B"},{"$f":"$AZ$13","v":"Z"},{"$f":"$BA$13","v":"A"},{"$f":"$BB$13","v":"B"},{"$f":"$BC$13","v":0},{"$f":"$BD$13","v":0},{"$f":"$BE$13","v":0},{"$f":"$BF$13","v":"A"},"TIME (秒)",{"$f":"$BH$13","v":"C"},"TIME (秒)",null,"得点","得点",null,null,null,null,null,null,"ＴＣ１","ＴＣ２","ＴＣ１＋ＴＣ２"]
[null,null,null,null,null,null,null,null,null,null,null,null,null,null,null,null,null,null,null,null,null,null,null,null,null,null,null,null,null,null,null,null,1,1,"大塚   校市","千葉OLK　",null,"B","B","A","A","B","D","Z","A","B","A","Z","C","C","B","Z","A","C",null,null,null,"D",27,"D",29,null,{"$f":"SUM(COUNTIF(AL22,AL$21),COUNTIF(AM22,AM$21),COUNTIF(AN22,AN$21),COUNTIF(AO22,AO$21),COUNTIF(AP22,AP$21),COUNTIF(AQ22,AQ$21),COUNTIF(AR22,AR$21),COUNTIF(AS22,AS$21),COUNTIF(AT22,AT$21),COUNTIF(AU22,AU$21),COUNTIF(AV22,AV$21),COUNTIF(AW22,AW$21),COUNTIF(AX22,AX$21),COUNTIF(AY22,AY$21),COUNTIF(AZ22,AZ$21),COUNTIF(BA22,BA$21),COUNTIF(BB22,BB$21),COUNTIF(BC22,BC$21),COUNTIF(BD22,BD$21),COUNTIF(BE22,BE$21))","v":11},{"$f":"SUM(COUNTIF(BF22,BF$21),COUNTIF(BH22,BH$21))","v":0},{"$f":"SUM(BK22:BL22)-BJ22","v":11},{"$f":"BG22+BI22+BR22","v":176},null,null,null,{"$f":"BU22","v":120},{"$f":"IF(AI22=\"\",0,IF(BF22=\"\",0,IF($BF$21<>BF22,60,0)))","v":60},{"$f":"IF(AI22=\"\",0,IF(BH22=\"\",0,IF($BH$21<>BH22,60,0)))","v":60},{"$f":"BS22+BT22","v":120}]
[null,null,null,null,null,null,null,null,null,null,null,null,null,null,null,null,null,null,null,null,null,null,null,null,null,null,null,null,null,null,null,null,{"$f":"AG22+1","v":2},2,"小山  太朗","サンスーシ",null,"Z","B","B","Z","B","D","E","B","B","Z","Z","Z","C","B","Z","B","C",null,null,null,"A",20,"C",52,null,{"$f":"SUM(COUNTIF(AL23,AL$21),COUNTIF(AM23,AM$21),COUNTIF(AN23,AN$21),COUNTIF(AO23,AO$21),COUNTIF(AP23,AP$21),COUNTIF(AQ23,AQ$21),COUNTIF(AR23,AR$21),COUNTIF(AS23,AS$21),COUNTIF(AT23,AT$21),COUNTIF(AU23,AU$21),COUNTIF(AV23,AV$21),COUNTIF(AW23,AW$21),COUNTIF(AX23,AX$21),COUNTIF(AY23,AY$21),COUNTIF(AZ23,AZ$21),COUNTIF(BA23,BA$21),COUNTIF(BB23,BB$21),COUNTIF(BC23,BC$21),COUNTIF(BD23,BD$21),COUNTIF(BE23,BE$21))","v":9},{"$f":"SUM(COUNTIF(BF23,BF$21),COUNTIF(BH23,BH$21))","v":2},{"$f":"SUM(BK23:BL23)-BJ23","v":11},{"$f":"BG23+BI23+BR23","v":72},null,null,null,{"$f":"BU23","v":0},{"$f":"IF(AI23=\"\",0,IF(BF23=\"\",0,IF($BF$21<>BF23,60,0)))","v":0},{"$f":"IF(AI23=\"\",0,IF(BH23=\"\",0,IF($BH$21<>BH23,60,0)))","v":0},{"$f":"BS23+BT23","v":0}]
[null,null,null,null,null,null,null,null,null,null,null,null,null,null,null,null,null,null,null,null,null,null,null,null,null,null,null,null,null,null,null,null,3,3,"今井  信親","ワンダラーズ",null,"B","B","Z","Z","B","D","D","A","B","A","Z","D","D","B","A","A","C",null,null,null,"A",11,"C",29,null,{"$f":"SUM(COUNTIF(AL24,AL$21),COUNTIF(AM24,AM$21),COUNTIF(AN24,AN$21),COUNTIF(AO24,AO$21),COUNTIF(AP24,AP$21),COUNTIF(AQ24,AQ$21),COUNTIF(AR24,AR$21),COUNTIF(AS24,AS$21),COUNTIF(AT24,AT$21),COUNTIF(AU24,AU$21),COUNTIF(AV24,AV$21),COUNTIF(AW24,AW$21),COUNTIF(AX24,AX$21),COUNTIF(AY24,AY$21),COUNTIF(AZ24,AZ$21),COUNTIF(BA24,BA$21),COUNTIF(BB24,BB$21),COUNTIF(BC24,BC$21),COUNTIF(BD24,BD$21),COUNTIF(BE24,BE$21))","v":13},{"$f":"SUM(COUNTIF(BF24,BF$21),COUNTIF(BH24,BH$21))","v":2},{"$f":"SUM(BK24:BL24)-BJ24","v":15},40,null,null,null,0,0,0,0]
[null,null,null,null,null,null,null,null,null,null,null,null,null,null,null,null,null,null,null,null,null,null,null,null,null,null,null,null,null,null,null,null,4,4,"原野  幸男","所沢OLC",null,"A","B","B","A","B","D","C","B","B","A","Z","Z","C","A","Z","A","B",null,null,null,"D",23,"D",21,null,11,0,11,164,null,null,null,120,60,60,120]
[null,null,null,null,null,null,null,null,null,null,null,null,null,null,null,null,null,null,null,null,null,null,null,null,null,null,null,null,null,null,null,null,5,5,"山口　征矢","川口OLC",null,"B","B","A","Z","B","D","D","B","B","A","Z","D","C","B","Z","A","B",null,null,null,"D",32,"C",20,null,14,1,15,112,null,null,null,60,60,0,60]
[null,null,null,null,null,null,null,null,null,null,null,null,null,null,null,null,null,null,null,null,null,null,null,null,null,null,null,null,null,null,null,null,6,6,"阿天坊　裕","港南OLC",null,"B","B","B","Z","B","D","D","A","A","A","Z","C","A","B","A","A","B",null,null,null,"A",16,"D",16,null,11,1,12,92,null,null,null,60,0,60,60]
[null,null,null,null,null,null,null,null,null,null,null,null,null,null,null,null,null,null,null,null,null,null,null,null,null,null,null,null,null,null,null,null,7,7,"豊島  利男","早大ＯＣ寿会",null,"A","B","B","W","B","D","E","A","B","A","B","Z","B","B","Z","A","D",null,null,null,"D",25,"E",51,null,10,0,10,196,null,null,null,120,60,60,120]
[null,null,null,null,null,null,null,null,null,null,null,null,null,null,null,null,null,null,null,null,null,null,null,null,null,null,null,null,null,null,null,null,8,8,"田中　徹","京葉OLクラブ",null,"A","B","A","Z","B","D","C","A","B","A","Z","Z","C","B","Z","A","B",null,null,null,"A",3,"C",28,null,14,2,16,31,null,null,null,0,0,0,0]
[null,null,null,null,null,null,null,null,null,null,null,null,null,null,null,null,null,null,null,null,null,null,null,null,null,null,null,null,null,null,null,null,9,9,"高柳　宣幸","港南OLC",null,"B","B","A","Z","B","Z","E","A","B","A","B","D","D","B","A","A","C",null,null,null,"A",10,"E",17,null,{"$f":"SUM(COUNTIF(AL30,AL$21),COUNTIF(AM30,AM$21),COUNTIF(AN30,AN$21),COUNTIF(AO30,AO$21),COUNTIF(AP30,AP$21),COUNTIF(AQ30,AQ$21),COUNTIF(AR30,AR$21),COUNTIF(AS30,AS$21),COUNTIF(AT30,AT$21),COUNTIF(AU30,AU$21),COUNTIF(AV30,AV$21),COUNTIF(AW30,AW$21),COUNTIF(AX30,AX$21),COUNTIF(AY30,AY$21),COUNTIF(AZ30,AZ$21),COUNTIF(BA30,BA$21),COUNTIF(BB30,BB$21),COUNTIF(BC30,BC$21),COUNTIF(BD30,BD$21),COUNTIF(BE30,BE$21))","v":9},{"$f":"SUM(COUNTIF(BF30,BF$21),COUNTIF(BH30,BH$21))","v":1},{"$f":"SUM(BK30:BL30)-BJ30","v":10},87,null,null,null,60,0,60,60]
[null,null,null,null,null,null,null,null,null,null,null,null,null,null,null,null,null,null,null,null,null,null,null,null,null,null,null,null,null,null,null,null,10,10,"田島　三郎","入間市ＯＬＣ",null,"A","B","Z","A","B","D","Z","A","B","A","A","C","D","B","A","A","A",null,null,null,"A",30,"C",47,null,10,2,12,77,null,null,null,0,0,0,0]
[null,null,null,null,null,null,null,null,null,null,null,null,null,null,null,null,null,null,null,null,null,null,null,null,null,null,null,null,null,null,null,null,11,11,"小泉  辰喜","東京ＯＬクラブ",null,"A","B","Z","Z","B","E","D","B","B","A","Z","D","B","B","Z","A","B",null,null,null,"A",6,"C",19,null,14,2,16,25,null,null,null,0,0,0,0]
[null,null,null,null,null,null,null,null,null,null,null,null,null,null,null,null,null,null,null,null,null,null,null,null,null,null,null,null,null,null,null,null,12,12,"高橋  厚","多摩OL",null,"B","Z","Z","Z","B","D","C","A","B","A","Z","D","C","B","A","A","B",null,null,null,"A",12,"C",19,null,13,2,15,31,null,null,null,0,0,0,0]
[null,null,null,null,null,null,null,null,null,null,null,null,null,null,null,null,null,null,null,null,null,null,null,null,null,null,null,null,null,null,null,null,13,13,"伊藤　清","ワンダラーズ",null,"Z","Z","A","Z","B","E","D","A","B","A","Z","C","B","B","Z","A","B",null,null,null,"A",23,"C",41,null,11,2,13,64,null,null,null,0,0,0,0]
[null,null,null,null,null,null,null,null,null,null,null,null,null,null,null,null,null,null,null,null,null,null,null,null,null,null,null,null,null,null,null,null,14,14,"田代  雅之","静岡県",null,"A","C","B","Z","B","E","D","A","B","A","Z","Z","C","B","Z","A","C",null,null,null,"D",8,"C",31,null,12,1,13,99,null,null,null,60,60,0,60]
[null,null,null,null,null,null,null,null,null,null,null,null,null,null,null,null,null,null,null,null,null,null,null,null,null,null,null,null,null,null,null,null,15,15,"藤生  考志","東京ＯＬクラブ",null,"A","B","A","Z","B","D","D","B","B","A","Z","D","C","B","Z","A","C",null,null,null,"D",26,"C",29,null,14,1,15,115,null,null,null,60,60,0,60]
[null,null,null,null,null,null,null,null,null,null,null,null,null,null,null,null,null,null,null,null,null,null,null,null,null,null,null,null,null,null,null,null,16,16,"高橋  義人","八王子市",null,"A","B","B","Z","B","D","D","A","B","A","B","D","Z","B","A","A","C",null,null,null,"C",13,"E",36,null,12,0,12,169,null,null,null,120,60,60,120]
[null,null,null,null,null,null,null,null,null,null,null,null,null,null,null,null,null,null,null,null,null,null,null,null,null,null,null,null,null,null,null,null,17,17,"平島   勝彦","入間市OLC",null,"W","W","Z","A","B","D","D","A","B","Z","B","C","C","B","A","B","D",null,null,null,"E",19,"D",27,null,8,0,8,166,null,null,null,120,60,60,120]
[null,null,null,null,null,null,null,null,null,null,null,null,null,null,null,null,null,null,null,null,null,null,null,null,null,null,null,null,null,null,null,null,18,18,"坪井　春樹　","コンパス",null,"A","B","A","Z","B","D","C","A","B","A","B","D","C","B","A","A","B",null,null,null,"A",29,"C",46,null,13,2,15,75,null,null,null,0,0,0,0]
[null,null,null,null,null,null,null,null,null,null,null,null,null,null,null,null,null,null,null,null,null,null,null,null,null,null,null,null,null,null,null,null,19,19,"山口　尚宏","入間市OLC",null,"A","B","A","Z","B","E","D","A","B","A","Z","D","C","B","Z","A","B",null,null,null,"A",3,"C",18,null,15,2,17,21,null,null,null,0,0,0,0]
[null,null,null,null,null,null,null,null,null,null,null,null,null,null,null,null,null,null,null,null,null,null,null,null,null,null,null,null,null,null,null,null,20,20,"久保井  輝政","サンスーシ",null,"B","B","Z","Z","B","D","Z","A","B","A","A","D","D","B","A","A","B",null,null,null,"D",14,"C",12,null,12,1,13,86,null,null,null,60,60,0,60]
[null,null,null,null,null,null,null,null,null,null,null,null,null,null,null,null,null,null,null,null,null,null,null,null,null,null,null,null,null,null,null,null,21,21,"佐藤  清一","入間市OLC",null,"A","B","A","Z","B","E","D","A","B","A","Z","D","C","B","Z","A","B",null,null,null,"A",26,"C",36,null,15,2,17,62,null,null,null,0,0,0,0]
[null,null,null,null,null,null,null,null,null,null,null,null,null,null,null,null,null,null,null,null,null,null,null,null,null,null,null,null,null,null,null,null,22,22,"藤島   由宇","三条ＯＬＣ",null,"A","Z","Z","Z","B","D","D","A","B","A","Z","D","C","B","Z","A","C",null,null,null,"A",8,"C",34,null,15,2,17,42,null,null,null,0,0,0,0]
[null,null,null,null,null,null,null,null,null,null,null,null,null,null,null,null,null,null,null,null,null,null,null,null,null,null,null,null,null,null,null,null,23,23,null,null,null,null,null,null,null,null,null,null,null,null,null,null,null,null,null,null,null,null,null,null,null,null,null,null,null,null,0,0,0,0,null,null,null,0,0,0,0]
[null,null,null,null,null,null,null,null,null,null,null,null,null,null,null,null,null,null,null,null,null,null,null,null,null,null,null,null,null,null,null,null,24,24,"荒井  正敏","多摩OL",null,"B","B","A","Z","B","E","D","A","B","A","Z","D","C","B","Z","A","C",null,null,null,"A",22,"D",52,null,13,1,14,134,null,null,null,60,0,60,60]
[null,null,null,null,null,null,null,null,null,null,null,null,null,null,null,null,null,null,null,null,null,null,null,null,null,null,null,null,null,null,null,null,25,25,"井口　良範"," 高崎OLC",null,"A","B","A","A","B","D","D","C","B","A","Z","D","D","B","A","A","D",null,null,null,"A",29,"E",21,null,11,1,12,110,null,null,null,60,0,60,60]
[null,null,null,null,null,null,null,null,null,null,null,null,null,null,null,null,null,null,null,null,null,null,null,null,null,null,null,null,null,null,null,null,26,26,"福田　雅秀","川越ＯＬＣ",null,"B","B","B","Z","B","D","D","A","B","A","Z","D","B","B","Z","A","B",null,null,null,"A",19,"B",33,null,14,1,15,112,null,null,null,60,0,60,60]
[null,null,null,null,null,null,null,null,null,null,null,null,null,null,null,null,null,null,null,null,null,null,null,null,null,null,null,null,null,null,null,null,27,27,"小橋  昌明","東京大学OLK",null,"A","B","Z","Z","B","D","D","A","B","A","Z","D","C","B","Z","A","C",null,null,null,"A",37,"B",46,1,16,1,16,143,null,null,null,60,0,60,60]
[null,null,null,null,null,null,null,null,null,null,null,null,null,null,null,null,null,null,null,null,null,null,null,null,null,null,null,null,null,null,null,null,28,28,"鈴木  規弘","多摩OL",null,"A","B","A","Z","B","D","D","A","B","Z","Z","Z","C","B","Z","A","B",null,null,null,"A",7,"C",10,null,14,2,16,17,null,null,null,0,0,0,0]
[null,null,null,null,null,null,null,null,null,null,null,null,null,null,null,null,null,null,null,null,null,null,null,null,null,null,null,null,null,null,null,null,29,29,"我妻　　光","東京都",null,"A","Z","Z","Z","B","D","D","A","B","A","Z","D","B","B","Z","A","B",null,null,null,"A",12,"C",24,null,15,2,17,36,null,null,null,0,0,0,0]
[null,null,null,null,null,null,null,null,null,null,null,null,null,null,null,null,null,null,null,null,null,null,null,null,null,null,null,null,null,null,null,null,30,30,"石塚 　脩之","横浜OLクラブ",null,"A","B","B","Z","B","E","D","A","B","A","Z","D","Z","B","Z","A","B",null,null,null,"A",13,"C",31,null,14,2,16,44,null,null,null,0,0,0,0]
[null,null,null,null,null,null,null,null,null,null,null,null,null,null,null,null,null,null,null,null,null,null,null,null,null,null,null,null,null,null,null,null,31,31,"茅野  耕治","ワンダラーズ",null,"A","B","Z","Z","B","D","D","A","B","A","Z","C","C","B","Z","A","B",null,null,null,"A",12,"C",9,null,16,2,18,21,null,null,null,0,0,0,0]
[null,null,null,null,null,null,null,null,null,null,null,null,null,null,null,null,null,null,null,null,null,null,null,null,null,null,null,null,null,null,null,null,32,32,"山口　拓也","浜松OLC",null,"A","B","Z","Z","B","D","D","A","B","A","Z","D","C","B","Z","A","B",null,null,null,"A",6,"C",24,null,17,2,19,30,null,null,null,0,0,0,0]
[null,null,null,null,null,null,null,null,null,null,null,null,null,null,null,null,null,null,null,null,null,null,null,null,null,null,null,null,null,null,null,null,33,33,"水嶋　直子","渋谷で走る会",null,"B","B","B","Z","B","Z","D","B","B","A","Z","C","B","A","A","B","C",null,null,null,"A",16,"B",15,null,7,1,8,91,null,null,null,60,0,60,60]
[null,null,null,null,null,null,null,null,null,null,null,null,null,null,null,null,null,null,null,null,null,null,null,null,null,null,null,null,null,null,null,null,34,34,"西山　絵梨香","浜松ＯＬＣ",null,"A","B","B","A","B","C","C","A","B","A","Z","D","C","C","Z","A","B",null,null,null,"D",17,"C",32,null,12,1,13,109,null,null,null,60,60,0,60]
[null,null,null,null,null,null,null,null,null,null,null,null,null,null,null,null,null,null,null,null,null,null,null,null,null,null,null,null,null,null,null,null,35,35,"田口　敏夫","川越ＯＬＣ",null,"C","A","B","W","B","D","C","C","B","W","A","D","W","B","A","B","B",null,null,null,"C",14,"D",35,null,6,0,6,169,null,null,null,120,60,60,120]
[null,null,null,null,null,null,null,null,null,null,null,null,null,null,null,null,null,null,null,null,null,null,null,null,null,null,null,null,null,null,null,null,36,36,"大久保　裕介","ES関東クラブ",null,"B","B","A","Z","B","D","D","A","B","A","Z","D","C","B","Z","A","B",null,null,null,"A",2,"C",34,null,15,2,17,36,null,null,null,0,0,0,0]
[null,null,null,null,null,null,null,null,null,null,null,null,null,null,null,null,null,null,null,null,null,null,null,null,null,null,null,null,null,null,null,null,37,37,"松橋  徳敏","つるまいOLC",null,"A","B","A","Z","B","E","D","Z","B","A","Z","D","C","B","Z","A","C",null,null,null,"C",11,"C",23,null,13,1,14,94,null,null,null,60,60,0,60]
[null,null,null,null,null,null,null,null,null,null,null,null,null,null,null,null,null,null,null,null,null,null,null,null,null,null,null,null,null,null,null,null,38,38,"横手　義雄","入間市OLC",null,"C","B","Z","A","B","D","D","A","B","A","A","Z","C","B","A","Z","B",null,null,null,"A",31,"B",18,null,11,1,12,109,null,null,null,60,0,60,60]
[null,null,null,null,null,null,null,null,null,null,null,null,null,null,null,null,null,null,null,null,null,null,null,null,null,null,null,null,null,null,null,null,39,39,"丸岡　広",null,null,"A","B","Z","Z","B","E","D","A","B","A","Z","Z","B","B","Z","A","B",null,null,null,"D",10,"D",5,null,14,0,14,135,null,null,null,120,60,60,120]
[null,null,null,null,null,null,null,null,null,null,null,null,null,null,null,null,null,null,null,null,null,null,null,null,null,null,null,null,null,null,null,null,40,40,null,null,null,null,null,null,null,null,null,null,null,null,null,null,null,null,null,null,null,null,null,null,null,null,null,null,null,null,0,0,0,0,null,null,null,0,0,0,0]
[null,null,null,null,null,null,null,null,null,null,null,null,null,null,null,null,null,null,null,null,null,null,null,null,null,null,null,null,null,null,null,null,41,41,null,null,null,null,null,null,null,null,null,null,null,null,null,null,null,null,null,null,null,null,null,null,null,null,null,null,null,null,0,0,0,0,null,null,null,0,0,0,0]
[null,null,null,null,null,null,null,null,null,null,null,null,null,null,null,null,null,null,null,null,null,null,null,null,null,null,null,null,null,null,null,null,42,42,null,null,null,null,null,null,null,null,null,null,null,null,null,null,null,null,null,null,null,null,null,null,null,null,null,null,null,null,0,0,0,0,null,null,null,0,0,0,0]
[null,null,null,null,null,null,null,null,null,null,null,null,null,null,null,null,null,null,null,null,null,null,null,null,null,null,null,null,null,null,null,null,43,43,null,null,null,null,null,null,null,null,null,null,null,null,null,null,null,null,null,null,null,null,null,null,null,null,null,null,null,null,0,0,0,0,null,null,null,0,0,0,0]
[null,null,null,null,null,null,null,null,null,null,null,null,null,null,null,null,null,null,null,null,null,null,null,null,null,null,null,null,null,null,null,null,44,44,null,null,null,null,null,null,null,null,null,null,null,null,null,null,null,null,null,null,null,null,null,null,null,null,null,null,null,null,0,0,0,0,null,null,null,0,0,0,0]
[null,null,null,null,null,null,null,null,null,null,null,null,null,null,null,null,null,null,null,null,null,null,null,null,null,null,null,null,null,null,null,null,45,45,null,null,null,null,null,null,null,null,null,null,null,null,null,null,null,null,null,null,null,null,null,null,null,null,null,null,null,null,0,0,0,0,null,null,null,0,0,0,0]
[null,null,null,null,null,null,null,null,null,null,null,null,null,null,null,null,null,null,null,null,null,null,null,null,null,null,null,null,null,null,null,null,46,46,null,null,null,null,null,null,null,null,null,null,null,null,null,null,null,null,null,null,null,null,null,null,null,null,null,null,null,null,0,0,0,0,null,null,null,0,0,0,0]
[null,null,null,null,null,null,null,null,null,null,null,null,null,null,null,null,null,null,null,null,null,null,null,null,null,null,null,null,null,null,null,null,47,47,null,null,null,null,null,null,null,null,null,null,null,null,null,null,null,null,null,null,null,null,null,null,null,null,null,null,null,null,0,0,0,0,null,null,null,0,0,0,0]
[null,null,null,null,null,null,null,null,null,null,null,null,null,null,null,null,null,null,null,null,null,null,null,null,null,null,null,null,null,null,null,null,48,48,null,null,null,null,null,null,null,null,null,null,null,null,null,null,null,null,null,null,null,null,null,null,null,null,null,null,null,null,0,0,0,0,null,null,null,0,0,0,0]
[null,null,null,null,null,null,null,null,null,null,null,null,null,null,null,null,null,null,null,null,null,null,null,null,null,null,null,null,null,null,null,null,49,49,null,null,null,null,null,null,null,null,null,null,null,null,null,null,null,null,null,null,null,null,null,null,null,null,null,null,null,null,0,0,0,0,null,null,null,0,0,0,0]
[null,null,null,null,null,null,null,null,null,null,null,null,null,null,null,null,null,null,null,null,null,null,null,null,null,null,null,null,null,null,null,null,50,50,null,null,null,null,null,null,null,null,null,null,null,null,null,null,null,null,null,null,null,null,null,null,null,null,null,null,null,null,0,0,0,0,null,null,null,0,0,0,0]
[null,null,null,null,null,null,null,null,null,null,null,null,null,null,null,null,null,null,null,null,null,null,null,null,null,null,null,null,null,null,null,null,51,51,null,null,null,null,null,null,null,null,null,null,null,null,null,null,null,null,null,null,null,null,null,null,null,null,null,null,null,null,{"$f":"SUM(COUNTIF(AL72,AL$21),COUNTIF(AM72,AM$21),COUNTIF(AN72,AN$21),COUNTIF(AO72,AO$21),COUNTIF(AP72,AP$21),COUNTIF(AQ72,AQ$21),COUNTIF(AR72,AR$21),COUNTIF(AS72,AS$21),COUNTIF(AT72,AT$21),COUNTIF(AU72,AU$21),COUNTIF(AV72,AV$21),COUNTIF(AW72,AW$21),COUNTIF(AX72,AX$21),COUNTIF(AY72,AY$21),COUNTIF(AZ72,AZ$21),COUNTIF(BA72,BA$21),COUNTIF(BB72,BB$21),COUNTIF(BC72,BC$21),COUNTIF(BD72,BD$21),COUNTIF(BE72,BE$21))","v":0},{"$f":"SUM(COUNTIF(BF72,BF$21),COUNTIF(BH72,BH$21))","v":0},{"$f":"SUM(BK72:BL72)-BJ72","v":0},0,null,null,null,0,0,0,0]
[null,null,null,null,null,null,null,null,null,null,null,null,null,null,null,null,null,null,null,null,null,null,null,null,null,null,null,null,null,null,null,null,52,52,null,null,null,null,null,null,null,null,null,null,null,null,null,null,null,null,null,null,null,null,null,null,null,null,null,null,null,null,0,0,0,0,null,null,null,0,0,0,0]
[null,null,null,null,null,null,null,null,null,null,null,null,null,null,null,null,null,null,null,null,null,null,null,null,null,null,null,null,null,null,null,null,53,53,null,null,null,null,null,null,null,null,null,null,null,null,null,null,null,null,null,null,null,null,null,null,null,null,null,null,null,null,0,0,0,0,null,null,null,0,0,0,0]
[null,null,null,null,null,null,null,null,null,null,null,null,null,null,null,null,null,null,null,null,null,null,null,null,null,null,null,null,null,null,null,null,54,54,null,null,null,null,null,null,null,null,null,null,null,null,null,null,null,null,null,null,null,null,null,null,null,null,null,null,null,null,0,0,0,0,null,null,null,0,0,0,0]
[null,null,null,null,null,null,null,null,null,null,null,null,null,null,null,null,null,null,null,null,null,null,null,null,null,null,null,null,null,null,null,null,55,55,null,null,null,null,null,null,null,null,null,null,null,null,null,null,null,null,null,null,null,null,null,null,null,null,null,null,null,null,0,0,0,0,null,null,null,0,0,0,0]
[null,null,null,null,null,null,null,null,null,null,null,null,null,null,null,null,null,null,null,null,null,null,null,null,null,null,null,null,null,null,null,null,56,56,null,null,null,null,null,null,null,null,null,null,null,null,null,null,null,null,null,null,null,null,null,null,null,null,null,null,null,null,0,0,0,0,null,null,null,0,0,0,0]
[null,null,null,null,null,null,null,null,null,null,null,null,null,null,null,null,null,null,null,null,null,null,null,null,null,null,null,null,null,null,null,null,57,57,null,null,null,null,null,null,null,null,null,null,null,null,null,null,null,null,null,null,null,null,null,null,null,null,null,null,null,null,0,0,0,0,null,null,null,0,0,0,0]
[null,null,null,null,null,null,null,null,null,null,null,null,null,null,null,null,null,null,null,null,null,null,null,null,null,null,null,null,null,null,null,null,58,58,null,null,null,null,null,null,null,null,null,null,null,null,null,null,null,null,null,null,null,null,null,null,null,null,null,null,null,null,0,0,0,0,null,null,null,0,0,0,0]
[null,null,null,null,null,null,null,null,null,null,null,null,null,null,null,null,null,null,null,null,null,null,null,null,null,null,null,null,null,null,null,null,59,59,null,null,null,null,null,null,null,null,null,null,null,null,null,null,null,null,null,null,null,null,null,null,null,null,null,null,null,null,0,0,0,0,null,null,null,0,0,0,0]
[null,null,null,null,null,null,null,null,null,null,null,null,null,null,null,null,null,null,null,null,null,null,null,null,null,null,null,null,null,null,null,null,60,60,null,null,null,null,null,null,null,null,null,null,null,null,null,null,null,null,null,null,null,null,null,null,null,null,null,null,null,null,0,0,0,0,null,null,null,0,0,0,0]
[null,null,null,null,null,null,null,null,null,null,null,null,null,null,null,null,null,null,null,null,null,null,null,null,null,null,null,null,null,null,null,null,null,null,null,null,null,null,null,null,null,null,null,null,null,null,null,null,null,null,null,null,null,null,null,null,null,null,null,null,null,null,0]
[]
[]
[]
[null,null,null,null,null,null,null,null,null,null,null,null,null,null,null,null,null,null,null,null,null,null,null,null,null,null,null,null,null,null,null,null,null,"Ｂ","クラス　集計",null,null,"　　　　　　トレイル・オリエンテーリング　岩槻城址公園大会　　　"]
[]
[null,null,null,null,null,null,null,null,null,null,null,null,null,null,null,null,null,null,null,null,null,null,null,null,null,null,null,null,null,null,null,null,null,"エントリ番号","氏名","所属","不参加",1,{"$f":"AL88+1","v":2},{"$f":"AM88+1","v":3},4,5,6,7,8,9,10,11,12,13,14,15,16,17,18,19,20,"TC1",null,"TC2",null,"減点","C","TC","合計得点","合計TIME",null,null,null,"ＴＣ誤回答　　　ＴＩＭＥ合計へ","Ｔ  Ｃ  誤  回  答"]
[null,null,null,null,null,null,null,null,null,null,null,null,null,null,null,null,null,null,null,null,null,null,null,null,null,null,null,null,null,null,null,null,null,null,null,null,null,{"$f":"$AL$14","v":"D"},{"$f":"$AM$14","v":"A"},{"$f":"$AN$14","v":"D"},{"$f":"$AO$14","v":"D"},{"$f":"$AP$14","v":"A"},{"$f":"$AQ$14","v":"B"},{"$f":"$AR$14","v":"D"},{"$f":"$AS$14","v":"D"},{"$f":"$AT$14","v":"C"},{"$f":"$AU$14","v":"B"},{"$f":"$AV$14","v":"C"},{"$f":"$AW$14","v":0},{"$f":"$AX$14","v":0},{"$f":"$AY$14","v":0},{"$f":"$AZ$14","v":0},{"$f":"$BA$14","v":0},{"$f":"$BB$14","v":0},{"$f":"$BC$14","v":0},{"$f":"$BD$14","v":0},{"$f":"$BE$14","v":0},{"$f":"$BF$14","v":0},"TIME (秒)",{"$f":"$BH$14","v":0},"TIME (秒)",null,"得点","得点",null,null,null,null,null,null,"ＴＣ１","ＴＣ２","ＴＣ１＋ＴＣ２"]
[null,null,null,null,null,null,null,null,null,null,null,null,null,null,null,null,null,null,null,null,null,null,null,null,null,null,null,null,null,null,null,null,1,71,"斉藤　英津子","東京ＯＬクラブ",null,"B","A","D","D","A","B","D","C","C","B","C",null,null,null,null,null,null,null,null,null,null,null,null,null,null,{"$f":"SUM(COUNTIF(AL90,AL$89),COUNTIF(AM90,AM$89),COUNTIF(AN90,AN$89),COUNTIF(AO90,AO$89),COUNTIF(AP90,AP$89),COUNTIF(AQ90,AQ$89),COUNTIF(AR90,AR$89),COUNTIF(AS90,AS$89),COUNTIF(AT90,AT$89),COUNTIF(AU90,AU$89),COUNTIF(AV90,AV$89),COUNTIF(AW90,AW$89),COUNTIF(AX90,AX$89),COUNTIF(AY90,AY$89),COUNTIF(AZ90,AZ$89),COUNTIF(BA90,BA$89),COUNTIF(BB90,BB$89),COUNTIF(BC90,BC$89),COUNTIF(BD90,BD$89),COUNTIF(BE90,BE$89))","v":9},{"$f":"SUM(COUNTIF(BF90,BF$89),COUNTIF(BH90,BH$89))","v":0},{"$f":"SUM(BK90:BL90)-BJ90","v":9},{"$f":"BG90+BI90+BR90","v":0},null,null,null,{"$f":"BU90","v":0},{"$f":"IF(AI90=\"\",0,IF(BF90=\"\",0,IF($BF$89<>BF90,60,0)))","v":0},{"$f":"IF(AI90=\"\",0,IF(BH90=\"\",0,IF($BH$89<>BH90,60,0)))","v":0},{"$f":"BS90+BT90","v":0}]
[null,null,null,null,null,null,null,null,null,null,null,null,null,null,null,null,null,null,null,null,null,null,null,null,null,null,null,null,null,null,null,null,{"$f":"AG90+1","v":2},72,"梅野　武康","東京ＯＬクラブ",null,"A","A","D","D","A","C","D","C","B","B","E",null,null,null,null,null,null,null,null,null,null,null,null,null,null,{"$f":"SUM(COUNTIF(AL91,AL$89),COUNTIF(AM91,AM$89),COUNTIF(AN91,AN$89),COUNTIF(AO91,AO$89),COUNTIF(AP91,AP$89),COUNTIF(AQ91,AQ$89),COUNTIF(AR91,AR$89),COUNTIF(AS91,AS$89),COUNTIF(AT91,AT$89),COUNTIF(AU91,AU$89),COUNTIF(AV91,AV$89),COUNTIF(AW91,AW$89),COUNTIF(AX91,AX$89),COUNTIF(AY91,AY$89),COUNTIF(AZ91,AZ$89),COUNTIF(BA91,BA$89),COUNTIF(BB91,BB$89),COUNTIF(BC91,BC$89),COUNTIF(BD91,BD$89),COUNTIF(BE91,BE$89))","v":6},{"$f":"SUM(COUNTIF(BF91,BF$89),COUNTIF(BH91,BH$89))","v":0},{"$f":"SUM(BK91:BL91)-BJ91","v":6},0,null,null,null,0,{"$f":"IF(AI91=\"\",0,IF(BF91=\"\",0,IF($BF$89<>BF91,60,0)))","v":0},{"$f":"IF(AI91=\"\",0,IF(BH91=\"\",0,IF($BH$89<>BH91,60,0)))","v":0},0]
[null,null,null,null,null,null,null,null,null,null,null,null,null,null,null,null,null,null,null,null,null,null,null,null,null,null,null,null,null,null,null,null,3,73,"今井　栄","ワンダラーズ",null,"D","A","D","Z","A","Z","C","D","C","B","C",null,null,null,null,null,null,null,null,null,null,null,null,null,null,8,0,8,0,null,null,null,0,0,0,0]
[null,null,null,null,null,null,null,null,null,null,null,null,null,null,null,null,null,null,null,null,null,null,null,null,null,null,null,null,null,null,null,null,4,74,"鈴木　律子","板橋オリエンテーリングクラブ",null,"B","A","E","C","A","B","D","C","C","B","C",null,null,null,null,null,null,null,null,null,null,null,null,null,null,7,0,7,0,null,null,null,0,0,0,0]
[null,null,null,null,null,null,null,null,null,null,null,null,null,null,null,null,null,null,null,null,null,null,null,null,null,null,null,null,null,null,null,null,5,75,"小柳　三郎","港南ＯＬＣ",null,"B","Z","D","D","A","B","D","D","C","B","C",null,null,null,null,null,null,null,null,null,null,null,null,null,null,9,0,9,0,null,null,null,0,0,0,0]
[null,null,null,null,null,null,null,null,null,null,null,null,null,null,null,null,null,null,null,null,null,null,null,null,null,null,null,null,null,null,null,null,6,76,null,null,null,null,null,null,null,null,null,null,null,null,null,null,null,null,null,null,null,null,null,null,null,null,null,null,null,null,0,0,0,0,null,null,null,0,0,0,0]
[null,null,null,null,null,null,null,null,null,null,null,null,null,null,null,null,null,null,null,null,null,null,null,null,null,null,null,null,null,null,null,null,7,77,null,null,null,null,null,null,null,null,null,null,null,null,null,null,null,null,null,null,null,null,null,null,null,null,null,null,null,null,0,0,0,0,null,null,null,0,0,0,0]
[null,null,null,null,null,null,null,null,null,null,null,null,null,null,null,null,null,null,null,null,null,null,null,null,null,null,null,null,null,null,null,null,8,78,null,null,null,null,null,null,null,null,null,null,null,null,null,null,null,null,null,null,null,null,null,null,null,null,null,null,null,null,0,0,0,0,null,null,null,0,0,0,0]
[null,null,null,null,null,null,null,null,null,null,null,null,null,null,null,null,null,null,null,null,null,null,null,null,null,null,null,null,null,null,null,null,9,79,null,null,null,null,null,null,null,null,null,null,null,null,null,null,null,null,null,null,null,null,null,null,null,null,null,null,null,null,0,0,0,0,null,null,null,0,0,0,0]
[null,null,null,null,null,null,null,null,null,null,null,null,null,null,null,null,null,null,null,null,null,null,null,null,null,null,null,null,null,null,null,null,10,80,null,null,null,null,null,null,null,null,null,null,null,null,null,null,null,null,null,null,null,null,null,null,null,null,null,null,null,null,0,0,0,0,null,null,null,0,0,0,0]
[null,null,null,null,null,null,null,null,null,null,null,null,null,null,null,null,null,null,null,null,null,null,null,null,null,null,null,null,null,null,null,null,11,81,null,null,null,null,null,null,null,null,null,null,null,null,null,null,null,null,null,null,null,null,null,null,null,null,null,null,null,null,0,0,0,0,null,null,null,0,0,0,0]
[null,null,null,null,null,null,null,null,null,null,null,null,null,null,null,null,null,null,null,null,null,null,null,null,null,null,null,null,null,null,null,null,12,82,null,null,null,null,null,null,null,null,null,null,null,null,null,null,null,null,null,null,null,null,null,null,null,null,null,null,null,null,0,0,0,0,null,null,null,0,0,0,0]
[null,null,null,null,null,null,null,null,null,null,null,null,null,null,null,null,null,null,null,null,null,null,null,null,null,null,null,null,null,null,null,null,13,83,null,null,null,null,null,null,null,null,null,null,null,null,null,null,null,null,null,null,null,null,null,null,null,null,null,null,null,null,0,0,0,0,null,null,null,0,0,0,0]
[null,null,null,null,null,null,null,null,null,null,null,null,null,null,null,null,null,null,null,null,null,null,null,null,null,null,null,null,null,null,null,null,14,84,null,null,null,null,null,null,null,null,null,null,null,null,null,null,null,null,null,null,null,null,null,null,null,null,null,null,null,null,0,0,0,0,null,null,null,0,0,0,0]
[null,null,null,null,null,null,null,null,null,null,null,null,null,null,null,null,null,null,null,null,null,null,null,null,null,null,null,null,null,null,null,null,15,85,null,null,null,null,null,null,null,null,null,null,null,null,null,null,null,null,null,null,null,null,null,null,null,null,null,null,null,null,0,0,0,0,null,null,null,0,0,0,0]
[null,null,null,null,null,null,null,null,null,null,null,null,null,null,null,null,null,null,null,null,null,null,null,null,null,null,null,null,null,null,null,null,16,86,null,null,null,null,null,null,null,null,null,null,null,null,null,null,null,null,null,null,null,null,null,null,null,null,null,null,null,null,0,0,0,0,null,null,null,0,0,0,0]
[null,null,null,null,null,null,null,null,null,null,null,null,null,null,null,null,null,null,null,null,null,null,null,null,null,null,null,null,null,null,null,null,17,87,null,null,null,null,null,null,null,null,null,null,null,null,null,null,null,null,null,null,null,null,null,null,null,null,null,null,null,null,0,0,0,0,null,null,null,0,0,0,0]
[null,null,null,null,null,null,null,null,null,null,null,null,null,null,null,null,null,null,null,null,null,null,null,null,null,null,null,null,null,null,null,null,18,88,null,null,null,null,null,null,null,null,null,null,null,null,null,null,null,null,null,null,null,null,null,null,null,null,null,null,null,null,0,0,0,0,null,null,null,0,0,0,0]
[null,null,null,null,null,null,null,null,null,null,null,null,null,null,null,null,null,null,null,null,null,null,null,null,null,null,null,null,null,null,null,null,19,89,null,null,null,null,null,null,null,null,null,null,null,null,null,null,null,null,null,null,null,null,null,null,null,null,null,null,null,null,0,0,0,0,null,null,null,0,0,0,0]
[null,null,null,null,null,null,null,null,null,null,null,null,null,null,null,null,null,null,null,null,null,null,null,null,null,null,null,null,null,null,null,null,20,90,null,null,null,null,null,null,null,null,null,null,null,null,null,null,null,null,null,null,null,null,null,null,null,null,null,null,null,null,0,0,0,0,null,null,null,0,0,0,0]
[null,null,null,null,null,null,null,null,null,null,null,null,null,null,null,null,null,null,null,null,null,null,null,null,null,null,null,null,null,null,null,null,21,91,null,null,null,null,null,null,null,null,null,null,null,null,null,null,null,null,null,null,null,null,null,null,null,null,null,null,null,null,0,0,0,0,null,null,null,0,0,0,0]
[null,null,null,null,null,null,null,null,null,null,null,null,null,null,null,null,null,null,null,null,null,null,null,null,null,null,null,null,null,null,null,null,22,92,null,null,null,null,null,null,null,null,null,null,null,null,null,null,null,null,null,null,null,null,null,null,null,null,null,null,null,null,0,0,0,0,null,null,null,0,0,0,0]
[null,null,null,null,null,null,null,null,null,null,null,null,null,null,null,null,null,null,null,null,null,null,null,null,null,null,null,null,null,null,null,null,23,93,null,null,null,null,null,null,null,null,null,null,null,null,null,null,null,null,null,null,null,null,null,null,null,null,null,null,null,null,0,0,0,0,null,null,null,0,0,0,0]
[null,null,null,null,null,null,null,null,null,null,null,null,null,null,null,null,null,null,null,null,null,null,null,null,null,null,null,null,null,null,null,null,24,94,null,null,null,null,null,null,null,null,null,null,null,null,null,null,null,null,null,null,null,null,null,null,null,null,null,null,null,null,0,0,0,0,null,null,null,0,0,0,0]
[null,null,null,null,null,null,null,null,null,null,null,null,null,null,null,null,null,null,null,null,null,null,null,null,null,null,null,null,null,null,null,null,25,95,null,null,null,null,null,null,null,null,null,null,null,null,null,null,null,null,null,null,null,null,null,null,null,null,null,null,null,null,0,0,0,0,null,null,null,0,0,0,0]
[null,null,null,null,null,null,null,null,null,null,null,null,null,null,null,null,null,null,null,null,null,null,null,null,null,null,null,null,null,null,null,null,26,96,null,null,null,null,null,null,null,null,null,null,null,null,null,null,null,null,null,null,null,null,null,null,null,null,null,null,null,null,0,0,0,0,null,null,null,0,0,0,0]
[null,null,null,null,null,null,null,null,null,null,null,null,null,null,null,null,null,null,null,null,null,null,null,null,null,null,null,null,null,null,null,null,27,97,null,null,null,null,null,null,null,null,null,null,null,null,null,null,null,null,null,null,null,null,null,null,null,null,null,null,null,null,0,0,0,0,null,null,null,0,0,0,0]
[null,null,null,null,null,null,null,null,null,null,null,null,null,null,null,null,null,null,null,null,null,null,null,null,null,null,null,null,null,null,null,null,28,98,null,null,null,null,null,null,null,null,null,null,null,null,null,null,null,null,null,null,null,null,null,null,null,null,null,null,null,null,0,0,0,0,null,null,null,0,0,0,0]
[null,null,null,null,null,null,null,null,null,null,null,null,null,null,null,null,null,null,null,null,null,null,null,null,null,null,null,null,null,null,null,null,29,99,null,null,null,null,null,null,null,null,null,null,null,null,null,null,null,null,null,null,null,null,null,null,null,null,null,null,null,null,0,0,0,0,null,null,null,0,0,0,0]
[null,null,null,null,null,null,null,null,null,null,null,null,null,null,null,null,null,null,null,null,null,null,null,null,null,null,null,null,null,null,null,null,30,100,null,null,null,null,null,null,null,null,null,null,null,null,null,null,null,null,null,null,null,null,null,null,null,null,null,null,null,null,0,0,0,0,null,null,null,0,0,0,0]
[null,null,null,null,null,null,null,null,null,null,null,null,null,null,null,null,null,null,null,null,null,null,null,null,null,null,null,null,null,null,null,null,31,101,null,null,null,null,null,null,null,null,null,null,null,null,null,null,null,null,null,null,null,null,null,null,null,null,null,null,null,null,0,0,0,0,null,null,null,0,0,0,0]
[null,null,null,null,null,null,null,null,null,null,null,null,null,null,null,null,null,null,null,null,null,null,null,null,null,null,null,null,null,null,null,null,32,102,null,null,null,null,null,null,null,null,null,null,null,null,null,null,null,null,null,null,null,null,null,null,null,null,null,null,null,null,0,0,0,0,null,null,null,0,0,0,0]
[null,null,null,null,null,null,null,null,null,null,null,null,null,null,null,null,null,null,null,null,null,null,null,null,null,null,null,null,null,null,null,null,33,103,null,null,null,null,null,null,null,null,null,null,null,null,null,null,null,null,null,null,null,null,null,null,null,null,null,null,null,null,0,0,0,0,null,null,null,0,0,0,0]
[null,null,null,null,null,null,null,null,null,null,null,null,null,null,null,null,null,null,null,null,null,null,null,null,null,null,null,null,null,null,null,null,34,104,null,null,null,null,null,null,null,null,null,null,null,null,null,null,null,null,null,null,null,null,null,null,null,null,null,null,null,null,0,0,0,0,null,null,null,0,0,0,0]
[null,null,null,null,null,null,null,null,null,null,null,null,null,null,null,null,null,null,null,null,null,null,null,null,null,null,null,null,null,null,null,null,35,105,null,null,null,null,null,null,null,null,null,null,null,null,null,null,null,null,null,null,null,null,null,null,null,null,null,null,null,null,0,0,0,0,null,null,null,0,0,0,0]
[null,null,null,null,null,null,null,null,null,null,null,null,null,null,null,null,null,null,null,null,null,null,null,null,null,null,null,null,null,null,null,null,36,106,null,null,null,null,null,null,null,null,null,null,null,null,null,null,null,null,null,null,null,null,null,null,null,null,null,null,null,null,0,0,0,0,null,null,null,0,0,0,0]
[null,null,null,null,null,null,null,null,null,null,null,null,null,null,null,null,null,null,null,null,null,null,null,null,null,null,null,null,null,null,null,null,37,107,null,null,null,null,null,null,null,null,null,null,null,null,null,null,null,null,null,null,null,null,null,null,null,null,null,null,null,null,0,0,0,0,null,null,null,0,0,0,0]
[null,null,null,null,null,null,null,null,null,null,null,null,null,null,null,null,null,null,null,null,null,null,null,null,null,null,null,null,null,null,null,null,38,108,null,null,null,null,null,null,null,null,null,null,null,null,null,null,null,null,null,null,null,null,null,null,null,null,null,null,null,null,0,0,0,0,null,null,null,0,0,0,0]
[null,null,null,null,null,null,null,null,null,null,null,null,null,null,null,null,null,null,null,null,null,null,null,null,null,null,null,null,null,null,null,null,39,109,null,null,null,null,null,null,null,null,null,null,null,null,null,null,null,null,null,null,null,null,null,null,null,null,null,null,null,null,0,0,0,0,null,null,null,0,0,0,0]
[null,null,null,null,null,null,null,null,null,null,null,null,null,null,null,null,null,null,null,null,null,null,null,null,null,null,null,null,null,null,null,null,{"$f":"AG128+1","v":40},110,null,null,null,null,null,null,null,null,null,null,null,null,null,null,null,null,null,null,null,null,null,null,null,null,null,null,null,null,0,0,0,0,null,null,null,0,0,0,0]
[null,null,null,null,null,null,null,null,null,null,null,null,null,null,null,null,null,null,null,null,null,null,null,null,null,null,null,null,null,null,null,null,{"$f":"AG129+1","v":41},111,null,null,null,null,null,null,null,null,null,null,null,null,null,null,null,null,null,null,null,null,null,null,null,null,null,null,null,null,0,0,0,0,null,null,null,0,0,0,0]
[null,null,null,null,null,null,null,null,null,null,null,null,null,null,null,null,null,null,null,null,null,null,null,null,null,null,null,null,null,null,null,null,42,112,null,null,null,null,null,null,null,null,null,null,null,null,null,null,null,null,null,null,null,null,null,null,null,null,null,null,null,null,0,0,0,0,null,null,null,0,0,0,0]
[null,null,null,null,null,null,null,null,null,null,null,null,null,null,null,null,null,null,null,null,null,null,null,null,null,null,null,null,null,null,null,null,43,113,null,null,null,null,null,null,null,null,null,null,null,null,null,null,null,null,null,null,null,null,null,null,null,null,null,null,null,null,0,0,0,0,null,null,null,0,0,0,0]
[null,null,null,null,null,null,null,null,null,null,null,null,null,null,null,null,null,null,null,null,null,null,null,null,null,null,null,null,null,null,null,null,44,114,null,null,null,null,null,null,null,null,null,null,null,null,null,null,null,null,null,null,null,null,null,null,null,null,null,null,null,null,0,0,0,0,null,null,null,0,0,0,0]
[null,null,null,null,null,null,null,null,null,null,null,null,null,null,null,null,null,null,null,null,null,null,null,null,null,null,null,null,null,null,null,null,45,115,null,null,null,null,null,null,null,null,null,null,null,null,null,null,null,null,null,null,null,null,null,null,null,null,null,null,null,null,0,0,0,0,null,null,null,0,0,0,0]
[null,null,null,null,null,null,null,null,null,null,null,null,null,null,null,null,null,null,null,null,null,null,null,null,null,null,null,null,null,null,null,null,46,116,null,null,null,null,null,null,null,null,null,null,null,null,null,null,null,null,null,null,null,null,null,null,null,null,null,null,null,null,0,0,0,0,null,null,null,0,0,0,0]
[null,null,null,null,null,null,null,null,null,null,null,null,null,null,null,null,null,null,null,null,null,null,null,null,null,null,null,null,null,null,null,null,47,117,null,null,null,null,null,null,null,null,null,null,null,null,null,null,null,null,null,null,null,null,null,null,null,null,null,null,null,null,0,0,0,0,null,null,null,0,0,0,0]
[null,null,null,null,null,null,null,null,null,null,null,null,null,null,null,null,null,null,null,null,null,null,null,null,null,null,null,null,null,null,null,null,48,118,null,null,null,null,null,null,null,null,null,null,null,null,null,null,null,null,null,null,null,null,null,null,null,null,null,null,null,null,0,0,0,0,null,null,null,0,0,0,0]
[null,null,null,null,null,null,null,null,null,null,null,null,null,null,null,null,null,null,null,null,null,null,null,null,null,null,null,null,null,null,null,null,49,119,null,null,null,null,null,null,null,null,null,null,null,null,null,null,null,null,null,null,null,null,null,null,null,null,null,null,null,null,0,0,0,0,null,null,null,0,0,0,0]
[null,null,null,null,null,null,null,null,null,null,null,null,null,null,null,null,null,null,null,null,null,null,null,null,null,null,null,null,null,null,null,null,50,120,null,null,null,null,null,null,null,null,null,null,null,null,null,null,null,null,null,null,null,null,null,null,null,null,null,null,null,null,0,0,0,0,null,null,null,0,0,0,0]
[]
[]
[]
[]
[]
[]
[]
[]
[]
[null,null,null,null,null,null,null,null,null,null,null,null,null,null,null,null,null,null,null,null,null,null,null,null,null,null,null,null,null,null,null,null,null,"Ｎ","クラス　集計",null,null,"　　　　　　トレイル・オリエンテーリング　岩槻城址公園大会　　　"]
[]
[null,null,null,null,null,null,null,null,null,null,null,null,null,null,null,null,null,null,null,null,null,null,null,null,null,null,null,null,null,null,null,null,null,"エントリ番号","氏名","所属","不参加",1,{"$f":"AL151+1","v":2},{"$f":"AM151+1","v":3},4,5,6,7,8,9,10,11,12,13,14,15,16,17,18,19,20,"TC1",null,"TC2",null,"減点","C","TC","合計得点","合計TIME",null,null,null,"ＴＣ誤回答　　　ＴＩＭＥ合計へ","Ｔ  Ｃ  誤  回  答"]
[null,null,null,null,null,null,null,null,null,null,null,null,null,null,null,null,null,null,null,null,null,null,null,null,null,null,null,null,null,null,null,null,null,null,null,null,null,{"$f":"$AL$15","v":"B"},{"$f":"$AM$15","v":"D"},{"$f":"$AN$15","v":"B"},{"$f":"$AO$15","v":"C"},{"$f":"$AP$15","v":"B"},{"$f":"$AQ$15","v":"B"},{"$f":"$AR$15","v":"B"},{"$f":"$AS$15","v":"C"},{"$f":"$AT$15","v":"C"},{"$f":"$AU$15","v":0},{"$f":"$AV$15","v":0},{"$f":"$AW$15","v":0},{"$f":"$AX$15","v":0},{"$f":"$AY$15","v":0},{"$f":"$AZ$15","v":0},{"$f":"$BA$15","v":0},{"$f":"$BB$15","v":0},{"$f":"$BC$15","v":0},{"$f":"$BD$15","v":0},{"$f":"$BE$15","v":0},{"$f":"$BF$15","v":0},"TIME (秒)",{"$f":"$BH$15","v":0},"TIME (秒)",null,"得点","得点",null,null,null,null,null,null,"ＴＣ１","ＴＣ２","ＴＣ１＋ＴＣ２"]
[null,null,null,null,null,null,null,null,null,null,null,null,null,null,null,null,null,null,null,null,null,null,null,null,null,null,null,null,null,null,null,null,1,131,"斉藤　栄子",null,null,"B","D","B","C","A","B","B","D",null,null,null,null,null,null,null,null,null,null,null,null,null,null,null,null,null,{"$f":"SUM(COUNTIF(AL153,AL$152),COUNTIF(AM153,AM$152),COUNTIF(AN153,AN$152),COUNTIF(AO153,AO$152),COUNTIF(AP153,AP$152),COUNTIF(AQ153,AQ$152),COUNTIF(AR153,AR$152),COUNTIF(AS153,AS$152),COUNTIF(AT153,AT$152),COUNTIF(AU153,AU$152),COUNTIF(AV153,AV$152),COUNTIF(AW153,AW$152),COUNTIF(AX153,AX$152),COUNTIF(AY153,AY$152),COUNTIF(AZ153,AZ$152),COUNTIF(BA153,BA$152),COUNTIF(BB153,BB$152),COUNTIF(BC153,BC$152),COUNTIF(BD153,BD$152),COUNTIF(BE153,BE$152))","v":6},{"$f":"SUM(COUNTIF(BF153,BF$152),COUNTIF(BH153,BH$152))","v":0},{"$f":"SUM(BK153:BL153)-BJ153","v":6},{"$f":"BG153+BI153+BR153","v":0},null,null,null,{"$f":"BU153","v":0},{"$f":"IF(AI153=\"\",0,IF(BF153=\"\",0,IF($BF$152<>BF153,60,0)))","v":0},{"$f":"IF(AI153=\"\",0,IF(BH153=\"\",0,IF($BH$152<>BH153,60,0)))","v":0},{"$f":"BS153+BT153","v":0}]
[null,null,null,null,null,null,null,null,null,null,null,null,null,null,null,null,null,null,null,null,null,null,null,null,null,null,null,null,null,null,null,null,{"$f":"AG153+1","v":2},132,"直江　有紀",null,null,"B","D","B","D","A","B","B","C",null,null,null,null,null,null,null,null,null,null,null,null,null,null,null,null,null,{"$f":"SUM(COUNTIF(AL154,AL$152),COUNTIF(AM154,AM$152),COUNTIF(AN154,AN$152),COUNTIF(AO154,AO$152),COUNTIF(AP154,AP$152),COUNTIF(AQ154,AQ$152),COUNTIF(AR154,AR$152),COUNTIF(AS154,AS$152),COUNTIF(AT154,AT$152),COUNTIF(AU154,AU$152),COUNTIF(AV154,AV$152),COUNTIF(AW154,AW$152),COUNTIF(AX154,AX$152),COUNTIF(AY154,AY$152),COUNTIF(AZ154,AZ$152),COUNTIF(BA154,BA$152),COUNTIF(BB154,BB$152),COUNTIF(BC154,BC$152),COUNTIF(BD154,BD$152),COUNTIF(BE154,BE$152))","v":6},{"$f":"SUM(COUNTIF(BF154,BF$152),COUNTIF(BH154,BH$152))","v":0},{"$f":"SUM(BK154:BL154)-BJ154","v":6},0,null,null,null,0,{"$f":"IF(AI154=\"\",0,IF(BF154=\"\",0,IF($BF$152<>BF154,60,0)))","v":0},{"$f":"IF(AI154=\"\",0,IF(BH154=\"\",0,IF($BH$152<>BH154,60,0)))","v":0},0]
[null,null,null,null,null,null,null,null,null,null,null,null,null,null,null,null,null,null,null,null,null,null,null,null,null,null,null,null,null,null,null,null,3,133,"鮫島　一郎","埼玉県障害者スポーツ指導者協議会",null,"B","D","B","A","B","C","B","D",null,null,null,null,null,null,null,null,null,null,null,null,null,null,null,null,null,5,0,5,0,null,null,null,0,0,0,0]
[null,null,null,null,null,null,null,null,null,null,null,null,null,null,null,null,null,null,null,null,null,null,null,null,null,null,null,null,null,null,null,null,4,134,"今井　信也",null,null,"B","D","B","C","B","B","B","C",null,null,null,null,null,null,null,null,null,null,null,null,null,null,null,null,null,8,0,8,0,null,null,null,0,0,0,0]
[null,null,null,null,null,null,null,null,null,null,null,null,null,null,null,null,null,null,null,null,null,null,null,null,null,null,null,null,null,null,null,null,5,135,null,null,null,null,null,null,null,null,null,null,null,null,null,null,null,null,null,null,null,null,null,null,null,null,null,null,null,null,0,0,0,0,null,null,null,0,0,0,0]
[null,null,null,null,null,null,null,null,null,null,null,null,null,null,null,null,null,null,null,null,null,null,null,null,null,null,null,null,null,null,null,null,6,136,null,null,null,null,null,null,null,null,null,null,null,null,null,null,null,null,null,null,null,null,null,null,null,null,null,null,null,null,0,0,0,0,null,null,null,0,0,0,0]
[null,null,null,null,null,null,null,null,null,null,null,null,null,null,null,null,null,null,null,null,null,null,null,null,null,null,null,null,null,null,null,null,7,137,null,null,null,null,null,null,null,null,null,null,null,null,null,null,null,null,null,null,null,null,null,null,null,null,null,null,null,null,0,0,0,0,null,null,null,0,0,0,0]
[null,null,null,null,null,null,null,null,null,null,null,null,null,null,null,null,null,null,null,null,null,null,null,null,null,null,null,null,null,null,null,null,8,138,null,null,null,null,null,null,null,null,null,null,null,null,null,null,null,null,null,null,null,null,null,null,null,null,null,null,null,null,0,0,0,0,null,null,null,0,0,0,0]
[null,null,null,null,null,null,null,null,null,null,null,null,null,null,null,null,null,null,null,null,null,null,null,null,null,null,null,null,null,null,null,null,9,139,null,null,null,null,null,null,null,null,null,null,null,null,null,null,null,null,null,null,null,null,null,null,null,null,null,null,null,null,0,0,0,0,null,null,null,0,0,0,0]
[null,null,null,null,null,null,null,null,null,null,null,null,null,null,null,null,null,null,null,null,null,null,null,null,null,null,null,null,null,null,null,null,10,140,null,null,null,null,null,null,null,null,null,null,null,null,null,null,null,null,null,null,null,null,null,null,null,null,null,null,null,null,0,0,0,0,null,null,null,0,0,0,0]
[null,null,null,null,null,null,null,null,null,null,null,null,null,null,null,null,null,null,null,null,null,null,null,null,null,null,null,null,null,null,null,null,11,141,null,null,null,null,null,null,null,null,null,null,null,null,null,null,null,null,null,null,null,null,null,null,null,null,null,null,null,null,0,0,0,0,null,null,null,0,0,0,0]
[null,null,null,null,null,null,null,null,null,null,null,null,null,null,null,null,null,null,null,null,null,null,null,null,null,null,null,null,null,null,null,null,12,142,null,null,null,null,null,null,null,null,null,null,null,null,null,null,null,null,null,null,null,null,null,null,null,null,null,null,null,null,0,0,0,0,null,null,null,0,0,0,0]
[null,null,null,null,null,null,null,null,null,null,null,null,null,null,null,null,null,null,null,null,null,null,null,null,null,null,null,null,null,null,null,null,13,143,null,null,null,null,null,null,null,null,null,null,null,null,null,null,null,null,null,null,null,null,null,null,null,null,null,null,null,null,0,0,0,0,null,null,null,0,0,0,0]
[null,null,null,null,null,null,null,null,null,null,null,null,null,null,null,null,null,null,null,null,null,null,null,null,null,null,null,null,null,null,null,null,14,144,null,null,null,null,null,null,null,null,null,null,null,null,null,null,null,null,null,null,null,null,null,null,null,null,null,null,null,null,0,0,0,0,null,null,null,0,0,0,0]
[null,null,null,null,null,null,null,null,null,null,null,null,null,null,null,null,null,null,null,null,null,null,null,null,null,null,null,null,null,null,null,null,15,145,null,null,null,null,null,null,null,null,null,null,null,null,null,null,null,null,null,null,null,null,null,null,null,null,null,null,null,null,0,0,0,0,null,null,null,0,0,0,0]
[null,null,null,null,null,null,null,null,null,null,null,null,null,null,null,null,null,null,null,null,null,null,null,null,null,null,null,null,null,null,null,null,16,146,null,null,null,null,null,null,null,null,null,null,null,null,null,null,null,null,null,null,null,null,null,null,null,null,null,null,null,null,0,0,0,0,null,null,null,0,0,0,0]
[null,null,null,null,null,null,null,null,null,null,null,null,null,null,null,null,null,null,null,null,null,null,null,null,null,null,null,null,null,null,null,null,17,147,null,null,null,null,null,null,null,null,null,null,null,null,null,null,null,null,null,null,null,null,null,null,null,null,null,null,null,null,0,0,0,0,null,null,null,0,0,0,0]
[null,null,null,null,null,null,null,null,null,null,null,null,null,null,null,null,null,null,null,null,null,null,null,null,null,null,null,null,null,null,null,null,18,148,null,null,null,null,null,null,null,null,null,null,null,null,null,null,null,null,null,null,null,null,null,null,null,null,null,null,null,null,0,0,0,0,null,null,null,0,0,0,0]
[null,null,null,null,null,null,null,null,null,null,null,null,null,null,null,null,null,null,null,null,null,null,null,null,null,null,null,null,null,null,null,null,19,149,null,null,null,null,null,null,null,null,null,null,null,null,null,null,null,null,null,null,null,null,null,null,null,null,null,null,null,null,0,0,0,0,null,null,null,0,0,0,0]
[null,null,null,null,null,null,null,null,null,null,null,null,null,null,null,null,null,null,null,null,null,null,null,null,null,null,null,null,null,null,null,null,20,150,null,null,null,null,null,null,null,null,null,null,null,null,null,null,null,null,null,null,null,null,null,null,null,null,null,null,null,null,0,0,0,0,null,null,null,0,0,0,0]
[null,null,null,null,null,null,null,null,null,null,null,null,null,null,null,null,null,null,null,null,null,null,null,null,null,null,null,null,null,null,null,null,21,151,null,null,null,null,null,null,null,null,null,null,null,null,null,null,null,null,null,null,null,null,null,null,null,null,null,null,null,null,0,0,0,0,null,null,null,0,0,0,0]
[null,null,null,null,null,null,null,null,null,null,null,null,null,null,null,null,null,null,null,null,null,null,null,null,null,null,null,null,null,null,null,null,22,152,null,null,null,null,null,null,null,null,null,null,null,null,null,null,null,null,null,null,null,null,null,null,null,null,null,null,null,null,0,0,0,0,null,null,null,0,0,0,0]
[null,null,null,null,null,null,null,null,null,null,null,null,null,null,null,null,null,null,null,null,null,null,null,null,null,null,null,null,null,null,null,null,23,153,null,null,null,null,null,null,null,null,null,null,null,null,null,null,null,null,null,null,null,null,null,null,null,null,null,null,null,null,0,0,0,0,null,null,null,0,0,0,0]
[null,null,null,null,null,null,null,null,null,null,null,null,null,null,null,null,null,null,null,null,null,null,null,null,null,null,null,null,null,null,null,null,24,154,null,null,null,null,null,null,null,null,null,null,null,null,null,null,null,null,null,null,null,null,null,null,null,null,null,null,null,null,0,0,0,0,null,null,null,0,0,0,0]
[null,null,null,null,null,null,null,null,null,null,null,null,null,null,null,null,null,null,null,null,null,null,null,null,null,null,null,null,null,null,null,null,25,155,null,null,null,null,null,null,null,null,null,null,null,null,null,null,null,null,null,null,null,null,null,null,null,null,null,null,null,null,0,0,0,0,null,null,null,0,0,0,0]
[null,null,null,null,null,null,null,null,null,null,null,null,null,null,null,null,null,null,null,null,null,null,null,null,null,null,null,null,null,null,null,null,26,156,null,null,null,null,null,null,null,null,null,null,null,null,null,null,null,null,null,null,null,null,null,null,null,null,null,null,null,null,0,0,0,0,null,null,null,0,0,0,0]
[null,null,null,null,null,null,null,null,null,null,null,null,null,null,null,null,null,null,null,null,null,null,null,null,null,null,null,null,null,null,null,null,27,157,null,null,null,null,null,null,null,null,null,null,null,null,null,null,null,null,null,null,null,null,null,null,null,null,null,null,null,null,0,0,0,0,null,null,null,0,0,0,0]
[null,null,null,null,null,null,null,null,null,null,null,null,null,null,null,null,null,null,null,null,null,null,null,null,null,null,null,null,null,null,null,null,28,158,null,null,null,null,null,null,null,null,null,null,null,null,null,null,null,null,null,null,null,null,null,null,null,null,null,null,null,null,0,0,0,0,null,null,null,0,0,0,0]
[null,null,null,null,null,null,null,null,null,null,null,null,null,null,null,null,null,null,null,null,null,null,null,null,null,null,null,null,null,null,null,null,29,159,null,null,null,null,null,null,null,null,null,null,null,null,null,null,null,null,null,null,null,null,null,null,null,null,null,null,null,null,0,0,0,0,null,null,null,0,0,0,0]
[null,null,null,null,null,null,null,null,null,null,null,null,null,null,null,null,null,null,null,null,null,null,null,null,null,null,null,null,null,null,null,null,30,160,null,null,null,null,null,null,null,null,null,null,null,null,null,null,null,null,null,null,null,null,null,null,null,null,null,null,null,null,0,0,0,0,null,null,null,0,0,0,0]
[null,null,null,null,null,null,null,null,null,null,null,null,null,null,null,null,null,null,null,null,null,null,null,null,null,null,null,null,null,null,null,null,31,161,null,null,null,null,null,null,null,null,null,null,null,null,null,null,null,null,null,null,null,null,null,null,null,null,null,null,null,null,0,0,0,0,null,null,null,0,0,0,0]
[null,null,null,null,null,null,null,null,null,null,null,null,null,null,null,null,null,null,null,null,null,null,null,null,null,null,null,null,null,null,null,null,32,162,null,null,null,null,null,null,null,null,null,null,null,null,null,null,null,null,null,null,null,null,null,null,null,null,null,null,null,null,0,0,0,0,null,null,null,0,0,0,0]
[null,null,null,null,null,null,null,null,null,null,null,null,null,null,null,null,null,null,null,null,null,null,null,null,null,null,null,null,null,null,null,null,33,163,null,null,null,null,null,null,null,null,null,null,null,null,null,null,null,null,null,null,null,null,null,null,null,null,null,null,null,null,0,0,0,0,null,null,null,0,0,0,0]
[null,null,null,null,null,null,null,null,null,null,null,null,null,null,null,null,null,null,null,null,null,null,null,null,null,null,null,null,null,null,null,null,34,164,null,null,null,null,null,null,null,null,null,null,null,null,null,null,null,null,null,null,null,null,null,null,null,null,null,null,null,null,0,0,0,0,null,null,null,0,0,0,0]
[null,null,null,null,null,null,null,null,null,null,null,null,null,null,null,null,null,null,null,null,null,null,null,null,null,null,null,null,null,null,null,null,35,165,null,null,null,null,null,null,null,null,null,null,null,null,null,null,null,null,null,null,null,null,null,null,null,null,null,null,null,null,0,0,0,0,null,null,null,0,0,0,0]
[null,null,null,null,null,null,null,null,null,null,null,null,null,null,null,null,null,null,null,null,null,null,null,null,null,null,null,null,null,null,null,null,36,166,null,null,null,null,null,null,null,null,null,null,null,null,null,null,null,null,null,null,null,null,null,null,null,null,null,null,null,null,0,0,0,0,null,null,null,0,0,0,0]
[null,null,null,null,null,null,null,null,null,null,null,null,null,null,null,null,null,null,null,null,null,null,null,null,null,null,null,null,null,null,null,null,37,167,null,null,null,null,null,null,null,null,null,null,null,null,null,null,null,null,null,null,null,null,null,null,null,null,null,null,null,null,0,0,0,0,null,null,null,0,0,0,0]
[null,null,null,null,null,null,null,null,null,null,null,null,null,null,null,null,null,null,null,null,null,null,null,null,null,null,null,null,null,null,null,null,38,168,null,null,null,null,null,null,null,null,null,null,null,null,null,null,null,null,null,null,null,null,null,null,null,null,null,null,null,null,0,0,0,0,null,null,null,0,0,0,0]
[null,null,null,null,null,null,null,null,null,null,null,null,null,null,null,null,null,null,null,null,null,null,null,null,null,null,null,null,null,null,null,null,39,169,null,null,null,null,null,null,null,null,null,null,null,null,null,null,null,null,null,null,null,null,null,null,null,null,null,null,null,null,0,0,0,0,null,null,null,0,0,0,0]
[null,null,null,null,null,null,null,null,null,null,null,null,null,null,null,null,null,null,null,null,null,null,null,null,null,null,null,null,null,null,null,null,{"$f":"AG191+1","v":40},170,null,null,null,null,null,null,null,null,null,null,null,null,null,null,null,null,null,null,null,null,null,null,null,null,null,null,null,null,0,0,0,0,null,null,null,0,0,0,0]
[null,null,null,null,null,null,null,null,null,null,null,null,null,null,null,null,null,null,null,null,null,null,null,null,null,null,null,null,null,null,null,null,{"$f":"AG192+1","v":41},171,null,null,null,null,null,null,null,null,null,null,null,null,null,null,null,null,null,null,null,null,null,null,null,null,null,null,null,null,0,0,0,0,null,null,null,0,0,0,0]
[null,null,null,null,null,null,null,null,null,null,null,null,null,null,null,null,null,null,null,null,null,null,null,null,null,null,null,null,null,null,null,null,42,172,null,null,null,null,null,null,null,null,null,null,null,null,null,null,null,null,null,null,null,null,null,null,null,null,null,null,null,null,0,0,0,0,null,null,null,0,0,0,0]
[null,null,null,null,null,null,null,null,null,null,null,null,null,null,null,null,null,null,null,null,null,null,null,null,null,null,null,null,null,null,null,null,43,173,null,null,null,null,null,null,null,null,null,null,null,null,null,null,null,null,null,null,null,null,null,null,null,null,null,null,null,null,0,0,0,0,null,null,null,0,0,0,0]
[null,null,null,null,null,null,null,null,null,null,null,null,null,null,null,null,null,null,null,null,null,null,null,null,null,null,null,null,null,null,null,null,44,174,null,null,null,null,null,null,null,null,null,null,null,null,null,null,null,null,null,null,null,null,null,null,null,null,null,null,null,null,0,0,0,0,null,null,null,0,0,0,0]
[null,null,null,null,null,null,null,null,null,null,null,null,null,null,null,null,null,null,null,null,null,null,null,null,null,null,null,null,null,null,null,null,45,175,null,null,null,null,null,null,null,null,null,null,null,null,null,null,null,null,null,null,null,null,null,null,null,null,null,null,null,null,0,0,0,0,null,null,null,0,0,0,0]
[null,null,null,null,null,null,null,null,null,null,null,null,null,null,null,null,null,null,null,null,null,null,null,null,null,null,null,null,null,null,null,null,46,176,null,null,null,null,null,null,null,null,null,null,null,null,null,null,null,null,null,null,null,null,null,null,null,null,null,null,null,null,0,0,0,0,null,null,null,0,0,0,0]
[null,null,null,null,null,null,null,null,null,null,null,null,null,null,null,null,null,null,null,null,null,null,null,null,null,null,null,null,null,null,null,null,47,177,null,null,null,null,null,null,null,null,null,null,null,null,null,null,null,null,null,null,null,null,null,null,null,null,null,null,null,null,0,0,0,0,null,null,null,0,0,0,0]
[null,null,null,null,null,null,null,null,null,null,null,null,null,null,null,null,null,null,null,null,null,null,null,null,null,null,null,null,null,null,null,null,48,178,null,null,null,null,null,null,null,null,null,null,null,null,null,null,null,null,null,null,null,null,null,null,null,null,null,null,null,null,0,0,0,0,null,null,null,0,0,0,0]
[null,null,null,null,null,null,null,null,null,null,null,null,null,null,null,null,null,null,null,null,null,null,null,null,null,null,null,null,null,null,null,null,49,179,null,null,null,null,null,null,null,null,null,null,null,null,null,null,null,null,null,null,null,null,null,null,null,null,null,null,null,null,0,0,0,0,null,null,null,0,0,0,0]
[null,null,null,null,null,null,null,null,null,null,null,null,null,null,null,null,null,null,null,null,null,null,null,null,null,null,null,null,null,null,null,null,50,180,null,null,null,null,null,null,null,null,null,null,null,null,null,null,null,null,null,null,null,null,null,null,null,null,null,null,null,null,0,0,0,0,null,null,null,0,0,0,0]
[]
[]
[]
[]
[]
[]
[]
[]
[]
[]
[]
[]
[]
[]
[]
[]
[]
[]
[]
[]
[]
[]
[]
[]
[]
[null,null,null,null,null,null,null,null,null,null,null,null,null,null,null,null,null,null,null,null,null,null,null,null,null,null,null,null,null,null,null,null,null,null,null,null,null,"B","Z","C","B","Z","A","C","A","C","B","D","D","B","Z","B","B","B","Z","C","B","C","TIME (秒)","A","TIME (秒)"]
[null,null,null,null,null,null,null,null,null,null,null,null,null,null,null,null,null,null,null,null,null,null,null,null,null,null,null,null,null,null,null,null,null,null,null,1,null,"B","D","C","A","C","B","Z","Z","Z","B","C","B","B","C","Z","D","B","Z","C","B","D",78,"A",12]
[null,null,null,null,null,null,null,null,null,null,null,null,null,null,null,null,null,null,null,null,null,null,null,null,null,null,null,null,null,null,null,null,null,null,null,2,null,"B","C","C","A","C","B","Z","Z","Z","B","B","B","B","C","A","D","A","A","C","A","B",82,"A",9]
[null,null,null,null,null,null,null,null,null,null,null,null,null,null,null,null,null,null,null,null,null,null,null,null,null,null,null,null,null,null,null,null,null,null,null,3,null,"B","C","B","A","C","C","Z","Z","Z","B","C","Z","B","B","Z","D","B","B","C","B","D",67,"A",13]
[null,null,null,null,null,null,null,null,null,null,null,null,null,null,null,null,null,null,null,null,null,null,null,null,null,null,null,null,null,null,null,null,null,null,null,4,null,"C","C","C","C","C","B","Z","C","D","B","B","B","B","C","A","B","B","Z","C","B","B",84,"C",96]
[null,null,null,null,null,null,null,null,null,null,null,null,null,null,null,null,null,null,null,null,null,null,null,null,null,null,null,null,null,null,null,null,null,null,null,5,null,"Z","C","C","A","C","C","B","Z","E","B","C","C","B","C","B","D","B","B","C","B","C",16,"C",82]
[null,null,null,null,null,null,null,null,null,null,null,null,null,null,null,null,null,null,null,null,null,null,null,null,null,null,null,null,null,null,null,null,null,null,null,6,null,"Z","D","C","A","C","C","A","Z","E","B","C","B","B","C","Z","D","C","Z","B","C","C",13,"A",22]
[null,null,null,null,null,null,null,null,null,null,null,null,null,null,null,null,null,null,null,null,null,null,null,null,null,null,null,null,null,null,null,null,null,null,null,7,null,"B","C","B","A","C","C","Z","Z","Z","B","C","B","B","Z","A","D","B","B","D","C","C",38,"A",38]
[null,null,null,null,null,null,null,null,null,null,null,null,null,null,null,null,null,null,null,null,null,null,null,null,null,null,null,null,null,null,null,null,null,null,null,8,null,"B","C","B","A","C","C","Z","Z","Z","B","C","B","B","B","Z","D","B","Z","D","B","C",20,"A",11]
[null,null,null,null,null,null,null,null,null,null,null,null,null,null,null,null,null,null,null,null,null,null,null,null,null,null,null,null,null,null,null,null,null,null,null,9,null,"B","C","B","A","C","C","B","Z","Z","B","C","B","C","C","Z","D","B","Z","D","Z","C",39,"B",100]
[null,null,null,null,null,null,null,null,null,null,null,null,null,null,null,null,null,null,null,null,null,null,null,null,null,null,null,null,null,null,null,null,null,null,null,10,null,"B","C","B","A","C","C","A","Z","Z","B","B","B","C","Z","A","D","C","B","C","B","D",66,"C",68]
[null,null,null,null,null,null,null,null,null,null,null,null,null,null,null,null,null,null,null,null,null,null,null,null,null,null,null,null,null,null,null,null,null,null,null,11,null,"B","C","B","A","C","C","A","Z","Z","B","C","B","B","B","Z","D","B","Z","D","Z","D",109,"A",47]
[null,null,null,null,null,null,null,null,null,null,null,null,null,null,null,null,null,null,null,null,null,null,null,null,null,null,null,null,null,null,null,null,null,null,null,12,null,"B","C","A","A","C","B","A","Z","E","B","C","Z","B","B","A","C","B","Z","Z","Z","D",45,"A",23]
[null,null,null,null,null,null,null,null,null,null,null,null,null,null,null,null,null,null,null,null,null,null,null,null,null,null,null,null,null,null,null,null,null,null,null,13,null,"B","C","B","A","C","C","Z","Z","E","B","C","Z","C","Z","A","D","A","A","C","A","D",70,"A",24]
[null,null,null,null,null,null,null,null,null,null,null,null,null,null,null,null,null,null,null,null,null,null,null,null,null,null,null,null,null,null,null,null,null,null,null,14,null,"B","D","C","Z","C","B","A","Z","E","B","C","B","B","C","A","D","B","B","Z","B","D",83,"A",35]
[null,null,null,null,null,null,null,null,null,null,null,null,null,null,null,null,null,null,null,null,null,null,null,null,null,null,null,null,null,null,null,null,null,null,null,15,null,"B","C","C","A","C","B","A","Z","Z","B","C","B","C","B","Z","D","A","A","C","Z","C",52,"B",85]
[null,null,null,null,null,null,null,null,null,null,null,null,null,null,null,null,null,null,null,null,null,null,null,null,null,null,null,null,null,null,null,null,null,null,null,16,null,"D","C","C","A","C","C","A","Z","Z","B","C","A","B","C","A","D","B","B","C","A","C",26,"A",45]
[null,null,null,null,null,null,null,null,null,null,null,null,null,null,null,null,null,null,null,null,null,null,null,null,null,null,null,null,null,null,null,null,null,null,null,17,null,"B","C","B","A","C","C","A","Z","Z","B","C","B","B","Z","A","D","B","Z","C","B","B",65,"A",19]
[null,null,null,null,null,null,null,null,null,null,null,null,null,null,null,null,null,null,null,null,null,null,null,null,null,null,null,null,null,null,null,null,null,null,null,18,null,"Z","D","B","A","C","C","Z","Z","E","B","C","B","C","B","Z","Z","B","C","B","B","D",80,"A",16]
[null,null,null,null,null,null,null,null,null,null,null,null,null,null,null,null,null,null,null,null,null,null,null,null,null,null,null,null,null,null,null,null,null,null,null,19,null,"B","C","B","Z","C","C","A","Z","E","B","B","B","B","B","Z","D","D","A","B","D","C",19,"A",17]
[null,null,null,null,null,null,null,null,null,null,null,null,null,null,null,null,null,null,null,null,null,null,null,null,null,null,null,null,null,null,null,null,null,null,null,20,null,"Z","Z","B","A","C","C","A","Z","E","B","C","B","B","B","Z","D","B","Z","Z","B","B",86,"B",85]
[null,null,null,null,null,null,null,null,null,null,null,null,null,null,null,null,null,null,null,null,null,null,null,null,null,null,null,null,null,null,null,null,null,null,null,21,null,"B","C","B","A","C","C","A","C","Z","A","C","B","A","Z","A","D","B","C","B","B","C",44,"A",39]
[null,null,null,null,null,null,null,null,null,null,null,null,null,null,null,null,null,null,null,null,null,null,null,null,null,null,null,null,null,null,null,null,null,null,null,22,null,"B","D","B","A","C","C","Z","Z","Z","B","C","B","B","C","Z","D","B","Z","B","B","C",18,"A",54]
[null,null,null,null,null,null,null,null,null,null,null,null,null,null,null,null,null,null,null,null,null,null,null,null,null,null,null,null,null,null,null,null,null,null,null,23,null,"B","C","B","A","C","B","Z","Z","Z","B","C","B","B","B","A","C","A","C","D","C","C",28,"A",14]
[null,null,null,null,null,null,null,null,null,null,null,null,null,null,null,null,null,null,null,null,null,null,null,null,null,null,null,null,null,null,null,null,null,null,null,24,null,"B","B","C","B","Z","B","A","C","Z","B","A","A","A","Z","A","D","B","Z","B","B","B",90,"A",30]
[null,null,null,null,null,null,null,null,null,null,null,null,null,null,null,null,null,null,null,null,null,null,null,null,null,null,null,null,null,null,null,null,null,null,null,25,null,"C","D","A","A","C","B","A","Z","Z","B","C","B","A","B","A","D","A","C","B","B","D",89,"A",29]
[null,null,null,null,null,null,null,null,null,null,null,null,null,null,null,null,null,null,null,null,null,null,null,null,null,null,null,null,null,null,null,null,null,null,null,26,null,"B","C","B","A","C","C","A","Z","E","B","C","B","B","C","A","D","B","Z","B","B","B",109,"A",37]
[null,null,null,null,null,null,null,null,null,null,null,null,null,null,null,null,null,null,null,null,null,null,null,null,null,null,null,null,null,null,null,null,null,null,null,27,null,"B","C","C","Z","C","C","Z","Z","Z","B","C","B","B","C","Z","D","B","C","C","B","C",21,"A",19]
[null,null,null,null,null,null,null,null,null,null,null,null,null,null,null,null,null,null,null,null,null,null,null,null,null,null,null,null,null,null,null,null,null,null,null,28,null,"B","C","C","A","C","C","A","Z","Z","B","C","B","B","B","Z","D","B","Z","B","B","C",39,"A",36]
[null,null,null,null,null,null,null,null,null,null,null,null,null,null,null,null,null,null,null,null,null,null,null,null,null,null,null,null,null,null,null,null,null,null,null,29,null,"B","C","B","A","C","C","A","Z","Z","B","B","B","B","B","A","D","B","Z","B","B","C",18,"A",20]
[null,null,null,null,null,null,null,null,null,null,null,null,null,null,null,null,null,null,null,null,null,null,null,null,null,null,null,null,null,null,null,null,null,null,null,30,null,"B","C","B","A","C","C","Z","Z","E","B","C","B","B","Z","A","D","B","B","C","B","C",9,"A",18]
[null,null,null,null,null,null,null,null,null,null,null,null,null,null,null,null,null,null,null,null,null,null,null,null,null,null,null,null,null,null,null,null,null,null,null,31,null,"D","C","C","C","C","B","B","Z","E","B","C","B","B","B","A","D","B","Z","Z","B","D",100,"A",19]
[null,null,null,null,null,null,null,null,null,null,null,null,null,null,null,null,null,null,null,null,null,null,null,null,null,null,null,null,null,null,null,null,null,null,null,32,null,"B","C","B","A","C","C","A","Z","Z","B","B","A","B","B","A","D","B","Z","Z","C","D",69,"A",33]
[null,null,null,null,null,null,null,null,null,null,null,null,null,null,null,null,null,null,null,null,null,null,null,null,null,null,null,null,null,null,null,null,null,null,null,33,null,"Z","D","B","A","C","C","A","D","Z","B","B","B","C","C","Z","D","B","C","C","B","C",10,"B",79]
[null,null,null,null,null,null,null,null,null,null,null,null,null,null,null,null,null,null,null,null,null,null,null,null,null,null,null,null,null,null,null,null,null,null,null,34,null,"B","C","B","A","C","C","Z","Z","Z","B","C","B","B","B","A","D","B","Z","B","B","B",83,"A",16]
[null,null,null,null,null,null,null,null,null,null,null,null,null,null,null,null,null,null,null,null,null,null,null,null,null,null,null,null,null,null,null,null,null,null,null,35,null,"B","C","C","A","C","Z","A","C","D","B","B","B","C","B","Z","D","C","Z","B","C","C",4,"A",5]
[null,null,null,null,null,null,null,null,null,null,null,null,null,null,null,null,null,null,null,null,null,null,null,null,null,null,null,null,null,null,null,null,null,null,null,36,null,"B","D","C","A","C","B","Z","Z","Z","B","C","B","B","C","Z","D","B","Z","C","B","D",36,"A",4]
[null,null,null,null,null,null,null,null,null,null,null,null,null,null,null,null,null,null,null,null,null,null,null,null,null,null,null,null,null,null,null,null,null,null,null,37,null,"B","C","C","A","C","B","Z","Z","Z","B","B","B","B","C","A","D","A","A","C","A","B",37,"A",5]
[null,null,null,null,null,null,null,null,null,null,null,null,null,null,null,null,null,null,null,null,null,null,null,null,null,null,null,null,null,null,null,null,null,null,null,38,null,"B","C","B","A","C","C","Z","Z","Z","B","C","Z","B","B","Z","D","B","B","C","B","D",38,"A",6]
[null,null,null,null,null,null,null,null,null,null,null,null,null,null,null,null,null,null,null,null,null,null,null,null,null,null,null,null,null,null,null,null,null,null,null,39,null,"C","C","C","C","C","B","Z","C","D","B","B","B","B","C","A","B","B","Z","C","B","B",39,"C",7]
[null,null,null,null,null,null,null,null,null,null,null,null,null,null,null,null,null,null,null,null,null,null,null,null,null,null,null,null,null,null,null,null,null,null,null,40,null,"Z","C","C","A","C","C","B","Z","E","B","C","C","B","C","B","D","B","B","C","B","C",40,"C",8]
[null,null,null,null,null,null,null,null,null,null,null,null,null,null,null,null,null,null,null,null,null,null,null,null,null,null,null,null,null,null,null,null,null,null,null,41,null,"Z","D","C","A","C","C","A","Z","E","B","C","B","B","C","Z","D","C","Z","B","C","C",41,"A",9]
[null,null,null,null,null,null,null,null,null,null,null,null,null,null,null,null,null,null,null,null,null,null,null,null,null,null,null,null,null,null,null,null,null,null,null,42,null,"B","C","B","A","C","C","Z","Z","Z","B","C","B","B","Z","A","D","B","B","D","C","C",42,"A",10]
[null,null,null,null,null,null,null,null,null,null,null,null,null,null,null,null,null,null,null,null,null,null,null,null,null,null,null,null,null,null,null,null,null,null,null,43,null,"B","C","B","A","C","C","Z","Z","Z","B","C","B","B","B","Z","D","C","B","D","B","C",43,"A",11]
[null,null,null,null,null,null,null,null,null,null,null,null,null,null,null,null,null,null,null,null,null,null,null,null,null,null,null,null,null,null,null,null,null,null,null,44,null,"B","C","B","A","C","C","B","Z","Z","B","C","B","C","C","Z","D","B","Z","D","Z","C",44,"B",12]
[null,null,null,null,null,null,null,null,null,null,null,null,null,null,null,null,null,null,null,null,null,null,null,null,null,null,null,null,null,null,null,null,null,null,null,45,null,"B","C","B","A","C","C","A","Z","Z","B","B","B","C","Z","A","D","C","B","C","B","D",45,"C",13]
[null,null,null,null,null,null,null,null,null,null,null,null,null,null,null,null,null,null,null,null,null,null,null,null,null,null,null,null,null,null,null,null,null,null,null,46,null,"B","C","B","A","C","C","A","Z","Z","B","C","B","B","B","Z","D","B","Z","D","Z","D",46,"A",14]
[null,null,null,null,null,null,null,null,null,null,null,null,null,null,null,null,null,null,null,null,null,null,null,null,null,null,null,null,null,null,null,null,null,null,null,47,null,"B","C","A","A","C","B","A","Z","E","B","C","Z","B","B","A","C","B","Z","Z","Z","B",47,"A",15]
[null,null,null,null,null,null,null,null,null,null,null,null,null,null,null,null,null,null,null,null,null,null,null,null,null,null,null,null,null,null,null,null,null,null,null,48,null,"B","C","B","A","C","C","Z","Z","E","B","C","Z","C","Z","A","D","A","A","C","A","D",48,"A",16]
[null,null,null,null,null,null,null,null,null,null,null,null,null,null,null,null,null,null,null,null,null,null,null,null,null,null,null,null,null,null,null,null,null,null,null,49,null,"B","D","C","Z","C","B","A","Z","E","B","C","B","B","C","A","D","B","B","Z","B","D",49,"A",17]
[null,null,null,null,null,null,null,null,null,null,null,null,null,null,null,null,null,null,null,null,null,null,null,null,null,null,null,null,null,null,null,null,null,null,null,50,null,"B","C","C","A","C","B","A","Z","Z","B","C","B","C","B","Z","D","A","A","C","Z","C",50,"B",18]
[null,null,null,null,null,null,null,null,null,null,null,null,null,null,null,null,null,null,null,null,null,null,null,null,null,null,null,null,null,null,null,null,null,null,null,51,null,"D","C","C","A","C","C","A","Z","Z","B","C","A","B","C","A","D","B","B","C","A","C",51,"A",19]
[null,null,null,null,null,null,null,null,null,null,null,null,null,null,null,null,null,null,null,null,null,null,null,null,null,null,null,null,null,null,null,null,null,null,null,52,null,"B","C","B","A","C","C","A","Z","Z","B","C","B","B","Z","A","D","B","Z","C","B","B",52,"A",20]
[null,null,null,null,null,null,null,null,null,null,null,null,null,null,null,null,null,null,null,null,null,null,null,null,null,null,null,null,null,null,null,null,null,null,null,53,null,"Z","D","B","A","C","C","Z","Z","E","B","C","B","C","B","Z","Z","B","C","B","B","D",53,"A",21]
[null,null,null,null,null,null,null,null,null,null,null,null,null,null,null,null,null,null,null,null,null,null,null,null,null,null,null,null,null,null,null,null,null,null,null,54,null,"B","C","B","Z","C","C","A","Z","E","B","B","B","B","B","Z","D","D","A","B","D","C",54,"A",22]
[null,null,null,null,null,null,null,null,null,null,null,null,null,null,null,null,null,null,null,null,null,null,null,null,null,null,null,null,null,null,null,null,null,null,null,55,null,"Z","Z","B","A","C","C","A","Z","E","B","C","B","B","B","Z","D","B","Z","Z","B","B",55,"B",23]
[null,null,null,null,null,null,null,null,null,null,null,null,null,null,null,null,null,null,null,null,null,null,null,null,null,null,null,null,null,null,null,null,null,null,null,56,null,"B","C","B","A","C","C","A","C","Z","A","C","B","A","Z","A","D","B","C","B","B","C",56,"A",24]
[null,null,null,null,null,null,null,null,null,null,null,null,null,null,null,null,null,null,null,null,null,null,null,null,null,null,null,null,null,null,null,null,null,null,null,57,null,"B","D","B","A","C","C","Z","Z","Z","B","C","B","B","C","Z","D","B","Z","B","B","C",57,"A",25]
[null,null,null,null,null,null,null,null,null,null,null,null,null,null,null,null,null,null,null,null,null,null,null,null,null,null,null,null,null,null,null,null,null,null,null,58,null,"B","C","B","A","C","B","Z","Z","Z","B","C","B","B","B","A","C","A","C","D","C","C",58,"A",26]
[null,null,null,null,null,null,null,null,null,null,null,null,null,null,null,null,null,null,null,null,null,null,null,null,null,null,null,null,null,null,null,null,null,null,null,59,null,"B","B","C","B","Z","B","A","C","Z","B","A","A","A","Z","A","D","B","Z","B","B","B",59,"A",27]
[null,null,null,null,null,null,null,null,null,null,null,null,null,null,null,null,null,null,null,null,null,null,null,null,null,null,null,null,null,null,null,null,null,null,null,60,null,"C","D","A","A","C","B","A","Z","Z","B","C","B","A","B","A","D","A","C","B","B","D",60,"A",28]

{"sheet":"Ａ速報","index":1,"n_rows":66,"n_cols":13,"rows_kept":66,"cut":false,"hidden":false,"merged":[]}
[]
[null,null,null,null,null,"トレイル・オリエンテーリング 岩槻城址大会"]
[]
[null,null,null,null,null,{"$f":"成績入力!$AH$18","v":"Ａ"}," クラス 速報"]
[null,"行番号","仮順位",null,"順位","Ｎｏ","氏　　名",null,"所　属",null,"不参加","得点","タイム(sec.)"]
[null,null,0,null,0,0,0,null,0,null,0,0,0]
[null,1,{"$f":"IF(AND(L7=L6,M7=M6),C6,C6+1)","v":1},null,{"$f":"RANK(C7,$C$7:$C$66,1)","v":1},{"$f":"成績入力!AH53","v":32},{"$f":"成績入力!AI53","v":"山口　拓也"},null,{"$f":"成績入力!AJ53","v":"浜松OLC"},32,{"$f":"成績入力!AK53","v":0},{"$f":"成績入力!BM53","v":19},{"$f":"成績入力!BN53","v":30}]
[null,2,2,null,2,{"$f":"成績入力!AH52","v":31},{"$f":"成績入力!AI52","v":"茅野  耕治"},null,{"$f":"成績入力!AJ52","v":"ワンダラーズ"},31,{"$f":"成績入力!AK52","v":0},{"$f":"成績入力!BM52","v":18},{"$f":"成績入力!BN52","v":21}]
[null,3,3,null,3,{"$f":"成績入力!AH40","v":19},{"$f":"成績入力!AI40","v":"山口　尚宏"},null,{"$f":"成績入力!AJ40","v":"入間市OLC"},19,{"$f":"成績入力!AK40","v":0},{"$f":"成績入力!BM40","v":17},{"$f":"成績入力!BN40","v":21}]
[null,4,4,null,4,{"$f":"成績入力!AH50","v":29},{"$f":"成績入力!AI50","v":"我妻　　光"},null,{"$f":"成績入力!AJ50","v":"東京都"},29,{"$f":"成績入力!AK50","v":0},{"$f":"成績入力!BM50","v":17},{"$f":"成績入力!BN50","v":36}]
[null,5,4,null,4,{"$f":"成績入力!AH57","v":36},{"$f":"成績入力!AI57","v":"大久保　裕介"},null,{"$f":"成績入力!AJ57","v":"ES関東クラブ"},36,{"$f":"成績入力!AK57","v":0},{"$f":"成績入力!BM57","v":17},{"$f":"成績入力!BN57","v":36}]
[null,6,5,null,6,{"$f":"成績入力!AH43","v":22},{"$f":"成績入力!AI43","v":"藤島   由宇"},null,{"$f":"成績入力!AJ43","v":"三条ＯＬＣ"},22,{"$f":"成績入力!AK43","v":0},{"$f":"成績入力!BM43","v":17},{"$f":"成績入力!BN43","v":42}]
[null,7,6,null,7,{"$f":"成績入力!AH42","v":21},{"$f":"成績入力!AI42","v":"佐藤  清一"},null,{"$f":"成績入力!AJ42","v":"入間市OLC"},21,{"$f":"成績入力!AK42","v":0},{"$f":"成績入力!BM42","v":17},{"$f":"成績入力!BN42","v":62}]
[null,8,7,null,8,{"$f":"成績入力!AH49","v":28},{"$f":"成績入力!AI49","v":"鈴木  規弘"},null,{"$f":"成績入力!AJ49","v":"多摩OL"},28,{"$f":"成績入力!AK49","v":0},{"$f":"成績入力!BM49","v":16},{"$f":"成績入力!BN49","v":17}]
[null,9,8,null,9,{"$f":"成績入力!AH32","v":11},{"$f":"成績入力!AI32","v":"小泉  辰喜"},null,{"$f":"成績入力!AJ32","v":"東京ＯＬクラブ"},11,{"$f":"成績入力!AK32","v":0},{"$f":"成績入力!BM32","v":16},{"$f":"成績入力!BN32","v":25}]
[null,10,9,null,10,{"$f":"成績入力!AH29","v":8},{"$f":"成績入力!AI29","v":"田中　徹"},null,{"$f":"成績入力!AJ29","v":"京葉OLクラブ"},8,{"$f":"成績入力!AK29","v":0},{"$f":"成績入力!BM29","v":16},{"$f":"成績入力!BN29","v":31}]
[null,11,10,null,11,{"$f":"成績入力!AH51","v":30},{"$f":"成績入力!AI51","v":"石塚 　脩之"},null,{"$f":"成績入力!AJ51","v":"横浜OLクラブ"},30,{"$f":"成績入力!AK51","v":0},{"$f":"成績入力!BM51","v":16},{"$f":"成績入力!BN51","v":44}]
[null,12,11,null,12,{"$f":"成績入力!AH48","v":27},{"$f":"成績入力!AI48","v":"小橋  昌明"},null,{"$f":"成績入力!AJ48","v":"東京大学OLK"},27,{"$f":"成績入力!AK48","v":0},{"$f":"成績入力!BM48","v":16},{"$f":"成績入力!BN48","v":143}]
[null,13,12,null,13,{"$f":"成績入力!AH33","v":12},{"$f":"成績入力!AI33","v":"高橋  厚"},null,{"$f":"成績入力!AJ33","v":"多摩OL"},12,{"$f":"成績入力!AK33","v":0},{"$f":"成績入力!BM33","v":15},{"$f":"成績入力!BN33","v":31}]
[null,14,13,null,14,{"$f":"成績入力!AH24","v":3},{"$f":"成績入力!AI24","v":"今井  信親"},null,{"$f":"成績入力!AJ24","v":"ワンダラーズ"},3,{"$f":"成績入力!AK24","v":0},{"$f":"成績入力!BM24","v":15},{"$f":"成績入力!BN24","v":40}]
[null,15,14,null,15,{"$f":"成績入力!AH39","v":18},{"$f":"成績入力!AI39","v":"坪井　春樹　"},null,{"$f":"成績入力!AJ39","v":"コンパス"},18,{"$f":"成績入力!AK39","v":0},{"$f":"成績入力!BM39","v":15},{"$f":"成績入力!BN39","v":75}]
[null,16,15,null,16,{"$f":"成績入力!AH26","v":5},{"$f":"成績入力!AI26","v":"山口　征矢"},null,{"$f":"成績入力!AJ26","v":"川口OLC"},5,{"$f":"成績入力!AK26","v":0},{"$f":"成績入力!BM26","v":15},{"$f":"成績入力!BN26","v":112}]
[null,17,15,null,16,{"$f":"成績入力!AH47","v":26},{"$f":"成績入力!AI47","v":"福田　雅秀"},null,{"$f":"成績入力!AJ47","v":"川越ＯＬＣ"},26,{"$f":"成績入力!AK47","v":0},{"$f":"成績入力!BM47","v":15},{"$f":"成績入力!BN47","v":112}]
[null,18,16,null,18,{"$f":"成績入力!AH36","v":15},{"$f":"成績入力!AI36","v":"藤生  考志"},null,{"$f":"成績入力!AJ36","v":"東京ＯＬクラブ"},15,{"$f":"成績入力!AK36","v":0},{"$f":"成績入力!BM36","v":15},{"$f":"成績入力!BN36","v":115}]
[null,19,17,null,19,{"$f":"成績入力!AH58","v":37},{"$f":"成績入力!AI58","v":"松橋  徳敏"},null,{"$f":"成績入力!AJ58","v":"つるまいOLC"},37,{"$f":"成績入力!AK58","v":0},{"$f":"成績入力!BM58","v":14},{"$f":"成績入力!BN58","v":94}]
[null,20,18,null,20,{"$f":"成績入力!AH45","v":24},{"$f":"成績入力!AI45","v":"荒井  正敏"},null,{"$f":"成績入力!AJ45","v":"多摩OL"},24,{"$f":"成績入力!AK45","v":0},{"$f":"成績入力!BM45","v":14},{"$f":"成績入力!BN45","v":134}]
[null,21,19,null,21,{"$f":"成績入力!AH60","v":39},{"$f":"成績入力!AI60","v":"丸岡　広"},null,{"$f":"成績入力!AJ60","v":0},39,{"$f":"成績入力!AK60","v":0},{"$f":"成績入力!BM60","v":14},{"$f":"成績入力!BN60","v":135}]
[null,22,20,null,22,{"$f":"成績入力!AH34","v":13},{"$f":"成績入力!AI34","v":"伊藤　清"},null,{"$f":"成績入力!AJ34","v":"ワンダラーズ"},13,{"$f":"成績入力!AK34","v":0},{"$f":"成績入力!BM34","v":13},{"$f":"成績入力!BN34","v":64}]
[null,23,21,null,23,{"$f":"成績入力!AH41","v":20},{"$f":"成績入力!AI41","v":"久保井  輝政"},null,{"$f":"成績入力!AJ41","v":"サンスーシ"},20,{"$f":"成績入力!AK41","v":0},{"$f":"成績入力!BM41","v":13},{"$f":"成績入力!BN41","v":86}]
[null,24,22,null,24,{"$f":"成績入力!AH35","v":14},{"$f":"成績入力!AI35","v":"田代  雅之"},null,{"$f":"成績入力!AJ35","v":"静岡県"},14,{"$f":"成績入力!AK35","v":0},{"$f":"成績入力!BM35","v":13},{"$f":"成績入力!BN35","v":99}]
[null,25,23,null,25,{"$f":"成績入力!AH55","v":34},{"$f":"成績入力!AI55","v":"西山　絵梨香"},null,{"$f":"成績入力!AJ55","v":"浜松ＯＬＣ"},34,{"$f":"成績入力!AK55","v":0},{"$f":"成績入力!BM55","v":13},{"$f":"成績入力!BN55","v":109}]
[null,26,24,null,26,{"$f":"成績入力!AH31","v":10},{"$f":"成績入力!AI31","v":"田島　三郎"},null,{"$f":"成績入力!AJ31","v":"入間市ＯＬＣ"},10,{"$f":"成績入力!AK31","v":0},{"$f":"成績入力!BM31","v":12},{"$f":"成績入力!BN31","v":77}]
[null,27,25,null,27,{"$f":"成績入力!AH27","v":6},{"$f":"成績入力!AI27","v":"阿天坊　裕"},null,{"$f":"成績入力!AJ27","v":"港南OLC"},6,{"$f":"成績入力!AK27","v":0},{"$f":"成績入力!BM27","v":12},{"$f":"成績入力!BN27","v":92}]
[null,28,26,null,28,{"$f":"成績入力!AH59","v":38},{"$f":"成績入力!AI59","v":"横手　義雄"},null,{"$f":"成績入力!AJ59","v":"入間市OLC"},38,{"$f":"成績入力!AK59","v":0},{"$f":"成績入力!BM59","v":12},{"$f":"成績入力!BN59","v":109}]
[null,29,27,null,29,{"$f":"成績入力!AH46","v":25},{"$f":"成績入力!AI46","v":"井口　良範"},null,{"$f":"成績入力!AJ46","v":" 高崎OLC"},25,{"$f":"成績入力!AK46","v":0},{"$f":"成績入力!BM46","v":12},{"$f":"成績入力!BN46","v":110}]
[null,30,28,null,30,{"$f":"成績入力!AH37","v":16},{"$f":"成績入力!AI37","v":"高橋  義人"},null,{"$f":"成績入力!AJ37","v":"八王子市"},16,{"$f":"成績入力!AK37","v":0},{"$f":"成績入力!BM37","v":12},{"$f":"成績入力!BN37","v":169}]
[null,31,29,null,31,{"$f":"成績入力!AH23","v":2},{"$f":"成績入力!AI23","v":"小山  太朗"},null,{"$f":"成績入力!AJ23","v":"サンスーシ"},2,{"$f":"成績入力!AK23","v":0},{"$f":"成績入力!BM23","v":11},{"$f":"成績入力!BN23","v":72}]
[null,32,30,null,32,{"$f":"成績入力!AH25","v":4},{"$f":"成績入力!AI25","v":"原野  幸男"},null,{"$f":"成績入力!AJ25","v":"所沢OLC"},4,{"$f":"成績入力!AK25","v":0},{"$f":"成績入力!BM25","v":11},{"$f":"成績入力!BN25","v":164}]
[null,33,{"$f":"IF(AND(L39=L38,M39=M38),C38,C38+1)","v":31},null,{"$f":"RANK(C39,$C$7:$C$66,1)","v":33},{"$f":"成績入力!AH22","v":1},{"$f":"成績入力!AI22","v":"大塚   校市"},null,{"$f":"成績入力!AJ22","v":"千葉OLK　"},1,{"$f":"成績入力!AK22","v":0},{"$f":"成績入力!BM22","v":11},{"$f":"成績入力!BN22","v":176}]
[null,34,32,null,34,{"$f":"成績入力!AH30","v":9},{"$f":"成績入力!AI30","v":"高柳　宣幸"},null,{"$f":"成績入力!AJ30","v":"港南OLC"},9,{"$f":"成績入力!AK30","v":0},{"$f":"成績入力!BM30","v":10},{"$f":"成績入力!BN30","v":87}]
[null,35,33,null,35,{"$f":"成績入力!AH28","v":7},{"$f":"成績入力!AI28","v":"豊島  利男"},null,{"$f":"成績入力!AJ28","v":"早大ＯＣ寿会"},7,{"$f":"成績入力!AK28","v":0},{"$f":"成績入力!BM28","v":10},{"$f":"成績入力!BN28","v":196}]
[null,36,34,null,36,{"$f":"成績入力!AH54","v":33},{"$f":"成績入力!AI54","v":"水嶋　直子"},null,{"$f":"成績入力!AJ54","v":"渋谷で走る会"},33,{"$f":"成績入力!AK54","v":0},{"$f":"成績入力!BM54","v":8},{"$f":"成績入力!BN54","v":91}]
[null,37,35,null,37,{"$f":"成績入力!AH38","v":17},{"$f":"成績入力!AI38","v":"平島   勝彦"},null,{"$f":"成績入力!AJ38","v":"入間市OLC"},17,{"$f":"成績入力!AK38","v":0},{"$f":"成績入力!BM38","v":8},{"$f":"成績入力!BN38","v":166}]
[null,38,36,null,38,{"$f":"成績入力!AH56","v":35},{"$f":"成績入力!AI56","v":"田口　敏夫"},null,{"$f":"成績入力!AJ56","v":"川越ＯＬＣ"},35,{"$f":"成績入力!AK56","v":0},{"$f":"成績入力!BM56","v":6},{"$f":"成績入力!BN56","v":169}]
[null,39,37,null,39,{"$f":"成績入力!AH44","v":23},{"$f":"成績入力!AI44","v":0},null,{"$f":"成績入力!AJ44","v":0},23,{"$f":"成績入力!AK44","v":0},{"$f":"成績入力!BM44","v":0},{"$f":"成績入力!BN44","v":0}]
[null,40,37,null,39,{"$f":"成績入力!AH61","v":40},{"$f":"成績入力!AI61","v":0},null,{"$f":"成績入力!AJ61","v":0},40,{"$f":"成績入力!AK61","v":0},{"$f":"成績入力!BM61","v":0},{"$f":"成績入力!BN61","v":0}]
[null,41,37,null,39,{"$f":"成績入力!AH62","v":41},{"$f":"成績入力!AI62","v":0},null,{"$f":"成績入力!AJ62","v":0},41,{"$f":"成績入力!AK62","v":0},{"$f":"成績入力!BM62","v":0},{"$f":"成績入力!BN62","v":0}]
[null,42,37,null,39,{"$f":"成績入力!AH63","v":42},{"$f":"成績入力!AI63","v":0},null,{"$f":"成績入力!AJ63","v":0},42,{"$f":"成績入力!AK63","v":0},{"$f":"成績入力!BM63","v":0},{"$f":"成績入力!BN63","v":0}]
[null,43,37,null,39,{"$f":"成績入力!AH64","v":43},{"$f":"成績入力!AI64","v":0},null,{"$f":"成績入力!AJ64","v":0},43,{"$f":"成績入力!AK64","v":0},{"$f":"成績入力!BM64","v":0},{"$f":"成績入力!BN64","v":0}]
[null,44,37,null,39,{"$f":"成績入力!AH65","v":44},{"$f":"成績入力!AI65","v":0},null,{"$f":"成績入力!AJ65","v":0},44,{"$f":"成績入力!AK65","v":0},{"$f":"成績入力!BM65","v":0},{"$f":"成績入力!BN65","v":0}]
[null,45,37,null,39,{"$f":"成績入力!AH66","v":45},{"$f":"成績入力!AI66","v":0},null,{"$f":"成績入力!AJ66","v":0},45,{"$f":"成績入力!AK66","v":0},{"$f":"成績入力!BM66","v":0},{"$f":"成績入力!BN66","v":0}]
[null,46,37,null,39,{"$f":"成績入力!AH67","v":46},{"$f":"成績入力!AI67","v":0},null,{"$f":"成績入力!AJ67","v":0},46,{"$f":"成績入力!AK67","v":0},{"$f":"成績入力!BM67","v":0},{"$f":"成績入力!BN67","v":0}]
[null,47,37,null,39,{"$f":"成績入力!AH68","v":47},{"$f":"成績入力!AI68","v":0},null,{"$f":"成績入力!AJ68","v":0},47,{"$f":"成績入力!AK68","v":0},{"$f":"成績入力!BM68","v":0},{"$f":"成績入力!BN68","v":0}]
[null,48,37,null,39,{"$f":"成績入力!AH69","v":48},{"$f":"成績入力!AI69","v":0},null,{"$f":"成績入力!AJ69","v":0},48,{"$f":"成績入力!AK69","v":0},{"$f":"成績入力!BM69","v":0},{"$f":"成績入力!BN69","v":0}]
[null,49,37,null,39,{"$f":"成績入力!AH70","v":49},{"$f":"成績入力!AI70","v":0},null,{"$f":"成績入力!AJ70","v":0},49,{"$f":"成績入力!AK70","v":0},{"$f":"成績入力!BM70","v":0},{"$f":"成績入力!BN70","v":0}]
[null,50,37,null,39,{"$f":"成績入力!AH71","v":50},{"$f":"成績入力!AI71","v":0},null,{"$f":"成績入力!AJ71","v":0},50,{"$f":"成績入力!AK71","v":0},{"$f":"成績入力!BM71","v":0},{"$f":"成績入力!BN71","v":0}]
[null,51,37,null,39,{"$f":"成績入力!AH72","v":51},{"$f":"成績入力!AI72","v":0},null,{"$f":"成績入力!AJ72","v":0},51,{"$f":"成績入力!AK72","v":0},{"$f":"成績入力!BM72","v":0},{"$f":"成績入力!BN72","v":0}]
[null,52,37,null,39,{"$f":"成績入力!AH73","v":52},{"$f":"成績入力!AI73","v":0},null,{"$f":"成績入力!AJ73","v":0},52,{"$f":"成績入力!AK73","v":0},{"$f":"成績入力!BM73","v":0},{"$f":"成績入力!BN73","v":0}]
[null,53,37,null,39,{"$f":"成績入力!AH74","v":53},{"$f":"成績入力!AI74","v":0},null,{"$f":"成績入力!AJ74","v":0},53,{"$f":"成績入力!AK74","v":0},{"$f":"成績入力!BM74","v":0},{"$f":"成績入力!BN74","v":0}]
[null,54,37,null,39,{"$f":"成績入力!AH75","v":54},{"$f":"成績入力!AI75","v":0},null,{"$f":"成績入力!AJ75","v":0},54,{"$f":"成績入力!AK75","v":0},{"$f":"成績入力!BM75","v":0},{"$f":"成績入力!BN75","v":0}]
[null,55,37,null,39,{"$f":"成績入力!AH76","v":55},{"$f":"成績入力!AI76","v":0},null,{"$f":"成績入力!AJ76","v":0},55,{"$f":"成績入力!AK76","v":0},{"$f":"成績入力!BM76","v":0},{"$f":"成績入力!BN76","v":0}]
[null,56,37,null,39,{"$f":"成績入力!AH77","v":56},{"$f":"成績入力!AI77","v":0},null,{"$f":"成績入力!AJ77","v":0},56,{"$f":"成績入力!AK77","v":0},{"$f":"成績入力!BM77","v":0},{"$f":"成績入力!BN77","v":0}]
[null,57,37,null,39,{"$f":"成績入力!AH78","v":57},{"$f":"成績入力!AI78","v":0},null,{"$f":"成績入力!AJ78","v":0},57,{"$f":"成績入力!AK78","v":0},{"$f":"成績入力!BM78","v":0},{"$f":"成績入力!BN78","v":0}]
[null,58,37,null,39,{"$f":"成績入力!AH79","v":58},{"$f":"成績入力!AI79","v":0},null,{"$f":"成績入力!AJ79","v":0},58,{"$f":"成績入力!AK79","v":0},{"$f":"成績入力!BM79","v":0},{"$f":"成績入力!BN79","v":0}]
[null,59,37,null,39,{"$f":"成績入力!AH80","v":59},{"$f":"成績入力!AI80","v":0},null,{"$f":"成績入力!AJ80","v":0},59,{"$f":"成績入力!AK80","v":0},{"$f":"成績入力!BM80","v":0},{"$f":"成績入力!BN80","v":0}]
[null,60,37,null,39,{"$f":"成績入力!AH81","v":60},{"$f":"成績入力!AI81","v":0},null,{"$f":"成績入力!AJ81","v":0},60,{"$f":"成績入力!AK81","v":0},{"$f":"成績入力!BM81","v":0},{"$f":"成績入力!BN81","v":0}]

{"sheet":"B速報 ","index":2,"n_rows":56,"n_cols":13,"rows_kept":56,"cut":false,"hidden":false,"merged":[]}
[]
[null,null,null,null,null,{"$f":"Ａ速報!$F$2","v":"トレイル・オリエンテーリング 岩槻城址大会"}]
[]
[null,null,null,null,null,"B"," クラス 速報"]
[null,"行番号","仮順位",null,"順位","Ｎｏ","氏　　名","所　属",null,"不参加","得点","タイム(sec.)"]
[null,null,0,null,0,0,0,0,null,0,0,0,0]
[null,1,{"$f":"IF(AND(K7=K6,L7=L6),C6,C6+1)","v":1},null,{"$f":"RANK(C7,$C$7:$C$56,1)","v":1},{"$f":"成績入力!AH90","v":71},{"$f":"成績入力!AI90","v":"斉藤　英津子"},{"$f":"成績入力!AJ90","v":"東京ＯＬクラブ"},1,{"$f":"成績入力!AK90","v":0},{"$f":"成績入力!BM90","v":9},{"$f":"成績入力!BN90","v":0}]
[null,2,1,null,1,{"$f":"成績入力!AH94","v":75},{"$f":"成績入力!AI94","v":"小柳　三郎"},{"$f":"成績入力!AJ94","v":"港南ＯＬＣ"},5,{"$f":"成績入力!AK94","v":0},{"$f":"成績入力!BM94","v":9},{"$f":"成績入力!BN94","v":0}]
[null,3,2,null,3,{"$f":"成績入力!AH92","v":73},{"$f":"成績入力!AI92","v":"今井　栄"},{"$f":"成績入力!AJ92","v":"ワンダラーズ"},3,{"$f":"成績入力!AK92","v":0},{"$f":"成績入力!BM92","v":8},{"$f":"成績入力!BN92","v":0}]
[null,4,3,null,4,{"$f":"成績入力!AH93","v":74},{"$f":"成績入力!AI93","v":"鈴木　律子"},{"$f":"成績入力!AJ93","v":"板橋オリエンテーリングクラブ"},4,{"$f":"成績入力!AK93","v":0},{"$f":"成績入力!BM93","v":7},{"$f":"成績入力!BN93","v":0}]
[null,5,4,null,5,{"$f":"成績入力!AH91","v":72},{"$f":"成績入力!AI91","v":"梅野　武康"},{"$f":"成績入力!AJ91","v":"東京ＯＬクラブ"},2,{"$f":"成績入力!AK91","v":0},{"$f":"成績入力!BM91","v":6},{"$f":"成績入力!BN91","v":0}]
[null,6,5,null,6,{"$f":"成績入力!AH95","v":76},{"$f":"成績入力!AI95","v":0},{"$f":"成績入力!AJ95","v":0},6,{"$f":"成績入力!AK95","v":0},{"$f":"成績入力!BM95","v":0},{"$f":"成績入力!BN95","v":0}]
[null,7,5,null,6,{"$f":"成績入力!AH96","v":77},{"$f":"成績入力!AI96","v":0},{"$f":"成績入力!AJ96","v":0},7,{"$f":"成績入力!AK96","v":0},{"$f":"成績入力!BM96","v":0},{"$f":"成績入力!BN96","v":0}]
[null,8,5,null,6,{"$f":"成績入力!AH97","v":78},{"$f":"成績入力!AI97","v":0},{"$f":"成績入力!AJ97","v":0},8,{"$f":"成績入力!AK97","v":0},{"$f":"成績入力!BM97","v":0},{"$f":"成績入力!BN97","v":0}]
[null,9,5,null,6,{"$f":"成績入力!AH98","v":79},{"$f":"成績入力!AI98","v":0},{"$f":"成績入力!AJ98","v":0},9,{"$f":"成績入力!AK98","v":0},{"$f":"成績入力!BM98","v":0},{"$f":"成績入力!BN98","v":0}]
[null,10,5,null,6,{"$f":"成績入力!AH99","v":80},{"$f":"成績入力!AI99","v":0},{"$f":"成績入力!AJ99","v":0},10,{"$f":"成績入力!AK99","v":0},{"$f":"成績入力!BM99","v":0},{"$f":"成績入力!BN99","v":0}]
[null,11,5,null,6,{"$f":"成績入力!AH100","v":81},{"$f":"成績入力!AI100","v":0},{"$f":"成績入力!AJ100","v":0},11,{"$f":"成績入力!AK100","v":0},{"$f":"成績入力!BM100","v":0},{"$f":"成績入力!BN100","v":0}]
[null,12,5,null,6,{"$f":"成績入力!AH101","v":82},{"$f":"成績入力!AI101","v":0},{"$f":"成績入力!AJ101","v":0},12,{"$f":"成績入力!AK101","v":0},{"$f":"成績入力!BM101","v":0},{"$f":"成績入力!BN101","v":0}]
[null,13,5,null,6,{"$f":"成績入力!AH102","v":83},{"$f":"成績入力!AI102","v":0},{"$f":"成績入力!AJ102","v":0},13,{"$f":"成績入力!AK102","v":0},{"$f":"成績入力!BM102","v":0},{"$f":"成績入力!BN102","v":0}]
[null,14,5,null,6,{"$f":"成績入力!AH103","v":84},{"$f":"成績入力!AI103","v":0},{"$f":"成績入力!AJ103","v":0},14,{"$f":"成績入力!AK103","v":0},{"$f":"成績入力!BM103","v":0},{"$f":"成績入力!BN103","v":0}]
[null,15,5,null,6,{"$f":"成績入力!AH104","v":85},{"$f":"成績入力!AI104","v":0},{"$f":"成績入力!AJ104","v":0},15,{"$f":"成績入力!AK104","v":0},{"$f":"成績入力!BM104","v":0},{"$f":"成績入力!BN104","v":0}]
[null,16,5,null,6,{"$f":"成績入力!AH105","v":86},{"$f":"成績入力!AI105","v":0},{"$f":"成績入力!AJ105","v":0},16,{"$f":"成績入力!AK105","v":0},{"$f":"成績入力!BM105","v":0},{"$f":"成績入力!BN105","v":0}]
[null,17,5,null,6,{"$f":"成績入力!AH106","v":87},{"$f":"成績入力!AI106","v":0},{"$f":"成績入力!AJ106","v":0},17,{"$f":"成績入力!AK106","v":0},{"$f":"成績入力!BM106","v":0},{"$f":"成績入力!BN106","v":0}]
[null,18,5,null,6,{"$f":"成績入力!AH107","v":88},{"$f":"成績入力!AI107","v":0},{"$f":"成績入力!AJ107","v":0},18,{"$f":"成績入力!AK107","v":0},{"$f":"成績入力!BM107","v":0},{"$f":"成績入力!BN107","v":0}]
[null,19,5,null,6,{"$f":"成績入力!AH108","v":89},{"$f":"成績入力!AI108","v":0},{"$f":"成績入力!AJ108","v":0},19,{"$f":"成績入力!AK108","v":0},{"$f":"成績入力!BM108","v":0},{"$f":"成績入力!BN108","v":0}]
[null,20,5,null,6,{"$f":"成績入力!AH109","v":90},{"$f":"成績入力!AI109","v":0},{"$f":"成績入力!AJ109","v":0},20,{"$f":"成績入力!AK109","v":0},{"$f":"成績入力!BM109","v":0},{"$f":"成績入力!BN109","v":0}]
[null,21,5,null,6,{"$f":"成績入力!AH110","v":91},{"$f":"成績入力!AI110","v":0},{"$f":"成績入力!AJ110","v":0},21,{"$f":"成績入力!AK110","v":0},{"$f":"成績入力!BM110","v":0},{"$f":"成績入力!BN110","v":0}]
[null,22,5,null,6,{"$f":"成績入力!AH111","v":92},{"$f":"成績入力!AI111","v":0},{"$f":"成績入力!AJ111","v":0},22,{"$f":"成績入力!AK111","v":0},{"$f":"成績入力!BM111","v":0},{"$f":"成績入力!BN111","v":0}]
[null,23,5,null,6,{"$f":"成績入力!AH112","v":93},{"$f":"成績入力!AI112","v":0},{"$f":"成績入力!AJ112","v":0},23,{"$f":"成績入力!AK112","v":0},{"$f":"成績入力!BM112","v":0},{"$f":"成績入力!BN112","v":0}]
[null,24,5,null,6,{"$f":"成績入力!AH113","v":94},{"$f":"成績入力!AI113","v":0},{"$f":"成績入力!AJ113","v":0},24,{"$f":"成績入力!AK113","v":0},{"$f":"成績入力!BM113","v":0},{"$f":"成績入力!BN113","v":0}]
[null,25,5,null,6,{"$f":"成績入力!AH114","v":95},{"$f":"成績入力!AI114","v":0},{"$f":"成績入力!AJ114","v":0},25,{"$f":"成績入力!AK114","v":0},{"$f":"成績入力!BM114","v":0},{"$f":"成績入力!BN114","v":0}]
[null,26,5,null,6,{"$f":"成績入力!AH115","v":96},{"$f":"成績入力!AI115","v":0},{"$f":"成績入力!AJ115","v":0},26,{"$f":"成績入力!AK115","v":0},{"$f":"成績入力!BM115","v":0},{"$f":"成績入力!BN115","v":0}]
[null,27,5,null,6,{"$f":"成績入力!AH116","v":97},{"$f":"成績入力!AI116","v":0},{"$f":"成績入力!AJ116","v":0},27,{"$f":"成績入力!AK116","v":0},{"$f":"成績入力!BM116","v":0},{"$f":"成績入力!BN116","v":0}]
[null,28,5,null,{"$f":"RANK(C34,$C$7:$C$56,1)","v":6},{"$f":"成績入力!AH117","v":98},{"$f":"成績入力!AI117","v":0},{"$f":"成績入力!AJ117","v":0},28,{"$f":"成績入力!AK117","v":0},{"$f":"成績入力!BM117","v":0},{"$f":"成績入力!BN117","v":0}]
[null,29,5,null,6,{"$f":"成績入力!AH118","v":99},{"$f":"成績入力!AI118","v":0},{"$f":"成績入力!AJ118","v":0},29,{"$f":"成績入力!AK118","v":0},{"$f":"成績入力!BM118","v":0},{"$f":"成績入力!BN118","v":0}]
[null,30,5,null,6,{"$f":"成績入力!AH119","v":100},{"$f":"成績入力!AI119","v":0},{"$f":"成績入力!AJ119","v":0},30,{"$f":"成績入力!AK119","v":0},{"$f":"成績入力!BM119","v":0},{"$f":"成績入力!BN119","v":0}]
[null,31,5,null,6,{"$f":"成績入力!AH120","v":101},{"$f":"成績入力!AI120","v":0},{"$f":"成績入力!AJ120","v":0},31,{"$f":"成績入力!AK120","v":0},{"$f":"成績入力!BM120","v":0},{"$f":"成績入力!BN120","v":0}]
[null,32,5,null,6,{"$f":"成績入力!AH121","v":102},{"$f":"成績入力!AI121","v":0},{"$f":"成績入力!AJ121","v":0},32,{"$f":"成績入力!AK121","v":0},{"$f":"成績入力!BM121","v":0},{"$f":"成績入力!BN121","v":0}]
[null,33,{"$f":"IF(AND(K39=K38,L39=L38),C38,C38+1)","v":5},null,6,{"$f":"成績入力!AH122","v":103},{"$f":"成績入力!AI122","v":0},{"$f":"成績入力!AJ122","v":0},33,{"$f":"成績入力!AK122","v":0},{"$f":"成績入力!BM122","v":0},{"$f":"成績入力!BN122","v":0}]
[null,34,5,null,6,{"$f":"成績入力!AH123","v":104},{"$f":"成績入力!AI123","v":0},{"$f":"成績入力!AJ123","v":0},34,{"$f":"成績入力!AK123","v":0},{"$f":"成績入力!BM123","v":0},{"$f":"成績入力!BN123","v":0}]
[null,35,5,null,6,{"$f":"成績入力!AH124","v":105},{"$f":"成績入力!AI124","v":0},{"$f":"成績入力!AJ124","v":0},35,{"$f":"成績入力!AK124","v":0},{"$f":"成績入力!BM124","v":0},{"$f":"成績入力!BN124","v":0}]
[null,36,5,null,6,{"$f":"成績入力!AH125","v":106},{"$f":"成績入力!AI125","v":0},{"$f":"成績入力!AJ125","v":0},36,{"$f":"成績入力!AK125","v":0},{"$f":"成績入力!BM125","v":0},{"$f":"成績入力!BN125","v":0}]
[null,37,5,null,6,{"$f":"成績入力!AH126","v":107},{"$f":"成績入力!AI126","v":0},{"$f":"成績入力!AJ126","v":0},37,{"$f":"成績入力!AK126","v":0},{"$f":"成績入力!BM126","v":0},{"$f":"成績入力!BN126","v":0}]
[null,38,5,null,6,{"$f":"成績入力!AH127","v":108},{"$f":"成績入力!AI127","v":0},{"$f":"成績入力!AJ127","v":0},38,{"$f":"成績入力!AK127","v":0},{"$f":"成績入力!BM127","v":0},{"$f":"成績入力!BN127","v":0}]
[null,39,5,null,6,{"$f":"成績入力!AH128","v":109},{"$f":"成績入力!AI128","v":0},{"$f":"成績入力!AJ128","v":0},39,{"$f":"成績入力!AK128","v":0},{"$f":"成績入力!BM128","v":0},{"$f":"成績入力!BN128","v":0}]
[null,40,5,null,6,{"$f":"成績入力!AH129","v":110},{"$f":"成績入力!AI129","v":0},{"$f":"成績入力!AJ129","v":0},40,{"$f":"成績入力!AK129","v":0},{"$f":"成績入力!BM129","v":0},{"$f":"成績入力!BN129","v":0}]
[null,41,5,null,6,{"$f":"成績入力!AH130","v":111},{"$f":"成績入力!AI130","v":0},{"$f":"成績入力!AJ130","v":0},41,{"$f":"成績入力!AK130","v":0},{"$f":"成績入力!BM130","v":0},{"$f":"成績入力!BN130","v":0}]
[null,42,5,null,6,{"$f":"成績入力!AH131","v":112},{"$f":"成績入力!AI131","v":0},{"$f":"成績入力!AJ131","v":0},42,{"$f":"成績入力!AK131","v":0},{"$f":"成績入力!BM131","v":0},{"$f":"成績入力!BN131","v":0}]
[null,43,5,null,6,{"$f":"成績入力!AH132","v":113},{"$f":"成績入力!AI132","v":0},{"$f":"成績入力!AJ132","v":0},43,{"$f":"成績入力!AK132","v":0},{"$f":"成績入力!BM132","v":0},{"$f":"成績入力!BN132","v":0}]
[null,44,5,null,6,{"$f":"成績入力!AH133","v":114},{"$f":"成績入力!AI133","v":0},{"$f":"成績入力!AJ133","v":0},44,{"$f":"成績入力!AK133","v":0},{"$f":"成績入力!BM133","v":0},{"$f":"成績入力!BN133","v":0}]
[null,45,5,null,6,{"$f":"成績入力!AH134","v":115},{"$f":"成績入力!AI134","v":0},{"$f":"成績入力!AJ134","v":0},45,{"$f":"成績入力!AK134","v":0},{"$f":"成績入力!BM134","v":0},{"$f":"成績入力!BN134","v":0}]
[null,46,5,null,6,{"$f":"成績入力!AH135","v":116},{"$f":"成績入力!AI135","v":0},{"$f":"成績入力!AJ135","v":0},46,{"$f":"成績入力!AK135","v":0},{"$f":"成績入力!BM135","v":0},{"$f":"成績入力!BN135","v":0}]
[null,47,5,null,6,{"$f":"成績入力!AH136","v":117},{"$f":"成績入力!AI136","v":0},{"$f":"成績入力!AJ136","v":0},47,{"$f":"成績入力!AK136","v":0},{"$f":"成績入力!BM136","v":0},{"$f":"成績入力!BN136","v":0}]
[null,48,5,null,6,{"$f":"成績入力!AH137","v":118},{"$f":"成績入力!AI137","v":0},{"$f":"成績入力!AJ137","v":0},48,{"$f":"成績入力!AK137","v":0},{"$f":"成績入力!BM137","v":0},{"$f":"成績入力!BN137","v":0}]
[null,49,5,null,6,{"$f":"成績入力!AH138","v":119},{"$f":"成績入力!AI138","v":0},{"$f":"成績入力!AJ138","v":0},49,{"$f":"成績入力!AK138","v":0},{"$f":"成績入力!BM138","v":0},{"$f":"成績入力!BN138","v":0}]
[null,50,5,null,6,{"$f":"成績入力!AH139","v":120},{"$f":"成績入力!AI139","v":0},{"$f":"成績入力!AJ139","v":0},50,{"$f":"成績入力!AK139","v":0},{"$f":"成績入力!BM139","v":0},{"$f":"成績入力!BN139","v":0}]

{"sheet":"N速報","index":3,"n_rows":56,"n_cols":13,"rows_kept":56,"cut":false,"hidden":false,"merged":[]}
[]
[null,null,null,null,null,{"$f":"Ａ速報!$F$2","v":"トレイル・オリエンテーリング 岩槻城址大会"}]
[]
[null,null,null,null,null,"N"," クラス 速報"]
[null,"行番号","仮順位",null,"順位","Ｎｏ","氏　　名","所　属",null,"不参加","得点","タイム(sec.)"]
[null,null,0,null,0,0,0,0,null,0,0.2,0,0]
[null,1,{"$f":"IF(AND(K7=K6,L7=L6),C6,C6+1)","v":1},null,{"$f":"RANK(C7,$C$7:$C$56,1)","v":1},{"$f":"成績入力!AH156","v":134},{"$f":"成績入力!AI156","v":"今井　信也"},{"$f":"成績入力!AJ156","v":0},4,{"$f":"成績入力!AK156","v":0},{"$f":"成績入力!BM156","v":8},{"$f":"成績入力!BN156","v":0}]
[null,2,2,null,2,{"$f":"成績入力!AH153","v":131},{"$f":"成績入力!AI153","v":"斉藤　栄子"},{"$f":"成績入力!AJ153","v":0},1,{"$f":"成績入力!AK153","v":0},{"$f":"成績入力!BM153","v":6},{"$f":"成績入力!BN153","v":0}]
[null,3,2,null,2,{"$f":"成績入力!AH154","v":132},{"$f":"成績入力!AI154","v":"直江　有紀"},{"$f":"成績入力!AJ154","v":0},2,{"$f":"成績入力!AK154","v":0},{"$f":"成績入力!BM154","v":6},{"$f":"成績入力!BN154","v":0}]
[null,4,3,null,4,{"$f":"成績入力!AH155","v":133},{"$f":"成績入力!AI155","v":"鮫島　一郎"},{"$f":"成績入力!AJ155","v":"埼玉県障害者スポーツ指導者協議会"},3,{"$f":"成績入力!AK155","v":0},{"$f":"成績入力!BM155","v":5},{"$f":"成績入力!BN155","v":0}]
[null,5,4,null,5,{"$f":"成績入力!AH157","v":135},{"$f":"成績入力!AI157","v":0},{"$f":"成績入力!AJ157","v":0},5,{"$f":"成績入力!AK157","v":0},{"$f":"成績入力!BM157","v":0},{"$f":"成績入力!BN157","v":0}]
[null,6,4,null,5,{"$f":"成績入力!AH158","v":136},{"$f":"成績入力!AI158","v":0},{"$f":"成績入力!AJ158","v":0},6,{"$f":"成績入力!AK158","v":0},{"$f":"成績入力!BM158","v":0},{"$f":"成績入力!BN158","v":0}]
[null,7,4,null,5,{"$f":"成績入力!AH159","v":137},{"$f":"成績入力!AI159","v":0},{"$f":"成績入力!AJ159","v":0},7,{"$f":"成績入力!AK159","v":0},{"$f":"成績入力!BM159","v":0},{"$f":"成績入力!BN159","v":0}]
[null,8,4,null,5,{"$f":"成績入力!AH160","v":138},{"$f":"成績入力!AI160","v":0},{"$f":"成績入力!AJ160","v":0},8,{"$f":"成績入力!AK160","v":0},{"$f":"成績入力!BM160","v":0},{"$f":"成績入力!BN160","v":0}]
[null,9,4,null,5,{"$f":"成績入力!AH161","v":139},{"$f":"成績入力!AI161","v":0},{"$f":"成績入力!AJ161","v":0},9,{"$f":"成績入力!AK161","v":0},{"$f":"成績入力!BM161","v":0},{"$f":"成績入力!BN161","v":0}]
[null,10,4,null,5,{"$f":"成績入力!AH162","v":140},{"$f":"成績入力!AI162","v":0},{"$f":"成績入力!AJ162","v":0},10,{"$f":"成績入力!AK162","v":0},{"$f":"成績入力!BM162","v":0},{"$f":"成績入力!BN162","v":0}]
[null,11,4,null,5,{"$f":"成績入力!AH163","v":141},{"$f":"成績入力!AI163","v":0},{"$f":"成績入力!AJ163","v":0},11,{"$f":"成績入力!AK163","v":0},{"$f":"成績入力!BM163","v":0},{"$f":"成績入力!BN163","v":0}]
[null,12,4,null,5,{"$f":"成績入力!AH164","v":142},{"$f":"成績入力!AI164","v":0},{"$f":"成績入力!AJ164","v":0},12,{"$f":"成績入力!AK164","v":0},{"$f":"成績入力!BM164","v":0},{"$f":"成績入力!BN164","v":0}]
[null,13,4,null,5,{"$f":"成績入力!AH165","v":143},{"$f":"成績入力!AI165","v":0},{"$f":"成績入力!AJ165","v":0},13,{"$f":"成績入力!AK165","v":0},{"$f":"成績入力!BM165","v":0},{"$f":"成績入力!BN165","v":0}]
[null,14,4,null,5,{"$f":"成績入力!AH166","v":144},{"$f":"成績入力!AI166","v":0},{"$f":"成績入力!AJ166","v":0},14,{"$f":"成績入力!AK166","v":0},{"$f":"成績入力!BM166","v":0},{"$f":"成績入力!BN166","v":0}]
[null,15,4,null,5,{"$f":"成績入力!AH167","v":145},{"$f":"成績入力!AI167","v":0},{"$f":"成績入力!AJ167","v":0},15,{"$f":"成績入力!AK167","v":0},{"$f":"成績入力!BM167","v":0},{"$f":"成績入力!BN167","v":0}]
[null,16,4,null,5,{"$f":"成績入力!AH168","v":146},{"$f":"成績入力!AI168","v":0},{"$f":"成績入力!AJ168","v":0},16,{"$f":"成績入力!AK168","v":0},{"$f":"成績入力!BM168","v":0},{"$f":"成績入力!BN168","v":0}]
[null,17,4,null,5,{"$f":"成績入力!AH169","v":147},{"$f":"成績入力!AI169","v":0},{"$f":"成績入力!AJ169","v":0},17,{"$f":"成績入力!AK169","v":0},{"$f":"成績入力!BM169","v":0},{"$f":"成績入力!BN169","v":0}]
[null,18,4,null,5,{"$f":"成績入力!AH170","v":148},{"$f":"成績入力!AI170","v":0},{"$f":"成績入力!AJ170","v":0},18,{"$f":"成績入力!AK170","v":0},{"$f":"成績入力!BM170","v":0},{"$f":"成績入力!BN170","v":0}]
[null,19,4,null,5,{"$f":"成績入力!AH171","v":149},{"$f":"成績入力!AI171","v":0},{"$f":"成績入力!AJ171","v":0},19,{"$f":"成績入力!AK171","v":0},{"$f":"成績入力!BM171","v":0},{"$f":"成績入力!BN171","v":0}]
[null,20,4,null,5,{"$f":"成績入力!AH172","v":150},{"$f":"成績入力!AI172","v":0},{"$f":"成績入力!AJ172","v":0},20,{"$f":"成績入力!AK172","v":0},{"$f":"成績入力!BM172","v":0},{"$f":"成績入力!BN172","v":0}]
[null,21,4,null,5,{"$f":"成績入力!AH173","v":151},{"$f":"成績入力!AI173","v":0},{"$f":"成績入力!AJ173","v":0},21,{"$f":"成績入力!AK173","v":0},{"$f":"成績入力!BM173","v":0},{"$f":"成績入力!BN173","v":0}]
[null,22,4,null,5,{"$f":"成績入力!AH174","v":152},{"$f":"成績入力!AI174","v":0},{"$f":"成績入力!AJ174","v":0},22,{"$f":"成績入力!AK174","v":0},{"$f":"成績入力!BM174","v":0},{"$f":"成績入力!BN174","v":0}]
[null,23,4,null,5,{"$f":"成績入力!AH175","v":153},{"$f":"成績入力!AI175","v":0},{"$f":"成績入力!AJ175","v":0},23,{"$f":"成績入力!AK175","v":0},{"$f":"成績入力!BM175","v":0},{"$f":"成績入力!BN175","v":0}]
[null,24,4,null,5,{"$f":"成績入力!AH176","v":154},{"$f":"成績入力!AI176","v":0},{"$f":"成績入力!AJ176","v":0},24,{"$f":"成績入力!AK176","v":0},{"$f":"成績入力!BM176","v":0},{"$f":"成績入力!BN176","v":0}]
[null,25,4,null,5,{"$f":"成績入力!AH177","v":155},{"$f":"成績入力!AI177","v":0},{"$f":"成績入力!AJ177","v":0},25,{"$f":"成績入力!AK177","v":0},{"$f":"成績入力!BM177","v":0},{"$f":"成績入力!BN177","v":0}]
[null,26,4,null,5,{"$f":"成績入力!AH178","v":156},{"$f":"成績入力!AI178","v":0},{"$f":"成績入力!AJ178","v":0},26,{"$f":"成績入力!AK178","v":0},{"$f":"成績入力!BM178","v":0},{"$f":"成績入力!BN178","v":0}]
[null,27,4,null,5,{"$f":"成績入力!AH179","v":157},{"$f":"成績入力!AI179","v":0},{"$f":"成績入力!AJ179","v":0},27,{"$f":"成績入力!AK179","v":0},{"$f":"成績入力!BM179","v":0},{"$f":"成績入力!BN179","v":0}]
[null,28,4,null,5,{"$f":"成績入力!AH180","v":158},{"$f":"成績入力!AI180","v":0},{"$f":"成績入力!AJ180","v":0},28,{"$f":"成績入力!AK180","v":0},{"$f":"成績入力!BM180","v":0},{"$f":"成績入力!BN180","v":0}]
[null,29,4,null,5,{"$f":"成績入力!AH181","v":159},{"$f":"成績入力!AI181","v":0},{"$f":"成績入力!AJ181","v":0},29,{"$f":"成績入力!AK181","v":0},{"$f":"成績入力!BM181","v":0},{"$f":"成績入力!BN181","v":0}]
[null,30,4,null,5,{"$f":"成績入力!AH182","v":160},{"$f":"成績入力!AI182","v":0},{"$f":"成績入力!AJ182","v":0},30,{"$f":"成績入力!AK182","v":0},{"$f":"成績入力!BM182","v":0},{"$f":"成績入力!BN182","v":0}]
[null,31,4,null,5,{"$f":"成績入力!AH183","v":161},{"$f":"成績入力!AI183","v":0},{"$f":"成績入力!AJ183","v":0},31,{"$f":"成績入力!AK183","v":0},{"$f":"成績入力!BM183","v":0},{"$f":"成績入力!BN183","v":0}]
[null,32,4,null,5,{"$f":"成績入力!AH184","v":162},{"$f":"成績入力!AI184","v":0},{"$f":"成績入力!AJ184","v":0},32,{"$f":"成績入力!AK184","v":0},{"$f":"成績入力!BM184","v":0},{"$f":"成績入力!BN184","v":0}]
[null,33,{"$f":"IF(AND(K39=K38,L39=L38),C38,C38+1)","v":4},null,{"$f":"RANK(C39,$C$7:$C$56,1)","v":5},{"$f":"成績入力!AH185","v":163},{"$f":"成績入力!AI185","v":0},{"$f":"成績入力!AJ185","v":0},33,{"$f":"成績入力!AK185","v":0},{"$f":"成績入力!BM185","v":0},{"$f":"成績入力!BN185","v":0}]
[null,34,4,null,5,{"$f":"成績入力!AH186","v":164},{"$f":"成績入力!AI186","v":0},{"$f":"成績入力!AJ186","v":0},34,{"$f":"成績入力!AK186","v":0},{"$f":"成績入力!BM186","v":0},{"$f":"成績入力!BN186","v":0}]
[null,35,4,null,5,{"$f":"成績入力!AH187","v":165},{"$f":"成績入力!AI187","v":0},{"$f":"成績入力!AJ187","v":0},35,{"$f":"成績入力!AK187","v":0},{"$f":"成績入力!BM187","v":0},{"$f":"成績入力!BN187","v":0}]
[null,36,4,null,5,{"$f":"成績入力!AH188","v":166},{"$f":"成績入力!AI188","v":0},{"$f":"成績入力!AJ188","v":0},36,{"$f":"成績入力!AK188","v":0},{"$f":"成績入力!BM188","v":0},{"$f":"成績入力!BN188","v":0}]
[null,37,4,null,5,{"$f":"成績入力!AH189","v":167},{"$f":"成績入力!AI189","v":0},{"$f":"成績入力!AJ189","v":0},37,{"$f":"成績入力!AK189","v":0},{"$f":"成績入力!BM189","v":0},{"$f":"成績入力!BN189","v":0}]
[null,38,4,null,5,{"$f":"成績入力!AH190","v":168},{"$f":"成績入力!AI190","v":0},{"$f":"成績入力!AJ190","v":0},38,{"$f":"成績入力!AK190","v":0},{"$f":"成績入力!BM190","v":0},{"$f":"成績入力!BN190","v":0}]
[null,39,4,null,5,{"$f":"成績入力!AH191","v":169},{"$f":"成績入力!AI191","v":0},{"$f":"成績入力!AJ191","v":0},39,{"$f":"成績入力!AK191","v":0},{"$f":"成績入力!BM191","v":0},{"$f":"成績入力!BN191","v":0}]
[null,40,4,null,5,{"$f":"成績入力!AH192","v":170},{"$f":"成績入力!AI192","v":0},{"$f":"成績入力!AJ192","v":0},40,{"$f":"成績入力!AK192","v":0},{"$f":"成績入力!BM192","v":0},{"$f":"成績入力!BN192","v":0}]
[null,41,4,null,5,{"$f":"成績入力!AH193","v":171},{"$f":"成績入力!AI193","v":0},{"$f":"成績入力!AJ193","v":0},41,{"$f":"成績入力!AK193","v":0},{"$f":"成績入力!BM193","v":0},{"$f":"成績入力!BN193","v":0}]
[null,42,4,null,5,{"$f":"成績入力!AH194","v":172},{"$f":"成績入力!AI194","v":0},{"$f":"成績入力!AJ194","v":0},42,{"$f":"成績入力!AK194","v":0},{"$f":"成績入力!BM194","v":0},{"$f":"成績入力!BN194","v":0}]
[null,43,4,null,5,{"$f":"成績入力!AH195","v":173},{"$f":"成績入力!AI195","v":0},{"$f":"成績入力!AJ195","v":0},43,{"$f":"成績入力!AK195","v":0},{"$f":"成績入力!BM195","v":0},{"$f":"成績入力!BN195","v":0}]
[null,44,4,null,5,{"$f":"成績入力!AH196","v":174},{"$f":"成績入力!AI196","v":0},{"$f":"成績入力!AJ196","v":0},44,{"$f":"成績入力!AK196","v":0},{"$f":"成績入力!BM196","v":0},{"$f":"成績入力!BN196","v":0}]
[null,45,4,null,5,{"$f":"成績入力!AH197","v":175},{"$f":"成績入力!AI197","v":0},{"$f":"成績入力!AJ197","v":0},45,{"$f":"成績入力!AK197","v":0},{"$f":"成績入力!BM197","v":0},{"$f":"成績入力!BN197","v":0}]
[null,46,4,null,5,{"$f":"成績入力!AH198","v":176},{"$f":"成績入力!AI198","v":0},{"$f":"成績入力!AJ198","v":0},46,{"$f":"成績入力!AK198","v":0},{"$f":"成績入力!BM198","v":0},{"$f":"成績入力!BN198","v":0}]
[null,47,4,null,5,{"$f":"成績入力!AH199","v":177},{"$f":"成績入力!AI199","v":0},{"$f":"成績入力!AJ199","v":0},47,{"$f":"成績入力!AK199","v":0},{"$f":"成績入力!BM199","v":0},{"$f":"成績入力!BN199","v":0}]
[null,48,4,null,5,{"$f":"成績入力!AH200","v":178},{"$f":"成績入力!AI200","v":0},{"$f":"成績入力!AJ200","v":0},48,{"$f":"成績入力!AK200","v":0},{"$f":"成績入力!BM200","v":0},{"$f":"成績入力!BN200","v":0}]
[null,49,4,null,5,{"$f":"成績入力!AH201","v":179},{"$f":"成績入力!AI201","v":0},{"$f":"成績入力!AJ201","v":0},49,{"$f":"成績入力!AK201","v":0},{"$f":"成績入力!BM201","v":0},{"$f":"成績入力!BN201","v":0}]
[null,50,4,null,5,{"$f":"成績入力!AH202","v":180},{"$f":"成績入力!AI202","v":0},{"$f":"成績入力!AJ202","v":0},50,{"$f":"成績入力!AK202","v":0},{"$f":"成績入力!BM202","v":0},{"$f":"成績入力!BN202","v":0}]

{"sheet":"Ａクラス詳細速報","index":4,"n_rows":72,"n_cols":40,"rows_kept":72,"cut":false,"hidden":false,"merged":[[71,8,71,9],[3,1,4,1],[3,2,4,2],[69,8,69,9],[70,8,70,9]]}
[]
[null,null,null,null,{"$f":"成績入力!$AH$18","v":"Ａ"},"クラス 成績表",null,null,null,null,{"$f":"Ａ速報!$F$2","v":"トレイル・オリエンテーリング 岩槻城址大会"}]
[]
[null,"行番号","仮順位","順位","エントリー","氏　　名","所　　属","不","合計","合計",1,{"$f":"K4+1","v":2},3,4,5,6,7,8,9,10,11,12,13,14,15,16,17,18,19,20,"TC1","TIME","TC２","TIME","減点","C","TC"]
[null,null,null,null,"番号",null,null,"参加","得点","時間",{"$f":"成績入力!AL21","v":"A"},{"$f":"成績入力!AM21","v":"B"},{"$f":"成績入力!AN21","v":"Z"},{"$f":"成績入力!AO21","v":"Z"},{"$f":"成績入力!AP21","v":"B"},{"$f":"成績入力!AQ21","v":"D"},{"$f":"成績入力!AR21","v":"D"},{"$f":"成績入力!AS21","v":"A"},{"$f":"成績入力!AT21","v":"B"},{"$f":"成績入力!AU21","v":"A"},{"$f":"成績入力!AV21","v":"Z"},{"$f":"成績入力!AW21","v":"D"},{"$f":"成績入力!AX21","v":"C"},{"$f":"成績入力!AY21","v":"B"},{"$f":"成績入力!AZ21","v":"Z"},{"$f":"成績入力!BA21","v":"A"},{"$f":"成績入力!BB21","v":"B"},{"$f":"成績入力!BC21","v":0},{"$f":"成績入力!BD21","v":0},{"$f":"成績入力!BE21","v":0},{"$f":"成績入力!BF21","v":"A"},"(秒)",{"$f":"成績入力!$BH$21","v":"C"},"(秒)","ﾀｲﾑｵｰﾊﾞｰ","得点","得点"]
[null,null,null,null,null,0,0,null,0,0,null,null,null,null,null,null,null,null,null,null,null,null,null,null,null,null,null,null,null,null,null,null,null,null,null,0,0]
[null,1,{"$f":"IF(AND(I7=I6,J7=J6),C6,C6+1)","v":1},{"$f":"RANK(C7,$C$7:$C$66,1)","v":1},{"$f":"成績入力!AH53","v":32},{"$f":"成績入力!AI53","v":"山口　拓也"},{"$f":"成績入力!AJ53","v":"浜松OLC"},{"$f":"成績入力!AK53","v":0},{"$f":"成績入力!BM53","v":19},{"$f":"成績入力!BN53","v":30},{"$f":"成績入力!AL53","v":"A"},{"$f":"成績入力!AM53","v":"B"},{"$f":"成績入力!AN53","v":"Z"},{"$f":"成績入力!AO53","v":"Z"},{"$f":"成績入力!AP53","v":"B"},{"$f":"成績入力!AQ53","v":"D"},{"$f":"成績入力!AR53","v":"D"},{"$f":"成績入力!AS53","v":"A"},{"$f":"成績入力!AT53","v":"B"},{"$f":"成績入力!AU53","v":"A"},{"$f":"成績入力!AV53","v":"Z"},{"$f":"成績入力!AW53","v":"D"},{"$f":"成績入力!AX53","v":"C"},{"$f":"成績入力!AY53","v":"B"},{"$f":"成績入力!AZ53","v":"Z"},{"$f":"成績入力!BA53","v":"A"},{"$f":"成績入力!BB53","v":"B"},{"$f":"成績入力!BC53","v":0},{"$f":"成績入力!BD53","v":0},{"$f":"成績入力!BE53","v":0},{"$f":"成績入力!BF53","v":"A"},{"$f":"成績入力!BG53","v":6},{"$f":"成績入力!BH53","v":"C"},{"$f":"成績入力!BI53","v":24},{"$f":"成績入力!BJ53","v":0},{"$f":"成績入力!BK53","v":17},{"$f":"成績入力!BL53","v":2},null,null,22]
[null,{"$f":"B7+1","v":2},{"$f":"IF(AND(I8=I7,J8=J7),C7,C7+1)","v":2},{"$f":"RANK(C8,$C$7:$C$66,1)","v":2},{"$f":"成績入力!AH52","v":31},{"$f":"成績入力!AI52","v":"茅野  耕治"},{"$f":"成績入力!AJ52","v":"ワンダラーズ"},{"$f":"成績入力!AK52","v":0},{"$f":"成績入力!BM52","v":18},{"$f":"成績入力!BN52","v":21},{"$f":"成績入力!AL52","v":"A"},{"$f":"成績入力!AM52","v":"B"},{"$f":"成績入力!AN52","v":"Z"},{"$f":"成績入力!AO52","v":"Z"},{"$f":"成績入力!AP52","v":"B"},{"$f":"成績入力!AQ52","v":"D"},{"$f":"成績入力!AR52","v":"D"},{"$f":"成績入力!AS52","v":"A"},{"$f":"成績入力!AT52","v":"B"},{"$f":"成績入力!AU52","v":"A"},{"$f":"成績入力!AV52","v":"Z"},{"$f":"成績入力!AW52","v":"C"},{"$f":"成績入力!AX52","v":"C"},{"$f":"成績入力!AY52","v":"B"},{"$f":"成績入力!AZ52","v":"Z"},{"$f":"成績入力!BA52","v":"A"},{"$f":"成績入力!BB52","v":"B"},{"$f":"成績入力!BC52","v":0},{"$f":"成績入力!BD52","v":0},{"$f":"成績入力!BE52","v":0},{"$f":"成績入力!BF52","v":"A"},{"$f":"成績入力!BG52","v":12},{"$f":"成績入力!BH52","v":"C"},{"$f":"成績入力!BI52","v":9},{"$f":"成績入力!BJ52","v":0},{"$f":"成績入力!BK52","v":16},{"$f":"成績入力!BL52","v":2},null,null,23]
[null,3,3,{"$f":"RANK(C9,$C$7:$C$66,1)","v":3},{"$f":"成績入力!AH40","v":19},{"$f":"成績入力!AI40","v":"山口　尚宏"},{"$f":"成績入力!AJ40","v":"入間市OLC"},{"$f":"成績入力!AK40","v":0},{"$f":"成績入力!BM40","v":17},{"$f":"成績入力!BN40","v":21},{"$f":"成績入力!AL40","v":"A"},{"$f":"成績入力!AM40","v":"B"},{"$f":"成績入力!AN40","v":"A"},{"$f":"成績入力!AO40","v":"Z"},{"$f":"成績入力!AP40","v":"B"},{"$f":"成績入力!AQ40","v":"E"},{"$f":"成績入力!AR40","v":"D"},{"$f":"成績入力!AS40","v":"A"},{"$f":"成績入力!AT40","v":"B"},{"$f":"成績入力!AU40","v":"A"},{"$f":"成績入力!AV40","v":"Z"},{"$f":"成績入力!AW40","v":"D"},{"$f":"成績入力!AX40","v":"C"},{"$f":"成績入力!AY40","v":"B"},{"$f":"成績入力!AZ40","v":"Z"},{"$f":"成績入力!BA40","v":"A"},{"$f":"成績入力!BB40","v":"B"},{"$f":"成績入力!BC40","v":0},{"$f":"成績入力!BD40","v":0},{"$f":"成績入力!BE40","v":0},{"$f":"成績入力!BF40","v":"A"},{"$f":"成績入力!BG40","v":3},{"$f":"成績入力!BH40","v":"C"},{"$f":"成績入力!BI40","v":18},{"$f":"成績入力!BJ40","v":0},{"$f":"成績入力!BK40","v":15},{"$f":"成績入力!BL40","v":2},null,null,24]
[null,4,4,{"$f":"RANK(C10,$C$7:$C$66,1)","v":4},{"$f":"成績入力!AH50","v":29},{"$f":"成績入力!AI50","v":"我妻　　光"},{"$f":"成績入力!AJ50","v":"東京都"},{"$f":"成績入力!AK50","v":0},{"$f":"成績入力!BM50","v":17},{"$f":"成績入力!BN50","v":36},{"$f":"成績入力!AL50","v":"A"},{"$f":"成績入力!AM50","v":"Z"},{"$f":"成績入力!AN50","v":"Z"},{"$f":"成績入力!AO50","v":"Z"},{"$f":"成績入力!AP50","v":"B"},{"$f":"成績入力!AQ50","v":"D"},{"$f":"成績入力!AR50","v":"D"},{"$f":"成績入力!AS50","v":"A"},{"$f":"成績入力!AT50","v":"B"},{"$f":"成績入力!AU50","v":"A"},{"$f":"成績入力!AV50","v":"Z"},{"$f":"成績入力!AW50","v":"D"},{"$f":"成績入力!AX50","v":"B"},{"$f":"成績入力!AY50","v":"B"},{"$f":"成績入力!AZ50","v":"Z"},{"$f":"成績入力!BA50","v":"A"},{"$f":"成績入力!BB50","v":"B"},{"$f":"成績入力!BC50","v":0},{"$f":"成績入力!BD50","v":0},{"$f":"成績入力!BE50","v":0},{"$f":"成績入力!BF50","v":"A"},{"$f":"成績入力!BG50","v":12},{"$f":"成績入力!BH50","v":"C"},{"$f":"成績入力!BI50","v":24},{"$f":"成績入力!BJ50","v":0},{"$f":"成績入力!BK50","v":15},{"$f":"成績入力!BL50","v":2},null,null,25]
[null,5,4,{"$f":"RANK(C11,$C$7:$C$66,1)","v":4},{"$f":"成績入力!AH57","v":36},{"$f":"成績入力!AI57","v":"大久保　裕介"},{"$f":"成績入力!AJ57","v":"ES関東クラブ"},{"$f":"成績入力!AK57","v":0},{"$f":"成績入力!BM57","v":17},{"$f":"成績入力!BN57","v":36},{"$f":"成績入力!AL57","v":"B"},{"$f":"成績入力!AM57","v":"B"},{"$f":"成績入力!AN57","v":"A"},{"$f":"成績入力!AO57","v":"Z"},{"$f":"成績入力!AP57","v":"B"},{"$f":"成績入力!AQ57","v":"D"},{"$f":"成績入力!AR57","v":"D"},{"$f":"成績入力!AS57","v":"A"},{"$f":"成績入力!AT57","v":"B"},{"$f":"成績入力!AU57","v":"A"},{"$f":"成績入力!AV57","v":"Z"},{"$f":"成績入力!AW57","v":"D"},{"$f":"成績入力!AX57","v":"C"},{"$f":"成績入力!AY57","v":"B"},{"$f":"成績入力!AZ57","v":"Z"},{"$f":"成績入力!BA57","v":"A"},{"$f":"成績入力!BB57","v":"B"},{"$f":"成績入力!BC57","v":0},{"$f":"成績入力!BD57","v":0},{"$f":"成績入力!BE57","v":0},{"$f":"成績入力!BF57","v":"A"},{"$f":"成績入力!BG57","v":2},{"$f":"成績入力!BH57","v":"C"},{"$f":"成績入力!BI57","v":34},{"$f":"成績入力!BJ57","v":0},{"$f":"成績入力!BK57","v":15},{"$f":"成績入力!BL57","v":2},null,null,26]
[null,6,5,{"$f":"RANK(C12,$C$7:$C$66,1)","v":6},{"$f":"成績入力!AH43","v":22},{"$f":"成績入力!AI43","v":"藤島   由宇"},{"$f":"成績入力!AJ43","v":"三条ＯＬＣ"},{"$f":"成績入力!AK43","v":0},{"$f":"成績入力!BM43","v":17},{"$f":"成績入力!BN43","v":42},{"$f":"成績入力!AL43","v":"A"},{"$f":"成績入力!AM43","v":"Z"},{"$f":"成績入力!AN43","v":"Z"},{"$f":"成績入力!AO43","v":"Z"},{"$f":"成績入力!AP43","v":"B"},{"$f":"成績入力!AQ43","v":"D"},{"$f":"成績入力!AR43","v":"D"},{"$f":"成績入力!AS43","v":"A"},{"$f":"成績入力!AT43","v":"B"},{"$f":"成績入力!AU43","v":"A"},{"$f":"成績入力!AV43","v":"Z"},{"$f":"成績入力!AW43","v":"D"},{"$f":"成績入力!AX43","v":"C"},{"$f":"成績入力!AY43","v":"B"},{"$f":"成績入力!AZ43","v":"Z"},{"$f":"成績入力!BA43","v":"A"},{"$f":"成績入力!BB43","v":"C"},{"$f":"成績入力!BC43","v":0},{"$f":"成績入力!BD43","v":0},{"$f":"成績入力!BE43","v":0},{"$f":"成績入力!BF43","v":"A"},{"$f":"成績入力!BG43","v":8},{"$f":"成績入力!BH43","v":"C"},{"$f":"成績入力!BI43","v":34},{"$f":"成績入力!BJ43","v":0},{"$f":"成績入力!BK43","v":15},{"$f":"成績入力!BL43","v":2},null,null,27]
[null,7,6,{"$f":"RANK(C13,$C$7:$C$66,1)","v":7},{"$f":"成績入力!AH42","v":21},{"$f":"成績入力!AI42","v":"佐藤  清一"},{"$f":"成績入力!AJ42","v":"入間市OLC"},{"$f":"成績入力!AK42","v":0},{"$f":"成績入力!BM42","v":17},{"$f":"成績入力!BN42","v":62},{"$f":"成績入力!AL42","v":"A"},{"$f":"成績入力!AM42","v":"B"},{"$f":"成績入力!AN42","v":"A"},{"$f":"成績入力!AO42","v":"Z"},{"$f":"成績入力!AP42","v":"B"},{"$f":"成績入力!AQ42","v":"E"},{"$f":"成績入力!AR42","v":"D"},{"$f":"成績入力!AS42","v":"A"},{"$f":"成績入力!AT42","v":"B"},{"$f":"成績入力!AU42","v":"A"},{"$f":"成績入力!AV42","v":"Z"},{"$f":"成績入力!AW42","v":"D"},{"$f":"成績入力!AX42","v":"C"},{"$f":"成績入力!AY42","v":"B"},{"$f":"成績入力!AZ42","v":"Z"},{"$f":"成績入力!BA42","v":"A"},{"$f":"成績入力!BB42","v":"B"},{"$f":"成績入力!BC42","v":0},{"$f":"成績入力!BD42","v":0},{"$f":"成績入力!BE42","v":0},{"$f":"成績入力!BF42","v":"A"},{"$f":"成績入力!BG42","v":26},{"$f":"成績入力!BH42","v":"C"},{"$f":"成績入力!BI42","v":36},{"$f":"成績入力!BJ42","v":0},{"$f":"成績入力!BK42","v":15},{"$f":"成績入力!BL42","v":2},null,null,28]
[null,8,7,{"$f":"RANK(C14,$C$7:$C$66,1)","v":8},{"$f":"成績入力!AH49","v":28},{"$f":"成績入力!AI49","v":"鈴木  規弘"},{"$f":"成績入力!AJ49","v":"多摩OL"},{"$f":"成績入力!AK49","v":0},{"$f":"成績入力!BM49","v":16},{"$f":"成績入力!BN49","v":17},{"$f":"成績入力!AL49","v":"A"},{"$f":"成績入力!AM49","v":"B"},{"$f":"成績入力!AN49","v":"A"},{"$f":"成績入力!AO49","v":"Z"},{"$f":"成績入力!AP49","v":"B"},{"$f":"成績入力!AQ49","v":"D"},{"$f":"成績入力!AR49","v":"D"},{"$f":"成績入力!AS49","v":"A"},{"$f":"成績入力!AT49","v":"B"},{"$f":"成績入力!AU49","v":"Z"},{"$f":"成績入力!AV49","v":"Z"},{"$f":"成績入力!AW49","v":"Z"},{"$f":"成績入力!AX49","v":"C"},{"$f":"成績入力!AY49","v":"B"},{"$f":"成績入力!AZ49","v":"Z"},{"$f":"成績入力!BA49","v":"A"},{"$f":"成績入力!BB49","v":"B"},{"$f":"成績入力!BC49","v":0},{"$f":"成績入力!BD49","v":0},{"$f":"成績入力!BE49","v":0},{"$f":"成績入力!BF49","v":"A"},{"$f":"成績入力!BG49","v":7},{"$f":"成績入力!BH49","v":"C"},{"$f":"成績入力!BI49","v":10},{"$f":"成績入力!BJ49","v":0},{"$f":"成績入力!BK49","v":14},{"$f":"成績入力!BL49","v":2},null,null,29]
[null,9,8,{"$f":"RANK(C15,$C$7:$C$66,1)","v":9},{"$f":"成績入力!AH32","v":11},{"$f":"成績入力!AI32","v":"小泉  辰喜"},{"$f":"成績入力!AJ32","v":"東京ＯＬクラブ"},{"$f":"成績入力!AK32","v":0},{"$f":"成績入力!BM32","v":16},{"$f":"成績入力!BN32","v":25},{"$f":"成績入力!AL32","v":"A"},{"$f":"成績入力!AM32","v":"B"},{"$f":"成績入力!AN32","v":"Z"},{"$f":"成績入力!AO32","v":"Z"},{"$f":"成績入力!AP32","v":"B"},{"$f":"成績入力!AQ32","v":"E"},{"$f":"成績入力!AR32","v":"D"},{"$f":"成績入力!AS32","v":"B"},{"$f":"成績入力!AT32","v":"B"},{"$f":"成績入力!AU32","v":"A"},{"$f":"成績入力!AV32","v":"Z"},{"$f":"成績入力!AW32","v":"D"},{"$f":"成績入力!AX32","v":"B"},{"$f":"成績入力!AY32","v":"B"},{"$f":"成績入力!AZ32","v":"Z"},{"$f":"成績入力!BA32","v":"A"},{"$f":"成績入力!BB32","v":"B"},{"$f":"成績入力!BC32","v":0},{"$f":"成績入力!BD32","v":0},{"$f":"成績入力!BE32","v":0},{"$f":"成績入力!BF32","v":"A"},{"$f":"成績入力!BG32","v":6},{"$f":"成績入力!BH32","v":"C"},{"$f":"成績入力!BI32","v":19},{"$f":"成績入力!BJ32","v":0},{"$f":"成績入力!BK32","v":14},{"$f":"成績入力!BL32","v":2},null,null,30]
[null,10,9,{"$f":"RANK(C16,$C$7:$C$66,1)","v":10},{"$f":"成績入力!AH29","v":8},{"$f":"成績入力!AI29","v":"田中　徹"},{"$f":"成績入力!AJ29","v":"京葉OLクラブ"},{"$f":"成績入力!AK29","v":0},{"$f":"成績入力!BM29","v":16},{"$f":"成績入力!BN29","v":31},{"$f":"成績入力!AL29","v":"A"},{"$f":"成績入力!AM29","v":"B"},{"$f":"成績入力!AN29","v":"A"},{"$f":"成績入力!AO29","v":"Z"},{"$f":"成績入力!AP29","v":"B"},{"$f":"成績入力!AQ29","v":"D"},{"$f":"成績入力!AR29","v":"C"},{"$f":"成績入力!AS29","v":"A"},{"$f":"成績入力!AT29","v":"B"},{"$f":"成績入力!AU29","v":"A"},{"$f":"成績入力!AV29","v":"Z"},{"$f":"成績入力!AW29","v":"Z"},{"$f":"成績入力!AX29","v":"C"},{"$f":"成績入力!AY29","v":"B"},{"$f":"成績入力!AZ29","v":"Z"},{"$f":"成績入力!BA29","v":"A"},{"$f":"成績入力!BB29","v":"B"},{"$f":"成績入力!BC29","v":0},{"$f":"成績入力!BD29","v":0},{"$f":"成績入力!BE29","v":0},{"$f":"成績入力!BF29","v":"A"},{"$f":"成績入力!BG29","v":3},{"$f":"成績入力!BH29","v":"C"},{"$f":"成績入力!BI29","v":28},{"$f":"成績入力!BJ29","v":0},{"$f":"成績入力!BK29","v":14},{"$f":"成績入力!BL29","v":2},null,null,31]
[null,11,10,{"$f":"RANK(C17,$C$7:$C$66,1)","v":11},{"$f":"成績入力!AH51","v":30},{"$f":"成績入力!AI51","v":"石塚 　脩之"},{"$f":"成績入力!AJ51","v":"横浜OLクラブ"},{"$f":"成績入力!AK51","v":0},{"$f":"成績入力!BM51","v":16},{"$f":"成績入力!BN51","v":44},{"$f":"成績入力!AL51","v":"A"},{"$f":"成績入力!AM51","v":"B"},{"$f":"成績入力!AN51","v":"B"},{"$f":"成績入力!AO51","v":"Z"},{"$f":"成績入力!AP51","v":"B"},{"$f":"成績入力!AQ51","v":"E"},{"$f":"成績入力!AR51","v":"D"},{"$f":"成績入力!AS51","v":"A"},{"$f":"成績入力!AT51","v":"B"},{"$f":"成績入力!AU51","v":"A"},{"$f":"成績入力!AV51","v":"Z"},{"$f":"成績入力!AW51","v":"D"},{"$f":"成績入力!AX51","v":"Z"},{"$f":"成績入力!AY51","v":"B"},{"$f":"成績入力!AZ51","v":"Z"},{"$f":"成績入力!BA51","v":"A"},{"$f":"成績入力!BB51","v":"B"},{"$f":"成績入力!BC51","v":0},{"$f":"成績入力!BD51","v":0},{"$f":"成績入力!BE51","v":0},{"$f":"成績入力!BF51","v":"A"},{"$f":"成績入力!BG51","v":13},{"$f":"成績入力!BH51","v":"C"},{"$f":"成績入力!BI51","v":31},{"$f":"成績入力!BJ51","v":0},{"$f":"成績入力!BK51","v":14},{"$f":"成績入力!BL51","v":2},null,null,32]
[null,12,11,{"$f":"RANK(C18,$C$7:$C$66,1)","v":12},{"$f":"成績入力!AH48","v":27},{"$f":"成績入力!AI48","v":"小橋  昌明"},{"$f":"成績入力!AJ48","v":"東京大学OLK"},{"$f":"成績入力!AK48","v":0},{"$f":"成績入力!BM48","v":16},{"$f":"成績入力!BN48","v":143},{"$f":"成績入力!AL48","v":"A"},{"$f":"成績入力!AM48","v":"B"},{"$f":"成績入力!AN48","v":"Z"},{"$f":"成績入力!AO48","v":"Z"},{"$f":"成績入力!AP48","v":"B"},{"$f":"成績入力!AQ48","v":"D"},{"$f":"成績入力!AR48","v":"D"},{"$f":"成績入力!AS48","v":"A"},{"$f":"成績入力!AT48","v":"B"},{"$f":"成績入力!AU48","v":"A"},{"$f":"成績入力!AV48","v":"Z"},{"$f":"成績入力!AW48","v":"D"},{"$f":"成績入力!AX48","v":"C"},{"$f":"成績入力!AY48","v":"B"},{"$f":"成績入力!AZ48","v":"Z"},{"$f":"成績入力!BA48","v":"A"},{"$f":"成績入力!BB48","v":"C"},{"$f":"成績入力!BC48","v":0},{"$f":"成績入力!BD48","v":0},{"$f":"成績入力!BE48","v":0},{"$f":"成績入力!BF48","v":"A"},{"$f":"成績入力!BG48","v":37},{"$f":"成績入力!BH48","v":"B"},{"$f":"成績入力!BI48","v":46},{"$f":"成績入力!BJ48","v":1},{"$f":"成績入力!BK48","v":16},{"$f":"成績入力!BL48","v":1},null,null,33]
[null,13,12,{"$f":"RANK(C19,$C$7:$C$66,1)","v":13},{"$f":"成績入力!AH33","v":12},{"$f":"成績入力!AI33","v":"高橋  厚"},{"$f":"成績入力!AJ33","v":"多摩OL"},{"$f":"成績入力!AK33","v":0},{"$f":"成績入力!BM33","v":15},{"$f":"成績入力!BN33","v":31},{"$f":"成績入力!AL33","v":"B"},{"$f":"成績入力!AM33","v":"Z"},{"$f":"成績入力!AN33","v":"Z"},{"$f":"成績入力!AO33","v":"Z"},{"$f":"成績入力!AP33","v":"B"},{"$f":"成績入力!AQ33","v":"D"},{"$f":"成績入力!AR33","v":"C"},{"$f":"成績入力!AS33","v":"A"},{"$f":"成績入力!AT33","v":"B"},{"$f":"成績入力!AU33","v":"A"},{"$f":"成績入力!AV33","v":"Z"},{"$f":"成績入力!AW33","v":"D"},{"$f":"成績入力!AX33","v":"C"},{"$f":"成績入力!AY33","v":"B"},{"$f":"成績入力!AZ33","v":"A"},{"$f":"成績入力!BA33","v":"A"},{"$f":"成績入力!BB33","v":"B"},{"$f":"成績入力!BC33","v":0},{"$f":"成績入力!BD33","v":0},{"$f":"成績入力!BE33","v":0},{"$f":"成績入力!BF33","v":"A"},{"$f":"成績入力!BG33","v":12},{"$f":"成績入力!BH33","v":"C"},{"$f":"成績入力!BI33","v":19},{"$f":"成績入力!BJ33","v":0},{"$f":"成績入力!BK33","v":13},{"$f":"成績入力!BL33","v":2},null,null,34]
[null,14,13,{"$f":"RANK(C20,$C$7:$C$66,1)","v":14},{"$f":"成績入力!AH24","v":3},{"$f":"成績入力!AI24","v":"今井  信親"},{"$f":"成績入力!AJ24","v":"ワンダラーズ"},{"$f":"成績入力!AK24","v":0},{"$f":"成績入力!BM24","v":15},{"$f":"成績入力!BN24","v":40},{"$f":"成績入力!AL24","v":"B"},{"$f":"成績入力!AM24","v":"B"},{"$f":"成績入力!AN24","v":"Z"},{"$f":"成績入力!AO24","v":"Z"},{"$f":"成績入力!AP24","v":"B"},{"$f":"成績入力!AQ24","v":"D"},{"$f":"成績入力!AR24","v":"D"},{"$f":"成績入力!AS24","v":"A"},{"$f":"成績入力!AT24","v":"B"},{"$f":"成績入力!AU24","v":"A"},{"$f":"成績入力!AV24","v":"Z"},{"$f":"成績入力!AW24","v":"D"},{"$f":"成績入力!AX24","v":"D"},{"$f":"成績入力!AY24","v":"B"},{"$f":"成績入力!AZ24","v":"A"},{"$f":"成績入力!BA24","v":"A"},{"$f":"成績入力!BB24","v":"C"},{"$f":"成績入力!BC24","v":0},{"$f":"成績入力!BD24","v":0},{"$f":"成績入力!BE24","v":0},{"$f":"成績入力!BF24","v":"A"},{"$f":"成績入力!BG24","v":11},{"$f":"成績入力!BH24","v":"C"},{"$f":"成績入力!BI24","v":29},{"$f":"成績入力!BJ24","v":0},{"$f":"成績入力!BK24","v":13},{"$f":"成績入力!BL24","v":2},null,null,35]
[null,15,14,{"$f":"RANK(C21,$C$7:$C$66,1)","v":15},{"$f":"成績入力!AH39","v":18},{"$f":"成績入力!AI39","v":"坪井　春樹　"},{"$f":"成績入力!AJ39","v":"コンパス"},{"$f":"成績入力!AK39","v":0},{"$f":"成績入力!BM39","v":15},{"$f":"成績入力!BN39","v":75},{"$f":"成績入力!AL39","v":"A"},{"$f":"成績入力!AM39","v":"B"},{"$f":"成績入力!AN39","v":"A"},{"$f":"成績入力!AO39","v":"Z"},{"$f":"成績入力!AP39","v":"B"},{"$f":"成績入力!AQ39","v":"D"},{"$f":"成績入力!AR39","v":"C"},{"$f":"成績入力!AS39","v":"A"},{"$f":"成績入力!AT39","v":"B"},{"$f":"成績入力!AU39","v":"A"},{"$f":"成績入力!AV39","v":"B"},{"$f":"成績入力!AW39","v":"D"},{"$f":"成績入力!AX39","v":"C"},{"$f":"成績入力!AY39","v":"B"},{"$f":"成績入力!AZ39","v":"A"},{"$f":"成績入力!BA39","v":"A"},{"$f":"成績入力!BB39","v":"B"},{"$f":"成績入力!BC39","v":0},{"$f":"成績入力!BD39","v":0},{"$f":"成績入力!BE39","v":0},{"$f":"成績入力!BF39","v":"A"},{"$f":"成績入力!BG39","v":29},{"$f":"成績入力!BH39","v":"C"},{"$f":"成績入力!BI39","v":46},{"$f":"成績入力!BJ39","v":0},{"$f":"成績入力!BK39","v":13},{"$f":"成績入力!BL39","v":2},null,null,36]
[null,16,15,{"$f":"RANK(C22,$C$7:$C$66,1)","v":16},{"$f":"成績入力!AH26","v":5},{"$f":"成績入力!AI26","v":"山口　征矢"},{"$f":"成績入力!AJ26","v":"川口OLC"},{"$f":"成績入力!AK26","v":0},{"$f":"成績入力!BM26","v":15},{"$f":"成績入力!BN26","v":112},{"$f":"成績入力!AL26","v":"B"},{"$f":"成績入力!AM26","v":"B"},{"$f":"成績入力!AN26","v":"A"},{"$f":"成績入力!AO26","v":"Z"},{"$f":"成績入力!AP26","v":"B"},{"$f":"成績入力!AQ26","v":"D"},{"$f":"成績入力!AR26","v":"D"},{"$f":"成績入力!AS26","v":"B"},{"$f":"成績入力!AT26","v":"B"},{"$f":"成績入力!AU26","v":"A"},{"$f":"成績入力!AV26","v":"Z"},{"$f":"成績入力!AW26","v":"D"},{"$f":"成績入力!AX26","v":"C"},{"$f":"成績入力!AY26","v":"B"},{"$f":"成績入力!AZ26","v":"Z"},{"$f":"成績入力!BA26","v":"A"},{"$f":"成績入力!BB26","v":"B"},{"$f":"成績入力!BC26","v":0},{"$f":"成績入力!BD26","v":0},{"$f":"成績入力!BE26","v":0},{"$f":"成績入力!BF26","v":"D"},{"$f":"成績入力!BG26","v":32},{"$f":"成績入力!BH26","v":"C"},{"$f":"成績入力!BI26","v":20},{"$f":"成績入力!BJ26","v":0},{"$f":"成績入力!BK26","v":14},{"$f":"成績入力!BL26","v":1},null,null,37]
[null,17,15,{"$f":"RANK(C23,$C$7:$C$66,1)","v":16},{"$f":"成績入力!AH47","v":26},{"$f":"成績入力!AI47","v":"福田　雅秀"},{"$f":"成績入力!AJ47","v":"川越ＯＬＣ"},{"$f":"成績入力!AK47","v":0},{"$f":"成績入力!BM47","v":15},{"$f":"成績入力!BN47","v":112},{"$f":"成績入力!AL47","v":"B"},{"$f":"成績入力!AM47","v":"B"},{"$f":"成績入力!AN47","v":"B"},{"$f":"成績入力!AO47","v":"Z"},{"$f":"成績入力!AP47","v":"B"},{"$f":"成績入力!AQ47","v":"D"},{"$f":"成績入力!AR47","v":"D"},{"$f":"成績入力!AS47","v":"A"},{"$f":"成績入力!AT47","v":"B"},{"$f":"成績入力!AU47","v":"A"},{"$f":"成績入力!AV47","v":"Z"},{"$f":"成績入力!AW47","v":"D"},{"$f":"成績入力!AX47","v":"B"},{"$f":"成績入力!AY47","v":"B"},{"$f":"成績入力!AZ47","v":"Z"},{"$f":"成績入力!BA47","v":"A"},{"$f":"成績入力!BB47","v":"B"},{"$f":"成績入力!BC47","v":0},{"$f":"成績入力!BD47","v":0},{"$f":"成績入力!BE47","v":0},{"$f":"成績入力!BF47","v":"A"},{"$f":"成績入力!BG47","v":19},{"$f":"成績入力!BH47","v":"B"},{"$f":"成績入力!BI47","v":33},{"$f":"成績入力!BJ47","v":0},{"$f":"成績入力!BK47","v":14},{"$f":"成績入力!BL47","v":1},null,null,38]
[null,18,16,{"$f":"RANK(C24,$C$7:$C$66,1)","v":18},{"$f":"成績入力!AH36","v":15},{"$f":"成績入力!AI36","v":"藤生  考志"},{"$f":"成績入力!AJ36","v":"東京ＯＬクラブ"},{"$f":"成績入力!AK36","v":0},{"$f":"成績入力!BM36","v":15},{"$f":"成績入力!BN36","v":115},{"$f":"成績入力!AL36","v":"A"},{"$f":"成績入力!AM36","v":"B"},{"$f":"成績入力!AN36","v":"A"},{"$f":"成績入力!AO36","v":"Z"},{"$f":"成績入力!AP36","v":"B"},{"$f":"成績入力!AQ36","v":"D"},{"$f":"成績入力!AR36","v":"D"},{"$f":"成績入力!AS36","v":"B"},{"$f":"成績入力!AT36","v":"B"},{"$f":"成績入力!AU36","v":"A"},{"$f":"成績入力!AV36","v":"Z"},{"$f":"成績入力!AW36","v":"D"},{"$f":"成績入力!AX36","v":"C"},{"$f":"成績入力!AY36","v":"B"},{"$f":"成績入力!AZ36","v":"Z"},{"$f":"成績入力!BA36","v":"A"},{"$f":"成績入力!BB36","v":"C"},{"$f":"成績入力!BC36","v":0},{"$f":"成績入力!BD36","v":0},{"$f":"成績入力!BE36","v":0},{"$f":"成績入力!BF36","v":"D"},{"$f":"成績入力!BG36","v":26},{"$f":"成績入力!BH36","v":"C"},{"$f":"成績入力!BI36","v":29},{"$f":"成績入力!BJ36","v":0},{"$f":"成績入力!BK36","v":14},{"$f":"成績入力!BL36","v":1},null,null,39]
[null,19,17,{"$f":"RANK(C25,$C$7:$C$66,1)","v":19},{"$f":"成績入力!AH58","v":37},{"$f":"成績入力!AI58","v":"松橋  徳敏"},{"$f":"成績入力!AJ58","v":"つるまいOLC"},{"$f":"成績入力!AK58","v":0},{"$f":"成績入力!BM58","v":14},{"$f":"成績入力!BN58","v":94},{"$f":"成績入力!AL58","v":"A"},{"$f":"成績入力!AM58","v":"B"},{"$f":"成績入力!AN58","v":"A"},{"$f":"成績入力!AO58","v":"Z"},{"$f":"成績入力!AP58","v":"B"},{"$f":"成績入力!AQ58","v":"E"},{"$f":"成績入力!AR58","v":"D"},{"$f":"成績入力!AS58","v":"Z"},{"$f":"成績入力!AT58","v":"B"},{"$f":"成績入力!AU58","v":"A"},{"$f":"成績入力!AV58","v":"Z"},{"$f":"成績入力!AW58","v":"D"},{"$f":"成績入力!AX58","v":"C"},{"$f":"成績入力!AY58","v":"B"},{"$f":"成績入力!AZ58","v":"Z"},{"$f":"成績入力!BA58","v":"A"},{"$f":"成績入力!BB58","v":"C"},{"$f":"成績入力!BC58","v":0},{"$f":"成績入力!BD58","v":0},{"$f":"成績入力!BE58","v":0},{"$f":"成績入力!BF58","v":"C"},{"$f":"成績入力!BG58","v":11},{"$f":"成績入力!BH58","v":"C"},{"$f":"成績入力!BI58","v":23},{"$f":"成績入力!BJ58","v":0},{"$f":"成績入力!BK58","v":13},{"$f":"成績入力!BL58","v":1},null,null,40]
[null,20,18,{"$f":"RANK(C26,$C$7:$C$66,1)","v":20},{"$f":"成績入力!AH45","v":24},{"$f":"成績入力!AI45","v":"荒井  正敏"},{"$f":"成績入力!AJ45","v":"多摩OL"},{"$f":"成績入力!AK45","v":0},{"$f":"成績入力!BM45","v":14},{"$f":"成績入力!BN45","v":134},{"$f":"成績入力!AL45","v":"B"},{"$f":"成績入力!AM45","v":"B"},{"$f":"成績入力!AN45","v":"A"},{"$f":"成績入力!AO45","v":"Z"},{"$f":"成績入力!AP45","v":"B"},{"$f":"成績入力!AQ45","v":"E"},{"$f":"成績入力!AR45","v":"D"},{"$f":"成績入力!AS45","v":"A"},{"$f":"成績入力!AT45","v":"B"},{"$f":"成績入力!AU45","v":"A"},{"$f":"成績入力!AV45","v":"Z"},{"$f":"成績入力!AW45","v":"D"},{"$f":"成績入力!AX45","v":"C"},{"$f":"成績入力!AY45","v":"B"},{"$f":"成績入力!AZ45","v":"Z"},{"$f":"成績入力!BA45","v":"A"},{"$f":"成績入力!BB45","v":"C"},{"$f":"成績入力!BC45","v":0},{"$f":"成績入力!BD45","v":0},{"$f":"成績入力!BE45","v":0},{"$f":"成績入力!BF45","v":"A"},{"$f":"成績入力!BG45","v":22},{"$f":"成績入力!BH45","v":"D"},{"$f":"成績入力!BI45","v":52},{"$f":"成績入力!BJ45","v":0},{"$f":"成績入力!BK45","v":13},{"$f":"成績入力!BL45","v":1},null,null,41]
[null,21,19,{"$f":"RANK(C27,$C$7:$C$66,1)","v":21},{"$f":"成績入力!AH60","v":39},{"$f":"成績入力!AI60","v":"丸岡　広"},{"$f":"成績入力!AJ60","v":0},{"$f":"成績入力!AK60","v":0},{"$f":"成績入力!BM60","v":14},{"$f":"成績入力!BN60","v":135},{"$f":"成績入力!AL60","v":"A"},{"$f":"成績入力!AM60","v":"B"},{"$f":"成績入力!AN60","v":"Z"},{"$f":"成績入力!AO60","v":"Z"},{"$f":"成績入力!AP60","v":"B"},{"$f":"成績入力!AQ60","v":"E"},{"$f":"成績入力!AR60","v":"D"},{"$f":"成績入力!AS60","v":"A"},{"$f":"成績入力!AT60","v":"B"},{"$f":"成績入力!AU60","v":"A"},{"$f":"成績入力!AV60","v":"Z"},{"$f":"成績入力!AW60","v":"Z"},{"$f":"成績入力!AX60","v":"B"},{"$f":"成績入力!AY60","v":"B"},{"$f":"成績入力!AZ60","v":"Z"},{"$f":"成績入力!BA60","v":"A"},{"$f":"成績入力!BB60","v":"B"},{"$f":"成績入力!BC60","v":0},{"$f":"成績入力!BD60","v":0},{"$f":"成績入力!BE60","v":0},{"$f":"成績入力!BF60","v":"D"},{"$f":"成績入力!BG60","v":10},{"$f":"成績入力!BH60","v":"D"},{"$f":"成績入力!BI60","v":5},{"$f":"成績入力!BJ60","v":0},{"$f":"成績入力!BK60","v":14},{"$f":"成績入力!BL60","v":0},null,null,42]
[null,22,20,{"$f":"RANK(C28,$C$7:$C$66,1)","v":22},{"$f":"成績入力!AH34","v":13},{"$f":"成績入力!AI34","v":"伊藤　清"},{"$f":"成績入力!AJ34","v":"ワンダラーズ"},{"$f":"成績入力!AK34","v":0},{"$f":"成績入力!BM34","v":13},{"$f":"成績入力!BN34","v":64},{"$f":"成績入力!AL34","v":"Z"},{"$f":"成績入力!AM34","v":"Z"},{"$f":"成績入力!AN34","v":"A"},{"$f":"成績入力!AO34","v":"Z"},{"$f":"成績入力!AP34","v":"B"},{"$f":"成績入力!AQ34","v":"E"},{"$f":"成績入力!AR34","v":"D"},{"$f":"成績入力!AS34","v":"A"},{"$f":"成績入力!AT34","v":"B"},{"$f":"成績入力!AU34","v":"A"},{"$f":"成績入力!AV34","v":"Z"},{"$f":"成績入力!AW34","v":"C"},{"$f":"成績入力!AX34","v":"B"},{"$f":"成績入力!AY34","v":"B"},{"$f":"成績入力!AZ34","v":"Z"},{"$f":"成績入力!BA34","v":"A"},{"$f":"成績入力!BB34","v":"B"},{"$f":"成績入力!BC34","v":0},{"$f":"成績入力!BD34","v":0},{"$f":"成績入力!BE34","v":0},{"$f":"成績入力!BF34","v":"A"},{"$f":"成績入力!BG34","v":23},{"$f":"成績入力!BH34","v":"C"},{"$f":"成績入力!BI34","v":41},{"$f":"成績入力!BJ34","v":0},{"$f":"成績入力!BK34","v":11},{"$f":"成績入力!BL34","v":2},null,null,43]
[null,23,21,{"$f":"RANK(C29,$C$7:$C$66,1)","v":23},{"$f":"成績入力!AH41","v":20},{"$f":"成績入力!AI41","v":"久保井  輝政"},{"$f":"成績入力!AJ41","v":"サンスーシ"},{"$f":"成績入力!AK41","v":0},{"$f":"成績入力!BM41","v":13},{"$f":"成績入力!BN41","v":86},{"$f":"成績入力!AL41","v":"B"},{"$f":"成績入力!AM41","v":"B"},{"$f":"成績入力!AN41","v":"Z"},{"$f":"成績入力!AO41","v":"Z"},{"$f":"成績入力!AP41","v":"B"},{"$f":"成績入力!AQ41","v":"D"},{"$f":"成績入力!AR41","v":"Z"},{"$f":"成績入力!AS41","v":"A"},{"$f":"成績入力!AT41","v":"B"},{"$f":"成績入力!AU41","v":"A"},{"$f":"成績入力!AV41","v":"A"},{"$f":"成績入力!AW41","v":"D"},{"$f":"成績入力!AX41","v":"D"},{"$f":"成績入力!AY41","v":"B"},{"$f":"成績入力!AZ41","v":"A"},{"$f":"成績入力!BA41","v":"A"},{"$f":"成績入力!BB41","v":"B"},{"$f":"成績入力!BC41","v":0},{"$f":"成績入力!BD41","v":0},{"$f":"成績入力!BE41","v":0},{"$f":"成績入力!BF41","v":"D"},{"$f":"成績入力!BG41","v":14},{"$f":"成績入力!BH41","v":"C"},{"$f":"成績入力!BI41","v":12},{"$f":"成績入力!BJ41","v":0},{"$f":"成績入力!BK41","v":12},{"$f":"成績入力!BL41","v":1},null,null,44]
[null,24,22,{"$f":"RANK(C30,$C$7:$C$66,1)","v":24},{"$f":"成績入力!AH35","v":14},{"$f":"成績入力!AI35","v":"田代  雅之"},{"$f":"成績入力!AJ35","v":"静岡県"},{"$f":"成績入力!AK35","v":0},{"$f":"成績入力!BM35","v":13},{"$f":"成績入力!BN35","v":99},{"$f":"成績入力!AL35","v":"A"},{"$f":"成績入力!AM35","v":"C"},{"$f":"成績入力!AN35","v":"B"},{"$f":"成績入力!AO35","v":"Z"},{"$f":"成績入力!AP35","v":"B"},{"$f":"成績入力!AQ35","v":"E"},{"$f":"成績入力!AR35","v":"D"},{"$f":"成績入力!AS35","v":"A"},{"$f":"成績入力!AT35","v":"B"},{"$f":"成績入力!AU35","v":"A"},{"$f":"成績入力!AV35","v":"Z"},{"$f":"成績入力!AW35","v":"Z"},{"$f":"成績入力!AX35","v":"C"},{"$f":"成績入力!AY35","v":"B"},{"$f":"成績入力!AZ35","v":"Z"},{"$f":"成績入力!BA35","v":"A"},{"$f":"成績入力!BB35","v":"C"},{"$f":"成績入力!BC35","v":0},{"$f":"成績入力!BD35","v":0},{"$f":"成績入力!BE35","v":0},{"$f":"成績入力!BF35","v":"D"},{"$f":"成績入力!BG35","v":8},{"$f":"成績入力!BH35","v":"C"},{"$f":"成績入力!BI35","v":31},{"$f":"成績入力!BJ35","v":0},{"$f":"成績入力!BK35","v":12},{"$f":"成績入力!BL35","v":1},null,null,45]
[null,25,23,{"$f":"RANK(C31,$C$7:$C$66,1)","v":25},{"$f":"成績入力!AH55","v":34},{"$f":"成績入力!AI55","v":"西山　絵梨香"},{"$f":"成績入力!AJ55","v":"浜松ＯＬＣ"},{"$f":"成績入力!AK55","v":0},{"$f":"成績入力!BM55","v":13},{"$f":"成績入力!BN55","v":109},{"$f":"成績入力!AL55","v":"A"},{"$f":"成績入力!AM55","v":"B"},{"$f":"成績入力!AN55","v":"B"},{"$f":"成績入力!AO55","v":"A"},{"$f":"成績入力!AP55","v":"B"},{"$f":"成績入力!AQ55","v":"C"},{"$f":"成績入力!AR55","v":"C"},{"$f":"成績入力!AS55","v":"A"},{"$f":"成績入力!AT55","v":"B"},{"$f":"成績入力!AU55","v":"A"},{"$f":"成績入力!AV55","v":"Z"},{"$f":"成績入力!AW55","v":"D"},{"$f":"成績入力!AX55","v":"C"},{"$f":"成績入力!AY55","v":"C"},{"$f":"成績入力!AZ55","v":"Z"},{"$f":"成績入力!BA55","v":"A"},{"$f":"成績入力!BB55","v":"B"},{"$f":"成績入力!BC55","v":0},{"$f":"成績入力!BD55","v":0},{"$f":"成績入力!BE55","v":0},{"$f":"成績入力!BF55","v":"D"},{"$f":"成績入力!BG55","v":17},{"$f":"成績入力!BH55","v":"C"},{"$f":"成績入力!BI55","v":32},{"$f":"成績入力!BJ55","v":0},{"$f":"成績入力!BK55","v":12},{"$f":"成績入力!BL55","v":1},null,null,46]
[null,26,24,{"$f":"RANK(C32,$C$7:$C$66,1)","v":26},{"$f":"成績入力!AH31","v":10},{"$f":"成績入力!AI31","v":"田島　三郎"},{"$f":"成績入力!AJ31","v":"入間市ＯＬＣ"},{"$f":"成績入力!AK31","v":0},{"$f":"成績入力!BM31","v":12},{"$f":"成績入力!BN31","v":77},{"$f":"成績入力!AL31","v":"A"},{"$f":"成績入力!AM31","v":"B"},{"$f":"成績入力!AN31","v":"Z"},{"$f":"成績入力!AO31","v":"A"},{"$f":"成績入力!AP31","v":"B"},{"$f":"成績入力!AQ31","v":"D"},{"$f":"成績入力!AR31","v":"Z"},{"$f":"成績入力!AS31","v":"A"},{"$f":"成績入力!AT31","v":"B"},{"$f":"成績入力!AU31","v":"A"},{"$f":"成績入力!AV31","v":"A"},{"$f":"成績入力!AW31","v":"C"},{"$f":"成績入力!AX31","v":"D"},{"$f":"成績入力!AY31","v":"B"},{"$f":"成績入力!AZ31","v":"A"},{"$f":"成績入力!BA31","v":"A"},{"$f":"成績入力!BB31","v":"A"},{"$f":"成績入力!BC31","v":0},{"$f":"成績入力!BD31","v":0},{"$f":"成績入力!BE31","v":0},{"$f":"成績入力!BF31","v":"A"},{"$f":"成績入力!BG31","v":30},{"$f":"成績入力!BH31","v":"C"},{"$f":"成績入力!BI31","v":47},{"$f":"成績入力!BJ31","v":0},{"$f":"成績入力!BK31","v":10},{"$f":"成績入力!BL31","v":2},null,null,47]
[null,27,25,{"$f":"RANK(C33,$C$7:$C$66,1)","v":27},{"$f":"成績入力!AH27","v":6},{"$f":"成績入力!AI27","v":"阿天坊　裕"},{"$f":"成績入力!AJ27","v":"港南OLC"},{"$f":"成績入力!AK27","v":0},{"$f":"成績入力!BM27","v":12},{"$f":"成績入力!BN27","v":92},{"$f":"成績入力!AL27","v":"B"},{"$f":"成績入力!AM27","v":"B"},{"$f":"成績入力!AN27","v":"B"},{"$f":"成績入力!AO27","v":"Z"},{"$f":"成績入力!AP27","v":"B"},{"$f":"成績入力!AQ27","v":"D"},{"$f":"成績入力!AR27","v":"D"},{"$f":"成績入力!AS27","v":"A"},{"$f":"成績入力!AT27","v":"A"},{"$f":"成績入力!AU27","v":"A"},{"$f":"成績入力!AV27","v":"Z"},{"$f":"成績入力!AW27","v":"C"},{"$f":"成績入力!AX27","v":"A"},{"$f":"成績入力!AY27","v":"B"},{"$f":"成績入力!AZ27","v":"A"},{"$f":"成績入力!BA27","v":"A"},{"$f":"成績入力!BB27","v":"B"},{"$f":"成績入力!BC27","v":0},{"$f":"成績入力!BD27","v":0},{"$f":"成績入力!BE27","v":0},{"$f":"成績入力!BF27","v":"A"},{"$f":"成績入力!BG27","v":16},{"$f":"成績入力!BH27","v":"D"},{"$f":"成績入力!BI27","v":16},{"$f":"成績入力!BJ27","v":0},{"$f":"成績入力!BK27","v":11},{"$f":"成績入力!BL27","v":1},null,null,48]
[null,28,26,{"$f":"RANK(C34,$C$7:$C$66,1)","v":28},{"$f":"成績入力!AH59","v":38},{"$f":"成績入力!AI59","v":"横手　義雄"},{"$f":"成績入力!AJ59","v":"入間市OLC"},{"$f":"成績入力!AK59","v":0},{"$f":"成績入力!BM59","v":12},{"$f":"成績入力!BN59","v":109},{"$f":"成績入力!AL59","v":"C"},{"$f":"成績入力!AM59","v":"B"},{"$f":"成績入力!AN59","v":"Z"},{"$f":"成績入力!AO59","v":"A"},{"$f":"成績入力!AP59","v":"B"},{"$f":"成績入力!AQ59","v":"D"},{"$f":"成績入力!AR59","v":"D"},{"$f":"成績入力!AS59","v":"A"},{"$f":"成績入力!AT59","v":"B"},{"$f":"成績入力!AU59","v":"A"},{"$f":"成績入力!AV59","v":"A"},{"$f":"成績入力!AW59","v":"Z"},{"$f":"成績入力!AX59","v":"C"},{"$f":"成績入力!AY59","v":"B"},{"$f":"成績入力!AZ59","v":"A"},{"$f":"成績入力!BA59","v":"Z"},{"$f":"成績入力!BB59","v":"B"},{"$f":"成績入力!BC59","v":0},{"$f":"成績入力!BD59","v":0},{"$f":"成績入力!BE59","v":0},{"$f":"成績入力!BF59","v":"A"},{"$f":"成績入力!BG59","v":31},{"$f":"成績入力!BH59","v":"B"},{"$f":"成績入力!BI59","v":18},{"$f":"成績入力!BJ59","v":0},{"$f":"成績入力!BK59","v":11},{"$f":"成績入力!BL59","v":1},null,null,49]
[null,29,27,{"$f":"RANK(C35,$C$7:$C$66,1)","v":29},{"$f":"成績入力!AH46","v":25},{"$f":"成績入力!AI46","v":"井口　良範"},{"$f":"成績入力!AJ46","v":" 高崎OLC"},{"$f":"成績入力!AK46","v":0},{"$f":"成績入力!BM46","v":12},{"$f":"成績入力!BN46","v":110},{"$f":"成績入力!AL46","v":"A"},{"$f":"成績入力!AM46","v":"B"},{"$f":"成績入力!AN46","v":"A"},{"$f":"成績入力!AO46","v":"A"},{"$f":"成績入力!AP46","v":"B"},{"$f":"成績入力!AQ46","v":"D"},{"$f":"成績入力!AR46","v":"D"},{"$f":"成績入力!AS46","v":"C"},{"$f":"成績入力!AT46","v":"B"},{"$f":"成績入力!AU46","v":"A"},{"$f":"成績入力!AV46","v":"Z"},{"$f":"成績入力!AW46","v":"D"},{"$f":"成績入力!AX46","v":"D"},{"$f":"成績入力!AY46","v":"B"},{"$f":"成績入力!AZ46","v":"A"},{"$f":"成績入力!BA46","v":"A"},{"$f":"成績入力!BB46","v":"D"},{"$f":"成績入力!BC46","v":0},{"$f":"成績入力!BD46","v":0},{"$f":"成績入力!BE46","v":0},{"$f":"成績入力!BF46","v":"A"},{"$f":"成績入力!BG46","v":29},{"$f":"成績入力!BH46","v":"E"},{"$f":"成績入力!BI46","v":21},{"$f":"成績入力!BJ46","v":0},{"$f":"成績入力!BK46","v":11},{"$f":"成績入力!BL46","v":1},null,null,50]
[null,30,28,{"$f":"RANK(C36,$C$7:$C$66,1)","v":30},{"$f":"成績入力!AH37","v":16},{"$f":"成績入力!AI37","v":"高橋  義人"},{"$f":"成績入力!AJ37","v":"八王子市"},{"$f":"成績入力!AK37","v":0},{"$f":"成績入力!BM37","v":12},{"$f":"成績入力!BN37","v":169},{"$f":"成績入力!AL37","v":"A"},{"$f":"成績入力!AM37","v":"B"},{"$f":"成績入力!AN37","v":"B"},{"$f":"成績入力!AO37","v":"Z"},{"$f":"成績入力!AP37","v":"B"},{"$f":"成績入力!AQ37","v":"D"},{"$f":"成績入力!AR37","v":"D"},{"$f":"成績入力!AS37","v":"A"},{"$f":"成績入力!AT37","v":"B"},{"$f":"成績入力!AU37","v":"A"},{"$f":"成績入力!AV37","v":"B"},{"$f":"成績入力!AW37","v":"D"},{"$f":"成績入力!AX37","v":"Z"},{"$f":"成績入力!AY37","v":"B"},{"$f":"成績入力!AZ37","v":"A"},{"$f":"成績入力!BA37","v":"A"},{"$f":"成績入力!BB37","v":"C"},{"$f":"成績入力!BC37","v":0},{"$f":"成績入力!BD37","v":0},{"$f":"成績入力!BE37","v":0},{"$f":"成績入力!BF37","v":"C"},{"$f":"成績入力!BG37","v":13},{"$f":"成績入力!BH37","v":"E"},{"$f":"成績入力!BI37","v":36},{"$f":"成績入力!BJ37","v":0},{"$f":"成績入力!BK37","v":12},{"$f":"成績入力!BL37","v":0},null,null,51]
[null,31,29,{"$f":"RANK(C37,$C$7:$C$66,1)","v":31},{"$f":"成績入力!AH23","v":2},{"$f":"成績入力!AI23","v":"小山  太朗"},{"$f":"成績入力!AJ23","v":"サンスーシ"},{"$f":"成績入力!AK23","v":0},{"$f":"成績入力!BM23","v":11},{"$f":"成績入力!BN23","v":72},{"$f":"成績入力!AL23","v":"Z"},{"$f":"成績入力!AM23","v":"B"},{"$f":"成績入力!AN23","v":"B"},{"$f":"成績入力!AO23","v":"Z"},{"$f":"成績入力!AP23","v":"B"},{"$f":"成績入力!AQ23","v":"D"},{"$f":"成績入力!AR23","v":"E"},{"$f":"成績入力!AS23","v":"B"},{"$f":"成績入力!AT23","v":"B"},{"$f":"成績入力!AU23","v":"Z"},{"$f":"成績入力!AV23","v":"Z"},{"$f":"成績入力!AW23","v":"Z"},{"$f":"成績入力!AX23","v":"C"},{"$f":"成績入力!AY23","v":"B"},{"$f":"成績入力!AZ23","v":"Z"},{"$f":"成績入力!BA23","v":"B"},{"$f":"成績入力!BB23","v":"C"},{"$f":"成績入力!BC23","v":0},{"$f":"成績入力!BD23","v":0},{"$f":"成績入力!BE23","v":0},{"$f":"成績入力!BF23","v":"A"},{"$f":"成績入力!BG23","v":20},{"$f":"成績入力!BH23","v":"C"},{"$f":"成績入力!BI23","v":52},{"$f":"成績入力!BJ23","v":0},{"$f":"成績入力!BK23","v":9},{"$f":"成績入力!BL23","v":2},null,null,52]
[null,32,30,{"$f":"RANK(C38,$C$7:$C$66,1)","v":32},{"$f":"成績入力!AH25","v":4},{"$f":"成績入力!AI25","v":"原野  幸男"},{"$f":"成績入力!AJ25","v":"所沢OLC"},{"$f":"成績入力!AK25","v":0},{"$f":"成績入力!BM25","v":11},{"$f":"成績入力!BN25","v":164},{"$f":"成績入力!AL25","v":"A"},{"$f":"成績入力!AM25","v":"B"},{"$f":"成績入力!AN25","v":"B"},{"$f":"成績入力!AO25","v":"A"},{"$f":"成績入力!AP25","v":"B"},{"$f":"成績入力!AQ25","v":"D"},{"$f":"成績入力!AR25","v":"C"},{"$f":"成績入力!AS25","v":"B"},{"$f":"成績入力!AT25","v":"B"},{"$f":"成績入力!AU25","v":"A"},{"$f":"成績入力!AV25","v":"Z"},{"$f":"成績入力!AW25","v":"Z"},{"$f":"成績入力!AX25","v":"C"},{"$f":"成績入力!AY25","v":"A"},{"$f":"成績入力!AZ25","v":"Z"},{"$f":"成績入力!BA25","v":"A"},{"$f":"成績入力!BB25","v":"B"},{"$f":"成績入力!BC25","v":0},{"$f":"成績入力!BD25","v":0},{"$f":"成績入力!BE25","v":0},{"$f":"成績入力!BF25","v":"D"},{"$f":"成績入力!BG25","v":23},{"$f":"成績入力!BH25","v":"D"},{"$f":"成績入力!BI25","v":21},{"$f":"成績入力!BJ25","v":0},{"$f":"成績入力!BK25","v":11},{"$f":"成績入力!BL25","v":0},null,null,53]
[null,33,31,{"$f":"RANK(C39,$C$7:$C$66,1)","v":33},{"$f":"成績入力!AH22","v":1},{"$f":"成績入力!AI22","v":"大塚   校市"},{"$f":"成績入力!AJ22","v":"千葉OLK　"},{"$f":"成績入力!AK22","v":0},{"$f":"成績入力!BM22","v":11},{"$f":"成績入力!BN22","v":176},{"$f":"成績入力!AL22","v":"B"},{"$f":"成績入力!AM22","v":"B"},{"$f":"成績入力!AN22","v":"A"},{"$f":"成績入力!AO22","v":"A"},{"$f":"成績入力!AP22","v":"B"},{"$f":"成績入力!AQ22","v":"D"},{"$f":"成績入力!AR22","v":"Z"},{"$f":"成績入力!AS22","v":"A"},{"$f":"成績入力!AT22","v":"B"},{"$f":"成績入力!AU22","v":"A"},{"$f":"成績入力!AV22","v":"Z"},{"$f":"成績入力!AW22","v":"C"},{"$f":"成績入力!AX22","v":"C"},{"$f":"成績入力!AY22","v":"B"},{"$f":"成績入力!AZ22","v":"Z"},{"$f":"成績入力!BA22","v":"A"},{"$f":"成績入力!BB22","v":"C"},{"$f":"成績入力!BC22","v":0},{"$f":"成績入力!BD22","v":0},{"$f":"成績入力!BE22","v":0},{"$f":"成績入力!BF22","v":"D"},{"$f":"成績入力!BG22","v":27},{"$f":"成績入力!BH22","v":"D"},{"$f":"成績入力!BI22","v":29},{"$f":"成績入力!BJ22","v":0},{"$f":"成績入力!BK22","v":11},{"$f":"成績入力!BL22","v":0},null,null,54]
[null,{"$f":"B39+1","v":34},32,{"$f":"RANK(C40,$C$7:$C$66,1)","v":34},{"$f":"成績入力!AH30","v":9},{"$f":"成績入力!AI30","v":"高柳　宣幸"},{"$f":"成績入力!AJ30","v":"港南OLC"},{"$f":"成績入力!AK30","v":0},{"$f":"成績入力!BM30","v":10},{"$f":"成績入力!BN30","v":87},{"$f":"成績入力!AL30","v":"B"},{"$f":"成績入力!AM30","v":"B"},{"$f":"成績入力!AN30","v":"A"},{"$f":"成績入力!AO30","v":"Z"},{"$f":"成績入力!AP30","v":"B"},{"$f":"成績入力!AQ30","v":"Z"},{"$f":"成績入力!AR30","v":"E"},{"$f":"成績入力!AS30","v":"A"},{"$f":"成績入力!AT30","v":"B"},{"$f":"成績入力!AU30","v":"A"},{"$f":"成績入力!AV30","v":"B"},{"$f":"成績入力!AW30","v":"D"},{"$f":"成績入力!AX30","v":"D"},{"$f":"成績入力!AY30","v":"B"},{"$f":"成績入力!AZ30","v":"A"},{"$f":"成績入力!BA30","v":"A"},{"$f":"成績入力!BB30","v":"C"},{"$f":"成績入力!BC30","v":0},{"$f":"成績入力!BD30","v":0},{"$f":"成績入力!BE30","v":0},{"$f":"成績入力!BF30","v":"A"},{"$f":"成績入力!BG30","v":10},{"$f":"成績入力!BH30","v":"E"},{"$f":"成績入力!BI30","v":17},{"$f":"成績入力!BJ30","v":0},{"$f":"成績入力!BK30","v":9},{"$f":"成績入力!BL30","v":1},null,null,55]
[null,35,33,{"$f":"RANK(C41,$C$7:$C$66,1)","v":35},{"$f":"成績入力!AH28","v":7},{"$f":"成績入力!AI28","v":"豊島  利男"},{"$f":"成績入力!AJ28","v":"早大ＯＣ寿会"},{"$f":"成績入力!AK28","v":0},{"$f":"成績入力!BM28","v":10},{"$f":"成績入力!BN28","v":196},{"$f":"成績入力!AL28","v":"A"},{"$f":"成績入力!AM28","v":"B"},{"$f":"成績入力!AN28","v":"B"},{"$f":"成績入力!AO28","v":"W"},{"$f":"成績入力!AP28","v":"B"},{"$f":"成績入力!AQ28","v":"D"},{"$f":"成績入力!AR28","v":"E"},{"$f":"成績入力!AS28","v":"A"},{"$f":"成績入力!AT28","v":"B"},{"$f":"成績入力!AU28","v":"A"},{"$f":"成績入力!AV28","v":"B"},{"$f":"成績入力!AW28","v":"Z"},{"$f":"成績入力!AX28","v":"B"},{"$f":"成績入力!AY28","v":"B"},{"$f":"成績入力!AZ28","v":"Z"},{"$f":"成績入力!BA28","v":"A"},{"$f":"成績入力!BB28","v":"D"},{"$f":"成績入力!BC28","v":0},{"$f":"成績入力!BD28","v":0},{"$f":"成績入力!BE28","v":0},{"$f":"成績入力!BF28","v":"D"},{"$f":"成績入力!BG28","v":25},{"$f":"成績入力!BH28","v":"E"},{"$f":"成績入力!BI28","v":51},{"$f":"成績入力!BJ28","v":0},{"$f":"成績入力!BK28","v":10},{"$f":"成績入力!BL28","v":0},null,null,56]
[null,36,34,{"$f":"RANK(C42,$C$7:$C$66,1)","v":36},{"$f":"成績入力!AH54","v":33},{"$f":"成績入力!AI54","v":"水嶋　直子"},{"$f":"成績入力!AJ54","v":"渋谷で走る会"},{"$f":"成績入力!AK54","v":0},{"$f":"成績入力!BM54","v":8},{"$f":"成績入力!BN54","v":91},{"$f":"成績入力!AL54","v":"B"},{"$f":"成績入力!AM54","v":"B"},{"$f":"成績入力!AN54","v":"B"},{"$f":"成績入力!AO54","v":"Z"},{"$f":"成績入力!AP54","v":"B"},{"$f":"成績入力!AQ54","v":"Z"},{"$f":"成績入力!AR54","v":"D"},{"$f":"成績入力!AS54","v":"B"},{"$f":"成績入力!AT54","v":"B"},{"$f":"成績入力!AU54","v":"A"},{"$f":"成績入力!AV54","v":"Z"},{"$f":"成績入力!AW54","v":"C"},{"$f":"成績入力!AX54","v":"B"},{"$f":"成績入力!AY54","v":"A"},{"$f":"成績入力!AZ54","v":"A"},{"$f":"成績入力!BA54","v":"B"},{"$f":"成績入力!BB54","v":"C"},{"$f":"成績入力!BC54","v":0},{"$f":"成績入力!BD54","v":0},{"$f":"成績入力!BE54","v":0},{"$f":"成績入力!BF54","v":"A"},{"$f":"成績入力!BG54","v":16},{"$f":"成績入力!BH54","v":"B"},{"$f":"成績入力!BI54","v":15},{"$f":"成績入力!BJ54","v":0},{"$f":"成績入力!BK54","v":7},{"$f":"成績入力!BL54","v":1},null,null,57]
[null,37,35,{"$f":"RANK(C43,$C$7:$C$66,1)","v":37},{"$f":"成績入力!AH38","v":17},{"$f":"成績入力!AI38","v":"平島   勝彦"},{"$f":"成績入力!AJ38","v":"入間市OLC"},{"$f":"成績入力!AK38","v":0},{"$f":"成績入力!BM38","v":8},{"$f":"成績入力!BN38","v":166},{"$f":"成績入力!AL38","v":"W"},{"$f":"成績入力!AM38","v":"W"},{"$f":"成績入力!AN38","v":"Z"},{"$f":"成績入力!AO38","v":"A"},{"$f":"成績入力!AP38","v":"B"},{"$f":"成績入力!AQ38","v":"D"},{"$f":"成績入力!AR38","v":"D"},{"$f":"成績入力!AS38","v":"A"},{"$f":"成績入力!AT38","v":"B"},{"$f":"成績入力!AU38","v":"Z"},{"$f":"成績入力!AV38","v":"B"},{"$f":"成績入力!AW38","v":"C"},{"$f":"成績入力!AX38","v":"C"},{"$f":"成績入力!AY38","v":"B"},{"$f":"成績入力!AZ38","v":"A"},{"$f":"成績入力!BA38","v":"B"},{"$f":"成績入力!BB38","v":"D"},{"$f":"成績入力!BC38","v":0},{"$f":"成績入力!BD38","v":0},{"$f":"成績入力!BE38","v":0},{"$f":"成績入力!BF38","v":"E"},{"$f":"成績入力!BG38","v":19},{"$f":"成績入力!BH38","v":"D"},{"$f":"成績入力!BI38","v":27},{"$f":"成績入力!BJ38","v":0},{"$f":"成績入力!BK38","v":8},{"$f":"成績入力!BL38","v":0},null,null,58]
[null,38,36,{"$f":"RANK(C44,$C$7:$C$66,1)","v":38},{"$f":"成績入力!AH56","v":35},{"$f":"成績入力!AI56","v":"田口　敏夫"},{"$f":"成績入力!AJ56","v":"川越ＯＬＣ"},{"$f":"成績入力!AK56","v":0},{"$f":"成績入力!BM56","v":6},{"$f":"成績入力!BN56","v":169},{"$f":"成績入力!AL56","v":"C"},{"$f":"成績入力!AM56","v":"A"},{"$f":"成績入力!AN56","v":"B"},{"$f":"成績入力!AO56","v":"W"},{"$f":"成績入力!AP56","v":"B"},{"$f":"成績入力!AQ56","v":"D"},{"$f":"成績入力!AR56","v":"C"},{"$f":"成績入力!AS56","v":"C"},{"$f":"成績入力!AT56","v":"B"},{"$f":"成績入力!AU56","v":"W"},{"$f":"成績入力!AV56","v":"A"},{"$f":"成績入力!AW56","v":"D"},{"$f":"成績入力!AX56","v":"W"},{"$f":"成績入力!AY56","v":"B"},{"$f":"成績入力!AZ56","v":"A"},{"$f":"成績入力!BA56","v":"B"},{"$f":"成績入力!BB56","v":"B"},{"$f":"成績入力!BC56","v":0},{"$f":"成績入力!BD56","v":0},{"$f":"成績入力!BE56","v":0},{"$f":"成績入力!BF56","v":"C"},{"$f":"成績入力!BG56","v":14},{"$f":"成績入力!BH56","v":"D"},{"$f":"成績入力!BI56","v":35},{"$f":"成績入力!BJ56","v":0},{"$f":"成績入力!BK56","v":6},{"$f":"成績入力!BL56","v":0},null,null,59]
[null,39,37,{"$f":"RANK(C45,$C$7:$C$66,1)","v":39},{"$f":"成績入力!AH44","v":23},{"$f":"成績入力!AI44","v":0},{"$f":"成績入力!AJ44","v":0},{"$f":"成績入力!AK44","v":0},{"$f":"成績入力!BM44","v":0},{"$f":"成績入力!BN44","v":0},{"$f":"成績入力!AL44","v":0},{"$f":"成績入力!AM44","v":0},{"$f":"成績入力!AN44","v":0},{"$f":"成績入力!AO44","v":0},{"$f":"成績入力!AP44","v":0},{"$f":"成績入力!AQ44","v":0},{"$f":"成績入力!AR44","v":0},{"$f":"成績入力!AS44","v":0},{"$f":"成績入力!AT44","v":0},{"$f":"成績入力!AU44","v":0},{"$f":"成績入力!AV44","v":0},{"$f":"成績入力!AW44","v":0},{"$f":"成績入力!AX44","v":0},{"$f":"成績入力!AY44","v":0},{"$f":"成績入力!AZ44","v":0},{"$f":"成績入力!BA44","v":0},{"$f":"成績入力!BB44","v":0},{"$f":"成績入力!BC44","v":0},{"$f":"成績入力!BD44","v":0},{"$f":"成績入力!BE44","v":0},{"$f":"成績入力!BF44","v":0},{"$f":"成績入力!BG44","v":0},{"$f":"成績入力!BH44","v":0},{"$f":"成績入力!BI44","v":0},{"$f":"成績入力!BJ44","v":0},{"$f":"成績入力!BK44","v":0},{"$f":"成績入力!BL44","v":0},null,null,60]
[null,40,37,{"$f":"RANK(C46,$C$7:$C$66,1)","v":39},{"$f":"成績入力!AH61","v":40},{"$f":"成績入力!AI61","v":0},{"$f":"成績入力!AJ61","v":0},{"$f":"成績入力!AK61","v":0},{"$f":"成績入力!BM61","v":0},{"$f":"成績入力!BN61","v":0},{"$f":"成績入力!AL61","v":0},{"$f":"成績入力!AM61","v":0},{"$f":"成績入力!AN61","v":0},{"$f":"成績入力!AO61","v":0},{"$f":"成績入力!AP61","v":0},{"$f":"成績入力!AQ61","v":0},{"$f":"成績入力!AR61","v":0},{"$f":"成績入力!AS61","v":0},{"$f":"成績入力!AT61","v":0},{"$f":"成績入力!AU61","v":0},{"$f":"成績入力!AV61","v":0},{"$f":"成績入力!AW61","v":0},{"$f":"成績入力!AX61","v":0},{"$f":"成績入力!AY61","v":0},{"$f":"成績入力!AZ61","v":0},{"$f":"成績入力!BA61","v":0},{"$f":"成績入力!BB61","v":0},{"$f":"成績入力!BC61","v":0},{"$f":"成績入力!BD61","v":0},{"$f":"成績入力!BE61","v":0},{"$f":"成績入力!BF61","v":0},{"$f":"成績入力!BG61","v":0},{"$f":"成績入力!BH61","v":0},{"$f":"成績入力!BI61","v":0},{"$f":"成績入力!BJ61","v":0},{"$f":"成績入力!BK61","v":0},{"$f":"成績入力!BL61","v":0},null,null,61]
[null,41,37,{"$f":"RANK(C47,$C$7:$C$66,1)","v":39},{"$f":"成績入力!AH62","v":41},{"$f":"成績入力!AI62","v":0},{"$f":"成績入力!AJ62","v":0},{"$f":"成績入力!AK62","v":0},{"$f":"成績入力!BM62","v":0},{"$f":"成績入力!BN62","v":0},{"$f":"成績入力!AL62","v":0},{"$f":"成績入力!AM62","v":0},{"$f":"成績入力!AN62","v":0},{"$f":"成績入力!AO62","v":0},{"$f":"成績入力!AP62","v":0},{"$f":"成績入力!AQ62","v":0},{"$f":"成績入力!AR62","v":0},{"$f":"成績入力!AS62","v":0},{"$f":"成績入力!AT62","v":0},{"$f":"成績入力!AU62","v":0},{"$f":"成績入力!AV62","v":0},{"$f":"成績入力!AW62","v":0},{"$f":"成績入力!AX62","v":0},{"$f":"成績入力!AY62","v":0},{"$f":"成績入力!AZ62","v":0},{"$f":"成績入力!BA62","v":0},{"$f":"成績入力!BB62","v":0},{"$f":"成績入力!BC62","v":0},{"$f":"成績入力!BD62","v":0},{"$f":"成績入力!BE62","v":0},{"$f":"成績入力!BF62","v":0},{"$f":"成績入力!BG62","v":0},{"$f":"成績入力!BH62","v":0},{"$f":"成績入力!BI62","v":0},{"$f":"成績入力!BJ62","v":0},{"$f":"成績入力!BK62","v":0},{"$f":"成績入力!BL62","v":0},null,null,62]
[null,42,37,{"$f":"RANK(C48,$C$7:$C$66,1)","v":39},{"$f":"成績入力!AH63","v":42},{"$f":"成績入力!AI63","v":0},{"$f":"成績入力!AJ63","v":0},{"$f":"成績入力!AK63","v":0},{"$f":"成績入力!BM63","v":0},{"$f":"成績入力!BN63","v":0},{"$f":"成績入力!AL63","v":0},{"$f":"成績入力!AM63","v":0},{"$f":"成績入力!AN63","v":0},{"$f":"成績入力!AO63","v":0},{"$f":"成績入力!AP63","v":0},{"$f":"成績入力!AQ63","v":0},{"$f":"成績入力!AR63","v":0},{"$f":"成績入力!AS63","v":0},{"$f":"成績入力!AT63","v":0},{"$f":"成績入力!AU63","v":0},{"$f":"成績入力!AV63","v":0},{"$f":"成績入力!AW63","v":0},{"$f":"成績入力!AX63","v":0},{"$f":"成績入力!AY63","v":0},{"$f":"成績入力!AZ63","v":0},{"$f":"成績入力!BA63","v":0},{"$f":"成績入力!BB63","v":0},{"$f":"成績入力!BC63","v":0},{"$f":"成績入力!BD63","v":0},{"$f":"成績入力!BE63","v":0},{"$f":"成績入力!BF63","v":0},{"$f":"成績入力!BG63","v":0},{"$f":"成績入力!BH63","v":0},{"$f":"成績入力!BI63","v":0},{"$f":"成績入力!BJ63","v":0},{"$f":"成績入力!BK63","v":0},{"$f":"成績入力!BL63","v":0},null,null,63]
[null,43,37,{"$f":"RANK(C49,$C$7:$C$66,1)","v":39},{"$f":"成績入力!AH64","v":43},{"$f":"成績入力!AI64","v":0},{"$f":"成績入力!AJ64","v":0},{"$f":"成績入力!AK64","v":0},{"$f":"成績入力!BM64","v":0},{"$f":"成績入力!BN64","v":0},{"$f":"成績入力!AL64","v":0},{"$f":"成績入力!AM64","v":0},{"$f":"成績入力!AN64","v":0},{"$f":"成績入力!AO64","v":0},{"$f":"成績入力!AP64","v":0},{"$f":"成績入力!AQ64","v":0},{"$f":"成績入力!AR64","v":0},{"$f":"成績入力!AS64","v":0},{"$f":"成績入力!AT64","v":0},{"$f":"成績入力!AU64","v":0},{"$f":"成績入力!AV64","v":0},{"$f":"成績入力!AW64","v":0},{"$f":"成績入力!AX64","v":0},{"$f":"成績入力!AY64","v":0},{"$f":"成績入力!AZ64","v":0},{"$f":"成績入力!BA64","v":0},{"$f":"成績入力!BB64","v":0},{"$f":"成績入力!BC64","v":0},{"$f":"成績入力!BD64","v":0},{"$f":"成績入力!BE64","v":0},{"$f":"成績入力!BF64","v":0},{"$f":"成績入力!BG64","v":0},{"$f":"成績入力!BH64","v":0},{"$f":"成績入力!BI64","v":0},{"$f":"成績入力!BJ64","v":0},{"$f":"成績入力!BK64","v":0},{"$f":"成績入力!BL64","v":0},null,null,64]
[null,44,37,{"$f":"RANK(C50,$C$7:$C$66,1)","v":39},{"$f":"成績入力!AH65","v":44},{"$f":"成績入力!AI65","v":0},{"$f":"成績入力!AJ65","v":0},{"$f":"成績入力!AK65","v":0},{"$f":"成績入力!BM65","v":0},{"$f":"成績入力!BN65","v":0},{"$f":"成績入力!AL65","v":0},{"$f":"成績入力!AM65","v":0},{"$f":"成績入力!AN65","v":0},{"$f":"成績入力!AO65","v":0},{"$f":"成績入力!AP65","v":0},{"$f":"成績入力!AQ65","v":0},{"$f":"成績入力!AR65","v":0},{"$f":"成績入力!AS65","v":0},{"$f":"成績入力!AT65","v":0},{"$f":"成績入力!AU65","v":0},{"$f":"成績入力!AV65","v":0},{"$f":"成績入力!AW65","v":0},{"$f":"成績入力!AX65","v":0},{"$f":"成績入力!AY65","v":0},{"$f":"成績入力!AZ65","v":0},{"$f":"成績入力!BA65","v":0},{"$f":"成績入力!BB65","v":0},{"$f":"成績入力!BC65","v":0},{"$f":"成績入力!BD65","v":0},{"$f":"成績入力!BE65","v":0},{"$f":"成績入力!BF65","v":0},{"$f":"成績入力!BG65","v":0},{"$f":"成績入力!BH65","v":0},{"$f":"成績入力!BI65","v":0},{"$f":"成績入力!BJ65","v":0},{"$f":"成績入力!BK65","v":0},{"$f":"成績入力!BL65","v":0},null,null,65]
[null,45,37,{"$f":"RANK(C51,$C$7:$C$66,1)","v":39},{"$f":"成績入力!AH66","v":45},{"$f":"成績入力!AI66","v":0},{"$f":"成績入力!AJ66","v":0},{"$f":"成績入力!AK66","v":0},{"$f":"成績入力!BM66","v":0},{"$f":"成績入力!BN66","v":0},{"$f":"成績入力!AL66","v":0},{"$f":"成績入力!AM66","v":0},{"$f":"成績入力!AN66","v":0},{"$f":"成績入力!AO66","v":0},{"$f":"成績入力!AP66","v":0},{"$f":"成績入力!AQ66","v":0},{"$f":"成績入力!AR66","v":0},{"$f":"成績入力!AS66","v":0},{"$f":"成績入力!AT66","v":0},{"$f":"成績入力!AU66","v":0},{"$f":"成績入力!AV66","v":0},{"$f":"成績入力!AW66","v":0},{"$f":"成績入力!AX66","v":0},{"$f":"成績入力!AY66","v":0},{"$f":"成績入力!AZ66","v":0},{"$f":"成績入力!BA66","v":0},{"$f":"成績入力!BB66","v":0},{"$f":"成績入力!BC66","v":0},{"$f":"成績入力!BD66","v":0},{"$f":"成績入力!BE66","v":0},{"$f":"成績入力!BF66","v":0},{"$f":"成績入力!BG66","v":0},{"$f":"成績入力!BH66","v":0},{"$f":"成績入力!BI66","v":0},{"$f":"成績入力!BJ66","v":0},{"$f":"成績入力!BK66","v":0},{"$f":"成績入力!BL66","v":0},null,null,66]
[null,46,37,{"$f":"RANK(C52,$C$7:$C$66,1)","v":39},{"$f":"成績入力!AH67","v":46},{"$f":"成績入力!AI67","v":0},{"$f":"成績入力!AJ67","v":0},{"$f":"成績入力!AK67","v":0},{"$f":"成績入力!BM67","v":0},{"$f":"成績入力!BN67","v":0},{"$f":"成績入力!AL67","v":0},{"$f":"成績入力!AM67","v":0},{"$f":"成績入力!AN67","v":0},{"$f":"成績入力!AO67","v":0},{"$f":"成績入力!AP67","v":0},{"$f":"成績入力!AQ67","v":0},{"$f":"成績入力!AR67","v":0},{"$f":"成績入力!AS67","v":0},{"$f":"成績入力!AT67","v":0},{"$f":"成績入力!AU67","v":0},{"$f":"成績入力!AV67","v":0},{"$f":"成績入力!AW67","v":0},{"$f":"成績入力!AX67","v":0},{"$f":"成績入力!AY67","v":0},{"$f":"成績入力!AZ67","v":0},{"$f":"成績入力!BA67","v":0},{"$f":"成績入力!BB67","v":0},{"$f":"成績入力!BC67","v":0},{"$f":"成績入力!BD67","v":0},{"$f":"成績入力!BE67","v":0},{"$f":"成績入力!BF67","v":0},{"$f":"成績入力!BG67","v":0},{"$f":"成績入力!BH67","v":0},{"$f":"成績入力!BI67","v":0},{"$f":"成績入力!BJ67","v":0},{"$f":"成績入力!BK67","v":0},{"$f":"成績入力!BL67","v":0},null,null,67]
[null,47,37,{"$f":"RANK(C53,$C$7:$C$66,1)","v":39},{"$f":"成績入力!AH68","v":47},{"$f":"成績入力!AI68","v":0},{"$f":"成績入力!AJ68","v":0},{"$f":"成績入力!AK68","v":0},{"$f":"成績入力!BM68","v":0},{"$f":"成績入力!BN68","v":0},{"$f":"成績入力!AL68","v":0},{"$f":"成績入力!AM68","v":0},{"$f":"成績入力!AN68","v":0},{"$f":"成績入力!AO68","v":0},{"$f":"成績入力!AP68","v":0},{"$f":"成績入力!AQ68","v":0},{"$f":"成績入力!AR68","v":0},{"$f":"成績入力!AS68","v":0},{"$f":"成績入力!AT68","v":0},{"$f":"成績入力!AU68","v":0},{"$f":"成績入力!AV68","v":0},{"$f":"成績入力!AW68","v":0},{"$f":"成績入力!AX68","v":0},{"$f":"成績入力!AY68","v":0},{"$f":"成績入力!AZ68","v":0},{"$f":"成績入力!BA68","v":0},{"$f":"成績入力!BB68","v":0},{"$f":"成績入力!BC68","v":0},{"$f":"成績入力!BD68","v":0},{"$f":"成績入力!BE68","v":0},{"$f":"成績入力!BF68","v":0},{"$f":"成績入力!BG68","v":0},{"$f":"成績入力!BH68","v":0},{"$f":"成績入力!BI68","v":0},{"$f":"成績入力!BJ68","v":0},{"$f":"成績入力!BK68","v":0},{"$f":"成績入力!BL68","v":0},null,null,68]
[null,48,37,{"$f":"RANK(C54,$C$7:$C$66,1)","v":39},{"$f":"成績入力!AH69","v":48},{"$f":"成績入力!AI69","v":0},{"$f":"成績入力!AJ69","v":0},{"$f":"成績入力!AK69","v":0},{"$f":"成績入力!BM69","v":0},{"$f":"成績入力!BN69","v":0},{"$f":"成績入力!AL69","v":0},{"$f":"成績入力!AM69","v":0},{"$f":"成績入力!AN69","v":0},{"$f":"成績入力!AO69","v":0},{"$f":"成績入力!AP69","v":0},{"$f":"成績入力!AQ69","v":0},{"$f":"成績入力!AR69","v":0},{"$f":"成績入力!AS69","v":0},{"$f":"成績入力!AT69","v":0},{"$f":"成績入力!AU69","v":0},{"$f":"成績入力!AV69","v":0},{"$f":"成績入力!AW69","v":0},{"$f":"成績入力!AX69","v":0},{"$f":"成績入力!AY69","v":0},{"$f":"成績入力!AZ69","v":0},{"$f":"成績入力!BA69","v":0},{"$f":"成績入力!BB69","v":0},{"$f":"成績入力!BC69","v":0},{"$f":"成績入力!BD69","v":0},{"$f":"成績入力!BE69","v":0},{"$f":"成績入力!BF69","v":0},{"$f":"成績入力!BG69","v":0},{"$f":"成績入力!BH69","v":0},{"$f":"成績入力!BI69","v":0},{"$f":"成績入力!BJ69","v":0},{"$f":"成績入力!BK69","v":0},{"$f":"成績入力!BL69","v":0},null,null,69]
[null,49,37,{"$f":"RANK(C55,$C$7:$C$66,1)","v":39},{"$f":"成績入力!AH70","v":49},{"$f":"成績入力!AI70","v":0},{"$f":"成績入力!AJ70","v":0},{"$f":"成績入力!AK70","v":0},{"$f":"成績入力!BM70","v":0},{"$f":"成績入力!BN70","v":0},{"$f":"成績入力!AL70","v":0},{"$f":"成績入力!AM70","v":0},{"$f":"成績入力!AN70","v":0},{"$f":"成績入力!AO70","v":0},{"$f":"成績入力!AP70","v":0},{"$f":"成績入力!AQ70","v":0},{"$f":"成績入力!AR70","v":0},{"$f":"成績入力!AS70","v":0},{"$f":"成績入力!AT70","v":0},{"$f":"成績入力!AU70","v":0},{"$f":"成績入力!AV70","v":0},{"$f":"成績入力!AW70","v":0},{"$f":"成績入力!AX70","v":0},{"$f":"成績入力!AY70","v":0},{"$f":"成績入力!AZ70","v":0},{"$f":"成績入力!BA70","v":0},{"$f":"成績入力!BB70","v":0},{"$f":"成績入力!BC70","v":0},{"$f":"成績入力!BD70","v":0},{"$f":"成績入力!BE70","v":0},{"$f":"成績入力!BF70","v":0},{"$f":"成績入力!BG70","v":0},{"$f":"成績入力!BH70","v":0},{"$f":"成績入力!BI70","v":0},{"$f":"成績入力!BJ70","v":0},{"$f":"成績入力!BK70","v":0},{"$f":"成績入力!BL70","v":0},null,null,70]
[null,50,37,{"$f":"RANK(C56,$C$7:$C$66,1)","v":39},{"$f":"成績入力!AH71","v":50},{"$f":"成績入力!AI71","v":0},{"$f":"成績入力!AJ71","v":0},{"$f":"成績入力!AK71","v":0},{"$f":"成績入力!BM71","v":0},{"$f":"成績入力!BN71","v":0},{"$f":"成績入力!AL71","v":0},{"$f":"成績入力!AM71","v":0},{"$f":"成績入力!AN71","v":0},{"$f":"成績入力!AO71","v":0},{"$f":"成績入力!AP71","v":0},{"$f":"成績入力!AQ71","v":0},{"$f":"成績入力!AR71","v":0},{"$f":"成績入力!AS71","v":0},{"$f":"成績入力!AT71","v":0},{"$f":"成績入力!AU71","v":0},{"$f":"成績入力!AV71","v":0},{"$f":"成績入力!AW71","v":0},{"$f":"成績入力!AX71","v":0},{"$f":"成績入力!AY71","v":0},{"$f":"成績入力!AZ71","v":0},{"$f":"成績入力!BA71","v":0},{"$f":"成績入力!BB71","v":0},{"$f":"成績入力!BC71","v":0},{"$f":"成績入力!BD71","v":0},{"$f":"成績入力!BE71","v":0},{"$f":"成績入力!BF71","v":0},{"$f":"成績入力!BG71","v":0},{"$f":"成績入力!BH71","v":0},{"$f":"成績入力!BI71","v":0},{"$f":"成績入力!BJ71","v":0},{"$f":"成績入力!BK71","v":0},{"$f":"成績入力!BL71","v":0},null,null,71]
[null,51,37,{"$f":"RANK(C57,$C$7:$C$66,1)","v":39},{"$f":"成績入力!AH72","v":51},{"$f":"成績入力!AI72","v":0},{"$f":"成績入力!AJ72","v":0},{"$f":"成績入力!AK72","v":0},{"$f":"成績入力!BM72","v":0},{"$f":"成績入力!BN72","v":0},{"$f":"成績入力!AL72","v":0},{"$f":"成績入力!AM72","v":0},{"$f":"成績入力!AN72","v":0},{"$f":"成績入力!AO72","v":0},{"$f":"成績入力!AP72","v":0},{"$f":"成績入力!AQ72","v":0},{"$f":"成績入力!AR72","v":0},{"$f":"成績入力!AS72","v":0},{"$f":"成績入力!AT72","v":0},{"$f":"成績入力!AU72","v":0},{"$f":"成績入力!AV72","v":0},{"$f":"成績入力!AW72","v":0},{"$f":"成績入力!AX72","v":0},{"$f":"成績入力!AY72","v":0},{"$f":"成績入力!AZ72","v":0},{"$f":"成績入力!BA72","v":0},{"$f":"成績入力!BB72","v":0},{"$f":"成績入力!BC72","v":0},{"$f":"成績入力!BD72","v":0},{"$f":"成績入力!BE72","v":0},{"$f":"成績入力!BF72","v":0},{"$f":"成績入力!BG72","v":0},{"$f":"成績入力!BH72","v":0},{"$f":"成績入力!BI72","v":0},{"$f":"成績入力!BJ72","v":0},{"$f":"成績入力!BK72","v":0},{"$f":"成績入力!BL72","v":0},null,null,72]
[null,52,37,{"$f":"RANK(C58,$C$7:$C$66,1)","v":39},{"$f":"成績入力!AH73","v":52},{"$f":"成績入力!AI73","v":0},{"$f":"成績入力!AJ73","v":0},{"$f":"成績入力!AK73","v":0},{"$f":"成績入力!BM73","v":0},{"$f":"成績入力!BN73","v":0},{"$f":"成績入力!AL73","v":0},{"$f":"成績入力!AM73","v":0},{"$f":"成績入力!AN73","v":0},{"$f":"成績入力!AO73","v":0},{"$f":"成績入力!AP73","v":0},{"$f":"成績入力!AQ73","v":0},{"$f":"成績入力!AR73","v":0},{"$f":"成績入力!AS73","v":0},{"$f":"成績入力!AT73","v":0},{"$f":"成績入力!AU73","v":0},{"$f":"成績入力!AV73","v":0},{"$f":"成績入力!AW73","v":0},{"$f":"成績入力!AX73","v":0},{"$f":"成績入力!AY73","v":0},{"$f":"成績入力!AZ73","v":0},{"$f":"成績入力!BA73","v":0},{"$f":"成績入力!BB73","v":0},{"$f":"成績入力!BC73","v":0},{"$f":"成績入力!BD73","v":0},{"$f":"成績入力!BE73","v":0},{"$f":"成績入力!BF73","v":0},{"$f":"成績入力!BG73","v":0},{"$f":"成績入力!BH73","v":0},{"$f":"成績入力!BI73","v":0},{"$f":"成績入力!BJ73","v":0},{"$f":"成績入力!BK73","v":0},{"$f":"成績入力!BL73","v":0},null,null,73]
[null,53,37,{"$f":"RANK(C59,$C$7:$C$66,1)","v":39},{"$f":"成績入力!AH74","v":53},{"$f":"成績入力!AI74","v":0},{"$f":"成績入力!AJ74","v":0},{"$f":"成績入力!AK74","v":0},{"$f":"成績入力!BM74","v":0},{"$f":"成績入力!BN74","v":0},{"$f":"成績入力!AL74","v":0},{"$f":"成績入力!AM74","v":0},{"$f":"成績入力!AN74","v":0},{"$f":"成績入力!AO74","v":0},{"$f":"成績入力!AP74","v":0},{"$f":"成績入力!AQ74","v":0},{"$f":"成績入力!AR74","v":0},{"$f":"成績入力!AS74","v":0},{"$f":"成績入力!AT74","v":0},{"$f":"成績入力!AU74","v":0},{"$f":"成績入力!AV74","v":0},{"$f":"成績入力!AW74","v":0},{"$f":"成績入力!AX74","v":0},{"$f":"成績入力!AY74","v":0},{"$f":"成績入力!AZ74","v":0},{"$f":"成績入力!BA74","v":0},{"$f":"成績入力!BB74","v":0},{"$f":"成績入力!BC74","v":0},{"$f":"成績入力!BD74","v":0},{"$f":"成績入力!BE74","v":0},{"$f":"成績入力!BF74","v":0},{"$f":"成績入力!BG74","v":0},{"$f":"成績入力!BH74","v":0},{"$f":"成績入力!BI74","v":0},{"$f":"成績入力!BJ74","v":0},{"$f":"成績入力!BK74","v":0},{"$f":"成績入力!BL74","v":0},null,null,74]
[null,54,37,{"$f":"RANK(C60,$C$7:$C$66,1)","v":39},{"$f":"成績入力!AH75","v":54},{"$f":"成績入力!AI75","v":0},{"$f":"成績入力!AJ75","v":0},{"$f":"成績入力!AK75","v":0},{"$f":"成績入力!BM75","v":0},{"$f":"成績入力!BN75","v":0},{"$f":"成績入力!AL75","v":0},{"$f":"成績入力!AM75","v":0},{"$f":"成績入力!AN75","v":0},{"$f":"成績入力!AO75","v":0},{"$f":"成績入力!AP75","v":0},{"$f":"成績入力!AQ75","v":0},{"$f":"成績入力!AR75","v":0},{"$f":"成績入力!AS75","v":0},{"$f":"成績入力!AT75","v":0},{"$f":"成績入力!AU75","v":0},{"$f":"成績入力!AV75","v":0},{"$f":"成績入力!AW75","v":0},{"$f":"成績入力!AX75","v":0},{"$f":"成績入力!AY75","v":0},{"$f":"成績入力!AZ75","v":0},{"$f":"成績入力!BA75","v":0},{"$f":"成績入力!BB75","v":0},{"$f":"成績入力!BC75","v":0},{"$f":"成績入力!BD75","v":0},{"$f":"成績入力!BE75","v":0},{"$f":"成績入力!BF75","v":0},{"$f":"成績入力!BG75","v":0},{"$f":"成績入力!BH75","v":0},{"$f":"成績入力!BI75","v":0},{"$f":"成績入力!BJ75","v":0},{"$f":"成績入力!BK75","v":0},{"$f":"成績入力!BL75","v":0},null,null,75]
[null,55,37,{"$f":"RANK(C61,$C$7:$C$66,1)","v":39},{"$f":"成績入力!AH76","v":55},{"$f":"成績入力!AI76","v":0},{"$f":"成績入力!AJ76","v":0},{"$f":"成績入力!AK76","v":0},{"$f":"成績入力!BM76","v":0},{"$f":"成績入力!BN76","v":0},{"$f":"成績入力!AL76","v":0},{"$f":"成績入力!AM76","v":0},{"$f":"成績入力!AN76","v":0},{"$f":"成績入力!AO76","v":0},{"$f":"成績入力!AP76","v":0},{"$f":"成績入力!AQ76","v":0},{"$f":"成績入力!AR76","v":0},{"$f":"成績入力!AS76","v":0},{"$f":"成績入力!AT76","v":0},{"$f":"成績入力!AU76","v":0},{"$f":"成績入力!AV76","v":0},{"$f":"成績入力!AW76","v":0},{"$f":"成績入力!AX76","v":0},{"$f":"成績入力!AY76","v":0},{"$f":"成績入力!AZ76","v":0},{"$f":"成績入力!BA76","v":0},{"$f":"成績入力!BB76","v":0},{"$f":"成績入力!BC76","v":0},{"$f":"成績入力!BD76","v":0},{"$f":"成績入力!BE76","v":0},{"$f":"成績入力!BF76","v":0},{"$f":"成績入力!BG76","v":0},{"$f":"成績入力!BH76","v":0},{"$f":"成績入力!BI76","v":0},{"$f":"成績入力!BJ76","v":0},{"$f":"成績入力!BK76","v":0},{"$f":"成績入力!BL76","v":0},null,null,76]
[null,56,37,{"$f":"RANK(C62,$C$7:$C$66,1)","v":39},{"$f":"成績入力!AH77","v":56},{"$f":"成績入力!AI77","v":0},{"$f":"成績入力!AJ77","v":0},{"$f":"成績入力!AK77","v":0},{"$f":"成績入力!BM77","v":0},{"$f":"成績入力!BN77","v":0},{"$f":"成績入力!AL77","v":0},{"$f":"成績入力!AM77","v":0},{"$f":"成績入力!AN77","v":0},{"$f":"成績入力!AO77","v":0},{"$f":"成績入力!AP77","v":0},{"$f":"成績入力!AQ77","v":0},{"$f":"成績入力!AR77","v":0},{"$f":"成績入力!AS77","v":0},{"$f":"成績入力!AT77","v":0},{"$f":"成績入力!AU77","v":0},{"$f":"成績入力!AV77","v":0},{"$f":"成績入力!AW77","v":0},{"$f":"成績入力!AX77","v":0},{"$f":"成績入力!AY77","v":0},{"$f":"成績入力!AZ77","v":0},{"$f":"成績入力!BA77","v":0},{"$f":"成績入力!BB77","v":0},{"$f":"成績入力!BC77","v":0},{"$f":"成績入力!BD77","v":0},{"$f":"成績入力!BE77","v":0},{"$f":"成績入力!BF77","v":0},{"$f":"成績入力!BG77","v":0},{"$f":"成績入力!BH77","v":0},{"$f":"成績入力!BI77","v":0},{"$f":"成績入力!BJ77","v":0},{"$f":"成績入力!BK77","v":0},{"$f":"成績入力!BL77","v":0},null,null,77]
[null,57,37,{"$f":"RANK(C63,$C$7:$C$66,1)","v":39},{"$f":"成績入力!AH78","v":57},{"$f":"成績入力!AI78","v":0},{"$f":"成績入力!AJ78","v":0},{"$f":"成績入力!AK78","v":0},{"$f":"成績入力!BM78","v":0},{"$f":"成績入力!BN78","v":0},{"$f":"成績入力!AL78","v":0},{"$f":"成績入力!AM78","v":0},{"$f":"成績入力!AN78","v":0},{"$f":"成績入力!AO78","v":0},{"$f":"成績入力!AP78","v":0},{"$f":"成績入力!AQ78","v":0},{"$f":"成績入力!AR78","v":0},{"$f":"成績入力!AS78","v":0},{"$f":"成績入力!AT78","v":0},{"$f":"成績入力!AU78","v":0},{"$f":"成績入力!AV78","v":0},{"$f":"成績入力!AW78","v":0},{"$f":"成績入力!AX78","v":0},{"$f":"成績入力!AY78","v":0},{"$f":"成績入力!AZ78","v":0},{"$f":"成績入力!BA78","v":0},{"$f":"成績入力!BB78","v":0},{"$f":"成績入力!BC78","v":0},{"$f":"成績入力!BD78","v":0},{"$f":"成績入力!BE78","v":0},{"$f":"成績入力!BF78","v":0},{"$f":"成績入力!BG78","v":0},{"$f":"成績入力!BH78","v":0},{"$f":"成績入力!BI78","v":0},{"$f":"成績入力!BJ78","v":0},{"$f":"成績入力!BK78","v":0},{"$f":"成績入力!BL78","v":0},null,null,78]
[null,58,37,{"$f":"RANK(C64,$C$7:$C$66,1)","v":39},{"$f":"成績入力!AH79","v":58},{"$f":"成績入力!AI79","v":0},{"$f":"成績入力!AJ79","v":0},{"$f":"成績入力!AK79","v":0},{"$f":"成績入力!BM79","v":0},{"$f":"成績入力!BN79","v":0},{"$f":"成績入力!AL79","v":0},{"$f":"成績入力!AM79","v":0},{"$f":"成績入力!AN79","v":0},{"$f":"成績入力!AO79","v":0},{"$f":"成績入力!AP79","v":0},{"$f":"成績入力!AQ79","v":0},{"$f":"成績入力!AR79","v":0},{"$f":"成績入力!AS79","v":0},{"$f":"成績入力!AT79","v":0},{"$f":"成績入力!AU79","v":0},{"$f":"成績入力!AV79","v":0},{"$f":"成績入力!AW79","v":0},{"$f":"成績入力!AX79","v":0},{"$f":"成績入力!AY79","v":0},{"$f":"成績入力!AZ79","v":0},{"$f":"成績入力!BA79","v":0},{"$f":"成績入力!BB79","v":0},{"$f":"成績入力!BC79","v":0},{"$f":"成績入力!BD79","v":0},{"$f":"成績入力!BE79","v":0},{"$f":"成績入力!BF79","v":0},{"$f":"成績入力!BG79","v":0},{"$f":"成績入力!BH79","v":0},{"$f":"成績入力!BI79","v":0},{"$f":"成績入力!BJ79","v":0},{"$f":"成績入力!BK79","v":0},{"$f":"成績入力!BL79","v":0},null,null,79]
[null,59,37,{"$f":"RANK(C65,$C$7:$C$66,1)","v":39},{"$f":"成績入力!AH80","v":59},{"$f":"成績入力!AI80","v":0},{"$f":"成績入力!AJ80","v":0},{"$f":"成績入力!AK80","v":0},{"$f":"成績入力!BM80","v":0},{"$f":"成績入力!BN80","v":0},{"$f":"成績入力!AL80","v":0},{"$f":"成績入力!AM80","v":0},{"$f":"成績入力!AN80","v":0},{"$f":"成績入力!AO80","v":0},{"$f":"成績入力!AP80","v":0},{"$f":"成績入力!AQ80","v":0},{"$f":"成績入力!AR80","v":0},{"$f":"成績入力!AS80","v":0},{"$f":"成績入力!AT80","v":0},{"$f":"成績入力!AU80","v":0},{"$f":"成績入力!AV80","v":0},{"$f":"成績入力!AW80","v":0},{"$f":"成績入力!AX80","v":0},{"$f":"成績入力!AY80","v":0},{"$f":"成績入力!AZ80","v":0},{"$f":"成績入力!BA80","v":0},{"$f":"成績入力!BB80","v":0},{"$f":"成績入力!BC80","v":0},{"$f":"成績入力!BD80","v":0},{"$f":"成績入力!BE80","v":0},{"$f":"成績入力!BF80","v":0},{"$f":"成績入力!BG80","v":0},{"$f":"成績入力!BH80","v":0},{"$f":"成績入力!BI80","v":0},{"$f":"成績入力!BJ80","v":0},{"$f":"成績入力!BK80","v":0},{"$f":"成績入力!BL80","v":0},null,null,80]
[null,60,37,{"$f":"RANK(C66,$C$7:$C$66,1)","v":39},{"$f":"成績入力!AH81","v":60},{"$f":"成績入力!AI81","v":0},{"$f":"成績入力!AJ81","v":0},{"$f":"成績入力!AK81","v":0},{"$f":"成績入力!BM81","v":0},{"$f":"成績入力!BN81","v":0},{"$f":"成績入力!AL81","v":0},{"$f":"成績入力!AM81","v":0},{"$f":"成績入力!AN81","v":0},{"$f":"成績入力!AO81","v":0},{"$f":"成績入力!AP81","v":0},{"$f":"成績入力!AQ81","v":0},{"$f":"成績入力!AR81","v":0},{"$f":"成績入力!AS81","v":0},{"$f":"成績入力!AT81","v":0},{"$f":"成績入力!AU81","v":0},{"$f":"成績入力!AV81","v":0},{"$f":"成績入力!AW81","v":0},{"$f":"成績入力!AX81","v":0},{"$f":"成績入力!AY81","v":0},{"$f":"成績入力!AZ81","v":0},{"$f":"成績入力!BA81","v":0},{"$f":"成績入力!BB81","v":0},{"$f":"成績入力!BC81","v":0},{"$f":"成績入力!BD81","v":0},{"$f":"成績入力!BE81","v":0},{"$f":"成績入力!BF81","v":0},{"$f":"成績入力!BG81","v":0},{"$f":"成績入力!BH81","v":0},{"$f":"成績入力!BI81","v":0},{"$f":"成績入力!BJ81","v":0},{"$f":"成績入力!BK81","v":0},{"$f":"成績入力!BL81","v":0},null,null,81]
[]
[]
[null,null,null,null,null,null,null,null,null,null,1,2,3,4,5,6,7,8,9,10,11,12,13,14,15,16,17,18,19,20,"TC1",null,"TC2"]
[null,null,null,null,null,null,null,null,"回答数・・・・",null,{"$f":"COUNTA(K7:K66)","v":60},{"$f":"COUNTA(L7:L66)","v":60},60,60,60,60,60,60,60,60,60,60,60,60,60,60,60,60,60,60,60,null,{"$f":"COUNTA(AG7:AG66)","v":60}]
[null,null,null,null,null,null,null,null,"正解数・・・・",null,{"$f":"COUNTIF(K7:K66,K5)","v":22},{"$f":"COUNTIF(L7:L66,L5)","v":31},13,29,38,26,26,29,37,34,29,23,22,35,25,33,22,60,60,60,25,null,{"$f":"COUNTIF(AG7:AG66,AG5)","v":23}]
[null,null,null,null,null,null,null,null,"正解率 （％)",null,{"$f":"K71/K70*100","v":36.666666666666664},51.666666666666671,21.666666666666668,48.333333333333336,63.333333333333329,43.333333333333336,43.333333333333336,48.333333333333336,61.666666666666671,56.666666666666664,48.333333333333336,38.333333333333336,36.666666666666664,58.333333333333336,41.666666666666671,55.000000000000007,36.666666666666664,100,100,100,41.666666666666671,null,{"$f":"AG71/AG70*100","v":38.333333333333336}]

{"sheet":"Ｂクラス詳細速報","index":5,"n_rows":62,"n_cols":40,"rows_kept":62,"cut":false,"hidden":false,"merged":[[59,8,59,9],[60,8,60,9],[61,8,61,9],[3,1,4,1],[3,2,4,2]]}
[]
[null,null,null,null,{"$f":"成績入力!$AH$86","v":"Ｂ"},"クラス 成績表",null,null,null,null,{"$f":"Ａ速報!$F$2","v":"トレイル・オリエンテーリング 岩槻城址大会"}]
[]
[null,"行番号","仮順位","順位","エントリー","氏　　名","所　　属","不","合計","合計",1,{"$f":"K4+1","v":2},3,4,5,6,7,8,9,10,11,12,13,14,15,16,17,18,19,20,"TC1","TIME","TC２","TIME","減点","C","TC"]
[null,null,null,null,"番号",null,null,"参加","得点","時間",{"$f":"成績入力!AL89","v":"D"},{"$f":"成績入力!AM89","v":"A"},{"$f":"成績入力!AN89","v":"D"},{"$f":"成績入力!AO89","v":"D"},{"$f":"成績入力!AP89","v":"A"},{"$f":"成績入力!AQ89","v":"B"},{"$f":"成績入力!AR89","v":"D"},{"$f":"成績入力!AS89","v":"D"},{"$f":"成績入力!AT89","v":"C"},{"$f":"成績入力!AU89","v":"B"},{"$f":"成績入力!AV89","v":"C"},{"$f":"成績入力!AW89","v":0},{"$f":"成績入力!AX89","v":0},{"$f":"成績入力!AY89","v":0},{"$f":"成績入力!AZ89","v":0},{"$f":"成績入力!BA89","v":0},{"$f":"成績入力!BB89","v":0},{"$f":"成績入力!BC89","v":0},{"$f":"成績入力!BD89","v":0},{"$f":"成績入力!BE89","v":0},{"$f":"成績入力!BF89","v":0},"(秒)",{"$f":"成績入力!$BH$89","v":0},"(秒)","ﾀｲﾑｵｰﾊﾞｰ","得点","得点"]
[null,null,null,null,null,0,0,null,0,0]
[null,1,{"$f":"IF(AND(I7=I6,J7=J6),C6,C6+1)","v":1},{"$f":"RANK(C7,$C$7:$C$56,1)","v":1},{"$f":"成績入力!AH90","v":71},{"$f":"成績入力!AI90","v":"斉藤　英津子"},{"$f":"成績入力!AJ90","v":"東京ＯＬクラブ"},{"$f":"成績入力!AK90","v":0},{"$f":"成績入力!BM90","v":9},{"$f":"成績入力!BN90","v":0},{"$f":"成績入力!AL90","v":"B"},{"$f":"成績入力!AM90","v":"A"},{"$f":"成績入力!AN90","v":"D"},{"$f":"成績入力!AO90","v":"D"},{"$f":"成績入力!AP90","v":"A"},{"$f":"成績入力!AQ90","v":"B"},{"$f":"成績入力!AR90","v":"D"},{"$f":"成績入力!AS90","v":"C"},{"$f":"成績入力!AT90","v":"C"},{"$f":"成績入力!AU90","v":"B"},{"$f":"成績入力!AV90","v":"C"},{"$f":"成績入力!AW90","v":0},{"$f":"成績入力!AX90","v":0},{"$f":"成績入力!AY90","v":0},{"$f":"成績入力!AZ90","v":0},{"$f":"成績入力!BA90","v":0},{"$f":"成績入力!BB90","v":0},{"$f":"成績入力!BC90","v":0},{"$f":"成績入力!BD90","v":0},{"$f":"成績入力!BE90","v":0},{"$f":"成績入力!BF90","v":0},{"$f":"成績入力!BG90","v":0},{"$f":"成績入力!BH90","v":0},{"$f":"成績入力!BI90","v":0},{"$f":"成績入力!BJ90","v":0},{"$f":"成績入力!BK90","v":9},{"$f":"成績入力!BL90","v":0},null,null,90]
[null,{"$f":"B7+1","v":2},{"$f":"IF(AND(I8=I7,J8=J7),C7,C7+1)","v":1},{"$f":"RANK(C8,$C$7:$C$56,1)","v":1},{"$f":"成績入力!AH94","v":75},{"$f":"成績入力!AI94","v":"小柳　三郎"},{"$f":"成績入力!AJ94","v":"港南ＯＬＣ"},{"$f":"成績入力!AK94","v":0},{"$f":"成績入力!BM94","v":9},{"$f":"成績入力!BN94","v":0},{"$f":"成績入力!AL94","v":"B"},{"$f":"成績入力!AM94","v":"Z"},{"$f":"成績入力!AN94","v":"D"},{"$f":"成績入力!AO94","v":"D"},{"$f":"成績入力!AP94","v":"A"},{"$f":"成績入力!AQ94","v":"B"},{"$f":"成績入力!AR94","v":"D"},{"$f":"成績入力!AS94","v":"D"},{"$f":"成績入力!AT94","v":"C"},{"$f":"成績入力!AU94","v":"B"},{"$f":"成績入力!AV94","v":"C"},{"$f":"成績入力!AW94","v":0},{"$f":"成績入力!AX94","v":0},{"$f":"成績入力!AY94","v":0},{"$f":"成績入力!AZ94","v":0},{"$f":"成績入力!BA94","v":0},{"$f":"成績入力!BB94","v":0},{"$f":"成績入力!BC94","v":0},{"$f":"成績入力!BD94","v":0},{"$f":"成績入力!BE94","v":0},{"$f":"成績入力!BF94","v":0},{"$f":"成績入力!BG94","v":0},{"$f":"成績入力!BH94","v":0},{"$f":"成績入力!BI94","v":0},{"$f":"成績入力!BJ94","v":0},{"$f":"成績入力!BK94","v":9},{"$f":"成績入力!BL94","v":0},null,null,91]
[null,3,2,{"$f":"RANK(C9,$C$7:$C$56,1)","v":3},{"$f":"成績入力!AH92","v":73},{"$f":"成績入力!AI92","v":"今井　栄"},{"$f":"成績入力!AJ92","v":"ワンダラーズ"},{"$f":"成績入力!AK92","v":0},{"$f":"成績入力!BM92","v":8},{"$f":"成績入力!BN92","v":0},{"$f":"成績入力!AL92","v":"D"},{"$f":"成績入力!AM92","v":"A"},{"$f":"成績入力!AN92","v":"D"},{"$f":"成績入力!AO92","v":"Z"},{"$f":"成績入力!AP92","v":"A"},{"$f":"成績入力!AQ92","v":"Z"},{"$f":"成績入力!AR92","v":"C"},{"$f":"成績入力!AS92","v":"D"},{"$f":"成績入力!AT92","v":"C"},{"$f":"成績入力!AU92","v":"B"},{"$f":"成績入力!AV92","v":"C"},{"$f":"成績入力!AW92","v":0},{"$f":"成績入力!AX92","v":0},{"$f":"成績入力!AY92","v":0},{"$f":"成績入力!AZ92","v":0},{"$f":"成績入力!BA92","v":0},{"$f":"成績入力!BB92","v":0},{"$f":"成績入力!BC92","v":0},{"$f":"成績入力!BD92","v":0},{"$f":"成績入力!BE92","v":0},{"$f":"成績入力!BF92","v":0},{"$f":"成績入力!BG92","v":0},{"$f":"成績入力!BH92","v":0},{"$f":"成績入力!BI92","v":0},{"$f":"成績入力!BJ92","v":0},{"$f":"成績入力!BK92","v":8},{"$f":"成績入力!BL92","v":0},null,null,92]
[null,4,3,{"$f":"RANK(C10,$C$7:$C$56,1)","v":4},{"$f":"成績入力!AH93","v":74},{"$f":"成績入力!AI93","v":"鈴木　律子"},{"$f":"成績入力!AJ93","v":"板橋オリエンテーリングクラブ"},{"$f":"成績入力!AK93","v":0},{"$f":"成績入力!BM93","v":7},{"$f":"成績入力!BN93","v":0},{"$f":"成績入力!AL93","v":"B"},{"$f":"成績入力!AM93","v":"A"},{"$f":"成績入力!AN93","v":"E"},{"$f":"成績入力!AO93","v":"C"},{"$f":"成績入力!AP93","v":"A"},{"$f":"成績入力!AQ93","v":"B"},{"$f":"成績入力!AR93","v":"D"},{"$f":"成績入力!AS93","v":"C"},{"$f":"成績入力!AT93","v":"C"},{"$f":"成績入力!AU93","v":"B"},{"$f":"成績入力!AV93","v":"C"},{"$f":"成績入力!AW93","v":0},{"$f":"成績入力!AX93","v":0},{"$f":"成績入力!AY93","v":0},{"$f":"成績入力!AZ93","v":0},{"$f":"成績入力!BA93","v":0},{"$f":"成績入力!BB93","v":0},{"$f":"成績入力!BC93","v":0},{"$f":"成績入力!BD93","v":0},{"$f":"成績入力!BE93","v":0},{"$f":"成績入力!BF93","v":0},{"$f":"成績入力!BG93","v":0},{"$f":"成績入力!BH93","v":0},{"$f":"成績入力!BI93","v":0},{"$f":"成績入力!BJ93","v":0},{"$f":"成績入力!BK93","v":7},{"$f":"成績入力!BL93","v":0},null,null,93]
[null,5,4,{"$f":"RANK(C11,$C$7:$C$56,1)","v":5},{"$f":"成績入力!AH91","v":72},{"$f":"成績入力!AI91","v":"梅野　武康"},{"$f":"成績入力!AJ91","v":"東京ＯＬクラブ"},{"$f":"成績入力!AK91","v":0},{"$f":"成績入力!BM91","v":6},{"$f":"成績入力!BN91","v":0},{"$f":"成績入力!AL91","v":"A"},{"$f":"成績入力!AM91","v":"A"},{"$f":"成績入力!AN91","v":"D"},{"$f":"成績入力!AO91","v":"D"},{"$f":"成績入力!AP91","v":"A"},{"$f":"成績入力!AQ91","v":"C"},{"$f":"成績入力!AR91","v":"D"},{"$f":"成績入力!AS91","v":"C"},{"$f":"成績入力!AT91","v":"B"},{"$f":"成績入力!AU91","v":"B"},{"$f":"成績入力!AV91","v":"E"},{"$f":"成績入力!AW91","v":0},{"$f":"成績入力!AX91","v":0},{"$f":"成績入力!AY91","v":0},{"$f":"成績入力!AZ91","v":0},{"$f":"成績入力!BA91","v":0},{"$f":"成績入力!BB91","v":0},{"$f":"成績入力!BC91","v":0},{"$f":"成績入力!BD91","v":0},{"$f":"成績入力!BE91","v":0},{"$f":"成績入力!BF91","v":0},{"$f":"成績入力!BG91","v":0},{"$f":"成績入力!BH91","v":0},{"$f":"成績入力!BI91","v":0},{"$f":"成績入力!BJ91","v":0},{"$f":"成績入力!BK91","v":6},{"$f":"成績入力!BL91","v":0},null,null,94]
[null,6,5,{"$f":"RANK(C12,$C$7:$C$56,1)","v":6},{"$f":"成績入力!AH95","v":76},{"$f":"成績入力!AI95","v":0},{"$f":"成績入力!AJ95","v":0},{"$f":"成績入力!AK95","v":0},{"$f":"成績入力!BM95","v":0},{"$f":"成績入力!BN95","v":0},{"$f":"成績入力!AL95","v":0},{"$f":"成績入力!AM95","v":0},{"$f":"成績入力!AN95","v":0},{"$f":"成績入力!AO95","v":0},{"$f":"成績入力!AP95","v":0},{"$f":"成績入力!AQ95","v":0},{"$f":"成績入力!AR95","v":0},{"$f":"成績入力!AS95","v":0},{"$f":"成績入力!AT95","v":0},{"$f":"成績入力!AU95","v":0},{"$f":"成績入力!AV95","v":0},{"$f":"成績入力!AW95","v":0},{"$f":"成績入力!AX95","v":0},{"$f":"成績入力!AY95","v":0},{"$f":"成績入力!AZ95","v":0},{"$f":"成績入力!BA95","v":0},{"$f":"成績入力!BB95","v":0},{"$f":"成績入力!BC95","v":0},{"$f":"成績入力!BD95","v":0},{"$f":"成績入力!BE95","v":0},{"$f":"成績入力!BF95","v":0},{"$f":"成績入力!BG95","v":0},{"$f":"成績入力!BH95","v":0},{"$f":"成績入力!BI95","v":0},{"$f":"成績入力!BJ95","v":0},{"$f":"成績入力!BK95","v":0},{"$f":"成績入力!BL95","v":0},null,null,95]
[null,7,5,6,{"$f":"成績入力!AH96","v":77},{"$f":"成績入力!AI96","v":0},{"$f":"成績入力!AJ96","v":0},{"$f":"成績入力!AK96","v":0},{"$f":"成績入力!BM96","v":0},{"$f":"成績入力!BN96","v":0},{"$f":"成績入力!AL96","v":0},{"$f":"成績入力!AM96","v":0},{"$f":"成績入力!AN96","v":0},{"$f":"成績入力!AO96","v":0},{"$f":"成績入力!AP96","v":0},{"$f":"成績入力!AQ96","v":0},{"$f":"成績入力!AR96","v":0},{"$f":"成績入力!AS96","v":0},{"$f":"成績入力!AT96","v":0},{"$f":"成績入力!AU96","v":0},{"$f":"成績入力!AV96","v":0},{"$f":"成績入力!AW96","v":0},{"$f":"成績入力!AX96","v":0},{"$f":"成績入力!AY96","v":0},{"$f":"成績入力!AZ96","v":0},{"$f":"成績入力!BA96","v":0},{"$f":"成績入力!BB96","v":0},{"$f":"成績入力!BC96","v":0},{"$f":"成績入力!BD96","v":0},{"$f":"成績入力!BE96","v":0},{"$f":"成績入力!BF96","v":0},{"$f":"成績入力!BG96","v":0},{"$f":"成績入力!BH96","v":0},{"$f":"成績入力!BI96","v":0},{"$f":"成績入力!BJ96","v":0},{"$f":"成績入力!BK96","v":0},{"$f":"成績入力!BL96","v":0},null,null,96]
[null,8,5,6,{"$f":"成績入力!AH97","v":78},{"$f":"成績入力!AI97","v":0},{"$f":"成績入力!AJ97","v":0},{"$f":"成績入力!AK97","v":0},{"$f":"成績入力!BM97","v":0},{"$f":"成績入力!BN97","v":0},{"$f":"成績入力!AL97","v":0},{"$f":"成績入力!AM97","v":0},{"$f":"成績入力!AN97","v":0},{"$f":"成績入力!AO97","v":0},{"$f":"成績入力!AP97","v":0},{"$f":"成績入力!AQ97","v":0},{"$f":"成績入力!AR97","v":0},{"$f":"成績入力!AS97","v":0},{"$f":"成績入力!AT97","v":0},{"$f":"成績入力!AU97","v":0},{"$f":"成績入力!AV97","v":0},{"$f":"成績入力!AW97","v":0},{"$f":"成績入力!AX97","v":0},{"$f":"成績入力!AY97","v":0},{"$f":"成績入力!AZ97","v":0},{"$f":"成績入力!BA97","v":0},{"$f":"成績入力!BB97","v":0},{"$f":"成績入力!BC97","v":0},{"$f":"成績入力!BD97","v":0},{"$f":"成績入力!BE97","v":0},{"$f":"成績入力!BF97","v":0},{"$f":"成績入力!BG97","v":0},{"$f":"成績入力!BH97","v":0},{"$f":"成績入力!BI97","v":0},{"$f":"成績入力!BJ97","v":0},{"$f":"成績入力!BK97","v":0},{"$f":"成績入力!BL97","v":0},null,null,97]
[null,9,5,6,{"$f":"成績入力!AH98","v":79},{"$f":"成績入力!AI98","v":0},{"$f":"成績入力!AJ98","v":0},{"$f":"成績入力!AK98","v":0},{"$f":"成績入力!BM98","v":0},{"$f":"成績入力!BN98","v":0},{"$f":"成績入力!AL98","v":0},{"$f":"成績入力!AM98","v":0},{"$f":"成績入力!AN98","v":0},{"$f":"成績入力!AO98","v":0},{"$f":"成績入力!AP98","v":0},{"$f":"成績入力!AQ98","v":0},{"$f":"成績入力!AR98","v":0},{"$f":"成績入力!AS98","v":0},{"$f":"成績入力!AT98","v":0},{"$f":"成績入力!AU98","v":0},{"$f":"成績入力!AV98","v":0},{"$f":"成績入力!AW98","v":0},{"$f":"成績入力!AX98","v":0},{"$f":"成績入力!AY98","v":0},{"$f":"成績入力!AZ98","v":0},{"$f":"成績入力!BA98","v":0},{"$f":"成績入力!BB98","v":0},{"$f":"成績入力!BC98","v":0},{"$f":"成績入力!BD98","v":0},{"$f":"成績入力!BE98","v":0},{"$f":"成績入力!BF98","v":0},{"$f":"成績入力!BG98","v":0},{"$f":"成績入力!BH98","v":0},{"$f":"成績入力!BI98","v":0},{"$f":"成績入力!BJ98","v":0},{"$f":"成績入力!BK98","v":0},{"$f":"成績入力!BL98","v":0},null,null,98]
[null,10,5,6,{"$f":"成績入力!AH99","v":80},{"$f":"成績入力!AI99","v":0},{"$f":"成績入力!AJ99","v":0},{"$f":"成績入力!AK99","v":0},{"$f":"成績入力!BM99","v":0},{"$f":"成績入力!BN99","v":0},{"$f":"成績入力!AL99","v":0},{"$f":"成績入力!AM99","v":0},{"$f":"成績入力!AN99","v":0},{"$f":"成績入力!AO99","v":0},{"$f":"成績入力!AP99","v":0},{"$f":"成績入力!AQ99","v":0},{"$f":"成績入力!AR99","v":0},{"$f":"成績入力!AS99","v":0},{"$f":"成績入力!AT99","v":0},{"$f":"成績入力!AU99","v":0},{"$f":"成績入力!AV99","v":0},{"$f":"成績入力!AW99","v":0},{"$f":"成績入力!AX99","v":0},{"$f":"成績入力!AY99","v":0},{"$f":"成績入力!AZ99","v":0},{"$f":"成績入力!BA99","v":0},{"$f":"成績入力!BB99","v":0},{"$f":"成績入力!BC99","v":0},{"$f":"成績入力!BD99","v":0},{"$f":"成績入力!BE99","v":0},{"$f":"成績入力!BF99","v":0},{"$f":"成績入力!BG99","v":0},{"$f":"成績入力!BH99","v":0},{"$f":"成績入力!BI99","v":0},{"$f":"成績入力!BJ99","v":0},{"$f":"成績入力!BK99","v":0},{"$f":"成績入力!BL99","v":0},null,null,99]
[null,11,5,6,{"$f":"成績入力!AH100","v":81},{"$f":"成績入力!AI100","v":0},{"$f":"成績入力!AJ100","v":0},{"$f":"成績入力!AK100","v":0},{"$f":"成績入力!BM100","v":0},{"$f":"成績入力!BN100","v":0},{"$f":"成績入力!AL100","v":0},{"$f":"成績入力!AM100","v":0},{"$f":"成績入力!AN100","v":0},{"$f":"成績入力!AO100","v":0},{"$f":"成績入力!AP100","v":0},{"$f":"成績入力!AQ100","v":0},{"$f":"成績入力!AR100","v":0},{"$f":"成績入力!AS100","v":0},{"$f":"成績入力!AT100","v":0},{"$f":"成績入力!AU100","v":0},{"$f":"成績入力!AV100","v":0},{"$f":"成績入力!AW100","v":0},{"$f":"成績入力!AX100","v":0},{"$f":"成績入力!AY100","v":0},{"$f":"成績入力!AZ100","v":0},{"$f":"成績入力!BA100","v":0},{"$f":"成績入力!BB100","v":0},{"$f":"成績入力!BC100","v":0},{"$f":"成績入力!BD100","v":0},{"$f":"成績入力!BE100","v":0},{"$f":"成績入力!BF100","v":0},{"$f":"成績入力!BG100","v":0},{"$f":"成績入力!BH100","v":0},{"$f":"成績入力!BI100","v":0},{"$f":"成績入力!BJ100","v":0},{"$f":"成績入力!BK100","v":0},{"$f":"成績入力!BL100","v":0},null,null,100]
[null,12,5,6,{"$f":"成績入力!AH101","v":82},{"$f":"成績入力!AI101","v":0},{"$f":"成績入力!AJ101","v":0},{"$f":"成績入力!AK101","v":0},{"$f":"成績入力!BM101","v":0},{"$f":"成績入力!BN101","v":0},{"$f":"成績入力!AL101","v":0},{"$f":"成績入力!AM101","v":0},{"$f":"成績入力!AN101","v":0},{"$f":"成績入力!AO101","v":0},{"$f":"成績入力!AP101","v":0},{"$f":"成績入力!AQ101","v":0},{"$f":"成績入力!AR101","v":0},{"$f":"成績入力!AS101","v":0},{"$f":"成績入力!AT101","v":0},{"$f":"成績入力!AU101","v":0},{"$f":"成績入力!AV101","v":0},{"$f":"成績入力!AW101","v":0},{"$f":"成績入力!AX101","v":0},{"$f":"成績入力!AY101","v":0},{"$f":"成績入力!AZ101","v":0},{"$f":"成績入力!BA101","v":0},{"$f":"成績入力!BB101","v":0},{"$f":"成績入力!BC101","v":0},{"$f":"成績入力!BD101","v":0},{"$f":"成績入力!BE101","v":0},{"$f":"成績入力!BF101","v":0},{"$f":"成績入力!BG101","v":0},{"$f":"成績入力!BH101","v":0},{"$f":"成績入力!BI101","v":0},{"$f":"成績入力!BJ101","v":0},{"$f":"成績入力!BK101","v":0},{"$f":"成績入力!BL101","v":0},null,null,101]
[null,13,5,6,{"$f":"成績入力!AH102","v":83},{"$f":"成績入力!AI102","v":0},{"$f":"成績入力!AJ102","v":0},{"$f":"成績入力!AK102","v":0},{"$f":"成績入力!BM102","v":0},{"$f":"成績入力!BN102","v":0},{"$f":"成績入力!AL102","v":0},{"$f":"成績入力!AM102","v":0},{"$f":"成績入力!AN102","v":0},{"$f":"成績入力!AO102","v":0},{"$f":"成績入力!AP102","v":0},{"$f":"成績入力!AQ102","v":0},{"$f":"成績入力!AR102","v":0},{"$f":"成績入力!AS102","v":0},{"$f":"成績入力!AT102","v":0},{"$f":"成績入力!AU102","v":0},{"$f":"成績入力!AV102","v":0},{"$f":"成績入力!AW102","v":0},{"$f":"成績入力!AX102","v":0},{"$f":"成績入力!AY102","v":0},{"$f":"成績入力!AZ102","v":0},{"$f":"成績入力!BA102","v":0},{"$f":"成績入力!BB102","v":0},{"$f":"成績入力!BC102","v":0},{"$f":"成績入力!BD102","v":0},{"$f":"成績入力!BE102","v":0},{"$f":"成績入力!BF102","v":0},{"$f":"成績入力!BG102","v":0},{"$f":"成績入力!BH102","v":0},{"$f":"成績入力!BI102","v":0},{"$f":"成績入力!BJ102","v":0},{"$f":"成績入力!BK102","v":0},{"$f":"成績入力!BL102","v":0},null,null,102]
[null,14,5,6,{"$f":"成績入力!AH103","v":84},{"$f":"成績入力!AI103","v":0},{"$f":"成績入力!AJ103","v":0},{"$f":"成績入力!AK103","v":0},{"$f":"成績入力!BM103","v":0},{"$f":"成績入力!BN103","v":0},{"$f":"成績入力!AL103","v":0},{"$f":"成績入力!AM103","v":0},{"$f":"成績入力!AN103","v":0},{"$f":"成績入力!AO103","v":0},{"$f":"成績入力!AP103","v":0},{"$f":"成績入力!AQ103","v":0},{"$f":"成績入力!AR103","v":0},{"$f":"成績入力!AS103","v":0},{"$f":"成績入力!AT103","v":0},{"$f":"成績入力!AU103","v":0},{"$f":"成績入力!AV103","v":0},{"$f":"成績入力!AW103","v":0},{"$f":"成績入力!AX103","v":0},{"$f":"成績入力!AY103","v":0},{"$f":"成績入力!AZ103","v":0},{"$f":"成績入力!BA103","v":0},{"$f":"成績入力!BB103","v":0},{"$f":"成績入力!BC103","v":0},{"$f":"成績入力!BD103","v":0},{"$f":"成績入力!BE103","v":0},{"$f":"成績入力!BF103","v":0},{"$f":"成績入力!BG103","v":0},{"$f":"成績入力!BH103","v":0},{"$f":"成績入力!BI103","v":0},{"$f":"成績入力!BJ103","v":0},{"$f":"成績入力!BK103","v":0},{"$f":"成績入力!BL103","v":0},null,null,103]
[null,15,5,6,{"$f":"成績入力!AH104","v":85},{"$f":"成績入力!AI104","v":0},{"$f":"成績入力!AJ104","v":0},{"$f":"成績入力!AK104","v":0},{"$f":"成績入力!BM104","v":0},{"$f":"成績入力!BN104","v":0},{"$f":"成績入力!AL104","v":0},{"$f":"成績入力!AM104","v":0},{"$f":"成績入力!AN104","v":0},{"$f":"成績入力!AO104","v":0},{"$f":"成績入力!AP104","v":0},{"$f":"成績入力!AQ104","v":0},{"$f":"成績入力!AR104","v":0},{"$f":"成績入力!AS104","v":0},{"$f":"成績入力!AT104","v":0},{"$f":"成績入力!AU104","v":0},{"$f":"成績入力!AV104","v":0},{"$f":"成績入力!AW104","v":0},{"$f":"成績入力!AX104","v":0},{"$f":"成績入力!AY104","v":0},{"$f":"成績入力!AZ104","v":0},{"$f":"成績入力!BA104","v":0},{"$f":"成績入力!BB104","v":0},{"$f":"成績入力!BC104","v":0},{"$f":"成績入力!BD104","v":0},{"$f":"成績入力!BE104","v":0},{"$f":"成績入力!BF104","v":0},{"$f":"成績入力!BG104","v":0},{"$f":"成績入力!BH104","v":0},{"$f":"成績入力!BI104","v":0},{"$f":"成績入力!BJ104","v":0},{"$f":"成績入力!BK104","v":0},{"$f":"成績入力!BL104","v":0},null,null,104]
[null,16,5,6,{"$f":"成績入力!AH105","v":86},{"$f":"成績入力!AI105","v":0},{"$f":"成績入力!AJ105","v":0},{"$f":"成績入力!AK105","v":0},{"$f":"成績入力!BM105","v":0},{"$f":"成績入力!BN105","v":0},{"$f":"成績入力!AL105","v":0},{"$f":"成績入力!AM105","v":0},{"$f":"成績入力!AN105","v":0},{"$f":"成績入力!AO105","v":0},{"$f":"成績入力!AP105","v":0},{"$f":"成績入力!AQ105","v":0},{"$f":"成績入力!AR105","v":0},{"$f":"成績入力!AS105","v":0},{"$f":"成績入力!AT105","v":0},{"$f":"成績入力!AU105","v":0},{"$f":"成績入力!AV105","v":0},{"$f":"成績入力!AW105","v":0},{"$f":"成績入力!AX105","v":0},{"$f":"成績入力!AY105","v":0},{"$f":"成績入力!AZ105","v":0},{"$f":"成績入力!BA105","v":0},{"$f":"成績入力!BB105","v":0},{"$f":"成績入力!BC105","v":0},{"$f":"成績入力!BD105","v":0},{"$f":"成績入力!BE105","v":0},{"$f":"成績入力!BF105","v":0},{"$f":"成績入力!BG105","v":0},{"$f":"成績入力!BH105","v":0},{"$f":"成績入力!BI105","v":0},{"$f":"成績入力!BJ105","v":0},{"$f":"成績入力!BK105","v":0},{"$f":"成績入力!BL105","v":0},null,null,105]
[null,17,5,6,{"$f":"成績入力!AH106","v":87},{"$f":"成績入力!AI106","v":0},{"$f":"成績入力!AJ106","v":0},{"$f":"成績入力!AK106","v":0},{"$f":"成績入力!BM106","v":0},{"$f":"成績入力!BN106","v":0},{"$f":"成績入力!AL106","v":0},{"$f":"成績入力!AM106","v":0},{"$f":"成績入力!AN106","v":0},{"$f":"成績入力!AO106","v":0},{"$f":"成績入力!AP106","v":0},{"$f":"成績入力!AQ106","v":0},{"$f":"成績入力!AR106","v":0},{"$f":"成績入力!AS106","v":0},{"$f":"成績入力!AT106","v":0},{"$f":"成績入力!AU106","v":0},{"$f":"成績入力!AV106","v":0},{"$f":"成績入力!AW106","v":0},{"$f":"成績入力!AX106","v":0},{"$f":"成績入力!AY106","v":0},{"$f":"成績入力!AZ106","v":0},{"$f":"成績入力!BA106","v":0},{"$f":"成績入力!BB106","v":0},{"$f":"成績入力!BC106","v":0},{"$f":"成績入力!BD106","v":0},{"$f":"成績入力!BE106","v":0},{"$f":"成績入力!BF106","v":0},{"$f":"成績入力!BG106","v":0},{"$f":"成績入力!BH106","v":0},{"$f":"成績入力!BI106","v":0},{"$f":"成績入力!BJ106","v":0},{"$f":"成績入力!BK106","v":0},{"$f":"成績入力!BL106","v":0},null,null,106]
[null,18,5,6,{"$f":"成績入力!AH107","v":88},{"$f":"成績入力!AI107","v":0},{"$f":"成績入力!AJ107","v":0},{"$f":"成績入力!AK107","v":0},{"$f":"成績入力!BM107","v":0},{"$f":"成績入力!BN107","v":0},{"$f":"成績入力!AL107","v":0},{"$f":"成績入力!AM107","v":0},{"$f":"成績入力!AN107","v":0},{"$f":"成績入力!AO107","v":0},{"$f":"成績入力!AP107","v":0},{"$f":"成績入力!AQ107","v":0},{"$f":"成績入力!AR107","v":0},{"$f":"成績入力!AS107","v":0},{"$f":"成績入力!AT107","v":0},{"$f":"成績入力!AU107","v":0},{"$f":"成績入力!AV107","v":0},{"$f":"成績入力!AW107","v":0},{"$f":"成績入力!AX107","v":0},{"$f":"成績入力!AY107","v":0},{"$f":"成績入力!AZ107","v":0},{"$f":"成績入力!BA107","v":0},{"$f":"成績入力!BB107","v":0},{"$f":"成績入力!BC107","v":0},{"$f":"成績入力!BD107","v":0},{"$f":"成績入力!BE107","v":0},{"$f":"成績入力!BF107","v":0},{"$f":"成績入力!BG107","v":0},{"$f":"成績入力!BH107","v":0},{"$f":"成績入力!BI107","v":0},{"$f":"成績入力!BJ107","v":0},{"$f":"成績入力!BK107","v":0},{"$f":"成績入力!BL107","v":0},null,null,107]
[null,19,5,6,{"$f":"成績入力!AH108","v":89},{"$f":"成績入力!AI108","v":0},{"$f":"成績入力!AJ108","v":0},{"$f":"成績入力!AK108","v":0},{"$f":"成績入力!BM108","v":0},{"$f":"成績入力!BN108","v":0},{"$f":"成績入力!AL108","v":0},{"$f":"成績入力!AM108","v":0},{"$f":"成績入力!AN108","v":0},{"$f":"成績入力!AO108","v":0},{"$f":"成績入力!AP108","v":0},{"$f":"成績入力!AQ108","v":0},{"$f":"成績入力!AR108","v":0},{"$f":"成績入力!AS108","v":0},{"$f":"成績入力!AT108","v":0},{"$f":"成績入力!AU108","v":0},{"$f":"成績入力!AV108","v":0},{"$f":"成績入力!AW108","v":0},{"$f":"成績入力!AX108","v":0},{"$f":"成績入力!AY108","v":0},{"$f":"成績入力!AZ108","v":0},{"$f":"成績入力!BA108","v":0},{"$f":"成績入力!BB108","v":0},{"$f":"成績入力!BC108","v":0},{"$f":"成績入力!BD108","v":0},{"$f":"成績入力!BE108","v":0},{"$f":"成績入力!BF108","v":0},{"$f":"成績入力!BG108","v":0},{"$f":"成績入力!BH108","v":0},{"$f":"成績入力!BI108","v":0},{"$f":"成績入力!BJ108","v":0},{"$f":"成績入力!BK108","v":0},{"$f":"成績入力!BL108","v":0},null,null,108]
[null,20,5,6,{"$f":"成績入力!AH109","v":90},{"$f":"成績入力!AI109","v":0},{"$f":"成績入力!AJ109","v":0},{"$f":"成績入力!AK109","v":0},{"$f":"成績入力!BM109","v":0},{"$f":"成績入力!BN109","v":0},{"$f":"成績入力!AL109","v":0},{"$f":"成績入力!AM109","v":0},{"$f":"成績入力!AN109","v":0},{"$f":"成績入力!AO109","v":0},{"$f":"成績入力!AP109","v":0},{"$f":"成績入力!AQ109","v":0},{"$f":"成績入力!AR109","v":0},{"$f":"成績入力!AS109","v":0},{"$f":"成績入力!AT109","v":0},{"$f":"成績入力!AU109","v":0},{"$f":"成績入力!AV109","v":0},{"$f":"成績入力!AW109","v":0},{"$f":"成績入力!AX109","v":0},{"$f":"成績入力!AY109","v":0},{"$f":"成績入力!AZ109","v":0},{"$f":"成績入力!BA109","v":0},{"$f":"成績入力!BB109","v":0},{"$f":"成績入力!BC109","v":0},{"$f":"成績入力!BD109","v":0},{"$f":"成績入力!BE109","v":0},{"$f":"成績入力!BF109","v":0},{"$f":"成績入力!BG109","v":0},{"$f":"成績入力!BH109","v":0},{"$f":"成績入力!BI109","v":0},{"$f":"成績入力!BJ109","v":0},{"$f":"成績入力!BK109","v":0},{"$f":"成績入力!BL109","v":0},null,null,109]
[null,21,5,6,{"$f":"成績入力!AH110","v":91},{"$f":"成績入力!AI110","v":0},{"$f":"成績入力!AJ110","v":0},{"$f":"成績入力!AK110","v":0},{"$f":"成績入力!BM110","v":0},{"$f":"成績入力!BN110","v":0},{"$f":"成績入力!AL110","v":0},{"$f":"成績入力!AM110","v":0},{"$f":"成績入力!AN110","v":0},{"$f":"成績入力!AO110","v":0},{"$f":"成績入力!AP110","v":0},{"$f":"成績入力!AQ110","v":0},{"$f":"成績入力!AR110","v":0},{"$f":"成績入力!AS110","v":0},{"$f":"成績入力!AT110","v":0},{"$f":"成績入力!AU110","v":0},{"$f":"成績入力!AV110","v":0},{"$f":"成績入力!AW110","v":0},{"$f":"成績入力!AX110","v":0},{"$f":"成績入力!AY110","v":0},{"$f":"成績入力!AZ110","v":0},{"$f":"成績入力!BA110","v":0},{"$f":"成績入力!BB110","v":0},{"$f":"成績入力!BC110","v":0},{"$f":"成績入力!BD110","v":0},{"$f":"成績入力!BE110","v":0},{"$f":"成績入力!BF110","v":0},{"$f":"成績入力!BG110","v":0},{"$f":"成績入力!BH110","v":0},{"$f":"成績入力!BI110","v":0},{"$f":"成績入力!BJ110","v":0},{"$f":"成績入力!BK110","v":0},{"$f":"成績入力!BL110","v":0},null,null,110]
[null,22,5,6,{"$f":"成績入力!AH111","v":92},{"$f":"成績入力!AI111","v":0},{"$f":"成績入力!AJ111","v":0},{"$f":"成績入力!AK111","v":0},{"$f":"成績入力!BM111","v":0},{"$f":"成績入力!BN111","v":0},{"$f":"成績入力!AL111","v":0},{"$f":"成績入力!AM111","v":0},{"$f":"成績入力!AN111","v":0},{"$f":"成績入力!AO111","v":0},{"$f":"成績入力!AP111","v":0},{"$f":"成績入力!AQ111","v":0},{"$f":"成績入力!AR111","v":0},{"$f":"成績入力!AS111","v":0},{"$f":"成績入力!AT111","v":0},{"$f":"成績入力!AU111","v":0},{"$f":"成績入力!AV111","v":0},{"$f":"成績入力!AW111","v":0},{"$f":"成績入力!AX111","v":0},{"$f":"成績入力!AY111","v":0},{"$f":"成績入力!AZ111","v":0},{"$f":"成績入力!BA111","v":0},{"$f":"成績入力!BB111","v":0},{"$f":"成績入力!BC111","v":0},{"$f":"成績入力!BD111","v":0},{"$f":"成績入力!BE111","v":0},{"$f":"成績入力!BF111","v":0},{"$f":"成績入力!BG111","v":0},{"$f":"成績入力!BH111","v":0},{"$f":"成績入力!BI111","v":0},{"$f":"成績入力!BJ111","v":0},{"$f":"成績入力!BK111","v":0},{"$f":"成績入力!BL111","v":0},null,null,111]
[null,23,5,6,{"$f":"成績入力!AH112","v":93},{"$f":"成績入力!AI112","v":0},{"$f":"成績入力!AJ112","v":0},{"$f":"成績入力!AK112","v":0},{"$f":"成績入力!BM112","v":0},{"$f":"成績入力!BN112","v":0},{"$f":"成績入力!AL112","v":0},{"$f":"成績入力!AM112","v":0},{"$f":"成績入力!AN112","v":0},{"$f":"成績入力!AO112","v":0},{"$f":"成績入力!AP112","v":0},{"$f":"成績入力!AQ112","v":0},{"$f":"成績入力!AR112","v":0},{"$f":"成績入力!AS112","v":0},{"$f":"成績入力!AT112","v":0},{"$f":"成績入力!AU112","v":0},{"$f":"成績入力!AV112","v":0},{"$f":"成績入力!AW112","v":0},{"$f":"成績入力!AX112","v":0},{"$f":"成績入力!AY112","v":0},{"$f":"成績入力!AZ112","v":0},{"$f":"成績入力!BA112","v":0},{"$f":"成績入力!BB112","v":0},{"$f":"成績入力!BC112","v":0},{"$f":"成績入力!BD112","v":0},{"$f":"成績入力!BE112","v":0},{"$f":"成績入力!BF112","v":0},{"$f":"成績入力!BG112","v":0},{"$f":"成績入力!BH112","v":0},{"$f":"成績入力!BI112","v":0},{"$f":"成績入力!BJ112","v":0},{"$f":"成績入力!BK112","v":0},{"$f":"成績入力!BL112","v":0},null,null,112]
[null,24,5,6,{"$f":"成績入力!AH113","v":94},{"$f":"成績入力!AI113","v":0},{"$f":"成績入力!AJ113","v":0},{"$f":"成績入力!AK113","v":0},{"$f":"成績入力!BM113","v":0},{"$f":"成績入力!BN113","v":0},{"$f":"成績入力!AL113","v":0},{"$f":"成績入力!AM113","v":0},{"$f":"成績入力!AN113","v":0},{"$f":"成績入力!AO113","v":0},{"$f":"成績入力!AP113","v":0},{"$f":"成績入力!AQ113","v":0},{"$f":"成績入力!AR113","v":0},{"$f":"成績入力!AS113","v":0},{"$f":"成績入力!AT113","v":0},{"$f":"成績入力!AU113","v":0},{"$f":"成績入力!AV113","v":0},{"$f":"成績入力!AW113","v":0},{"$f":"成績入力!AX113","v":0},{"$f":"成績入力!AY113","v":0},{"$f":"成績入力!AZ113","v":0},{"$f":"成績入力!BA113","v":0},{"$f":"成績入力!BB113","v":0},{"$f":"成績入力!BC113","v":0},{"$f":"成績入力!BD113","v":0},{"$f":"成績入力!BE113","v":0},{"$f":"成績入力!BF113","v":0},{"$f":"成績入力!BG113","v":0},{"$f":"成績入力!BH113","v":0},{"$f":"成績入力!BI113","v":0},{"$f":"成績入力!BJ113","v":0},{"$f":"成績入力!BK113","v":0},{"$f":"成績入力!BL113","v":0},null,null,113]
[null,25,5,6,{"$f":"成績入力!AH114","v":95},{"$f":"成績入力!AI114","v":0},{"$f":"成績入力!AJ114","v":0},{"$f":"成績入力!AK114","v":0},{"$f":"成績入力!BM114","v":0},{"$f":"成績入力!BN114","v":0},{"$f":"成績入力!AL114","v":0},{"$f":"成績入力!AM114","v":0},{"$f":"成績入力!AN114","v":0},{"$f":"成績入力!AO114","v":0},{"$f":"成績入力!AP114","v":0},{"$f":"成績入力!AQ114","v":0},{"$f":"成績入力!AR114","v":0},{"$f":"成績入力!AS114","v":0},{"$f":"成績入力!AT114","v":0},{"$f":"成績入力!AU114","v":0},{"$f":"成績入力!AV114","v":0},{"$f":"成績入力!AW114","v":0},{"$f":"成績入力!AX114","v":0},{"$f":"成績入力!AY114","v":0},{"$f":"成績入力!AZ114","v":0},{"$f":"成績入力!BA114","v":0},{"$f":"成績入力!BB114","v":0},{"$f":"成績入力!BC114","v":0},{"$f":"成績入力!BD114","v":0},{"$f":"成績入力!BE114","v":0},{"$f":"成績入力!BF114","v":0},{"$f":"成績入力!BG114","v":0},{"$f":"成績入力!BH114","v":0},{"$f":"成績入力!BI114","v":0},{"$f":"成績入力!BJ114","v":0},{"$f":"成績入力!BK114","v":0},{"$f":"成績入力!BL114","v":0},null,null,114]
[null,26,5,6,{"$f":"成績入力!AH115","v":96},{"$f":"成績入力!AI115","v":0},{"$f":"成績入力!AJ115","v":0},{"$f":"成績入力!AK115","v":0},{"$f":"成績入力!BM115","v":0},{"$f":"成績入力!BN115","v":0},{"$f":"成績入力!AL115","v":0},{"$f":"成績入力!AM115","v":0},{"$f":"成績入力!AN115","v":0},{"$f":"成績入力!AO115","v":0},{"$f":"成績入力!AP115","v":0},{"$f":"成績入力!AQ115","v":0},{"$f":"成績入力!AR115","v":0},{"$f":"成績入力!AS115","v":0},{"$f":"成績入力!AT115","v":0},{"$f":"成績入力!AU115","v":0},{"$f":"成績入力!AV115","v":0},{"$f":"成績入力!AW115","v":0},{"$f":"成績入力!AX115","v":0},{"$f":"成績入力!AY115","v":0},{"$f":"成績入力!AZ115","v":0},{"$f":"成績入力!BA115","v":0},{"$f":"成績入力!BB115","v":0},{"$f":"成績入力!BC115","v":0},{"$f":"成績入力!BD115","v":0},{"$f":"成績入力!BE115","v":0},{"$f":"成績入力!BF115","v":0},{"$f":"成績入力!BG115","v":0},{"$f":"成績入力!BH115","v":0},{"$f":"成績入力!BI115","v":0},{"$f":"成績入力!BJ115","v":0},{"$f":"成績入力!BK115","v":0},{"$f":"成績入力!BL115","v":0},null,null,115]
[null,27,5,6,{"$f":"成績入力!AH116","v":97},{"$f":"成績入力!AI116","v":0},{"$f":"成績入力!AJ116","v":0},{"$f":"成績入力!AK116","v":0},{"$f":"成績入力!BM116","v":0},{"$f":"成績入力!BN116","v":0},{"$f":"成績入力!AL116","v":0},{"$f":"成績入力!AM116","v":0},{"$f":"成績入力!AN116","v":0},{"$f":"成績入力!AO116","v":0},{"$f":"成績入力!AP116","v":0},{"$f":"成績入力!AQ116","v":0},{"$f":"成績入力!AR116","v":0},{"$f":"成績入力!AS116","v":0},{"$f":"成績入力!AT116","v":0},{"$f":"成績入力!AU116","v":0},{"$f":"成績入力!AV116","v":0},{"$f":"成績入力!AW116","v":0},{"$f":"成績入力!AX116","v":0},{"$f":"成績入力!AY116","v":0},{"$f":"成績入力!AZ116","v":0},{"$f":"成績入力!BA116","v":0},{"$f":"成績入力!BB116","v":0},{"$f":"成績入力!BC116","v":0},{"$f":"成績入力!BD116","v":0},{"$f":"成績入力!BE116","v":0},{"$f":"成績入力!BF116","v":0},{"$f":"成績入力!BG116","v":0},{"$f":"成績入力!BH116","v":0},{"$f":"成績入力!BI116","v":0},{"$f":"成績入力!BJ116","v":0},{"$f":"成績入力!BK116","v":0},{"$f":"成績入力!BL116","v":0},null,null,116]
[null,28,5,6,{"$f":"成績入力!AH117","v":98},{"$f":"成績入力!AI117","v":0},{"$f":"成績入力!AJ117","v":0},{"$f":"成績入力!AK117","v":0},{"$f":"成績入力!BM117","v":0},{"$f":"成績入力!BN117","v":0},{"$f":"成績入力!AL117","v":0},{"$f":"成績入力!AM117","v":0},{"$f":"成績入力!AN117","v":0},{"$f":"成績入力!AO117","v":0},{"$f":"成績入力!AP117","v":0},{"$f":"成績入力!AQ117","v":0},{"$f":"成績入力!AR117","v":0},{"$f":"成績入力!AS117","v":0},{"$f":"成績入力!AT117","v":0},{"$f":"成績入力!AU117","v":0},{"$f":"成績入力!AV117","v":0},{"$f":"成績入力!AW117","v":0},{"$f":"成績入力!AX117","v":0},{"$f":"成績入力!AY117","v":0},{"$f":"成績入力!AZ117","v":0},{"$f":"成績入力!BA117","v":0},{"$f":"成績入力!BB117","v":0},{"$f":"成績入力!BC117","v":0},{"$f":"成績入力!BD117","v":0},{"$f":"成績入力!BE117","v":0},{"$f":"成績入力!BF117","v":0},{"$f":"成績入力!BG117","v":0},{"$f":"成績入力!BH117","v":0},{"$f":"成績入力!BI117","v":0},{"$f":"成績入力!BJ117","v":0},{"$f":"成績入力!BK117","v":0},{"$f":"成績入力!BL117","v":0},null,null,117]
[null,29,5,6,{"$f":"成績入力!AH118","v":99},{"$f":"成績入力!AI118","v":0},{"$f":"成績入力!AJ118","v":0},{"$f":"成績入力!AK118","v":0},{"$f":"成績入力!BM118","v":0},{"$f":"成績入力!BN118","v":0},{"$f":"成績入力!AL118","v":0},{"$f":"成績入力!AM118","v":0},{"$f":"成績入力!AN118","v":0},{"$f":"成績入力!AO118","v":0},{"$f":"成績入力!AP118","v":0},{"$f":"成績入力!AQ118","v":0},{"$f":"成績入力!AR118","v":0},{"$f":"成績入力!AS118","v":0},{"$f":"成績入力!AT118","v":0},{"$f":"成績入力!AU118","v":0},{"$f":"成績入力!AV118","v":0},{"$f":"成績入力!AW118","v":0},{"$f":"成績入力!AX118","v":0},{"$f":"成績入力!AY118","v":0},{"$f":"成績入力!AZ118","v":0},{"$f":"成績入力!BA118","v":0},{"$f":"成績入力!BB118","v":0},{"$f":"成績入力!BC118","v":0},{"$f":"成績入力!BD118","v":0},{"$f":"成績入力!BE118","v":0},{"$f":"成績入力!BF118","v":0},{"$f":"成績入力!BG118","v":0},{"$f":"成績入力!BH118","v":0},{"$f":"成績入力!BI118","v":0},{"$f":"成績入力!BJ118","v":0},{"$f":"成績入力!BK118","v":0},{"$f":"成績入力!BL118","v":0},null,null,118]
[null,30,5,6,{"$f":"成績入力!AH119","v":100},{"$f":"成績入力!AI119","v":0},{"$f":"成績入力!AJ119","v":0},{"$f":"成績入力!AK119","v":0},{"$f":"成績入力!BM119","v":0},{"$f":"成績入力!BN119","v":0},{"$f":"成績入力!AL119","v":0},{"$f":"成績入力!AM119","v":0},{"$f":"成績入力!AN119","v":0},{"$f":"成績入力!AO119","v":0},{"$f":"成績入力!AP119","v":0},{"$f":"成績入力!AQ119","v":0},{"$f":"成績入力!AR119","v":0},{"$f":"成績入力!AS119","v":0},{"$f":"成績入力!AT119","v":0},{"$f":"成績入力!AU119","v":0},{"$f":"成績入力!AV119","v":0},{"$f":"成績入力!AW119","v":0},{"$f":"成績入力!AX119","v":0},{"$f":"成績入力!AY119","v":0},{"$f":"成績入力!AZ119","v":0},{"$f":"成績入力!BA119","v":0},{"$f":"成績入力!BB119","v":0},{"$f":"成績入力!BC119","v":0},{"$f":"成績入力!BD119","v":0},{"$f":"成績入力!BE119","v":0},{"$f":"成績入力!BF119","v":0},{"$f":"成績入力!BG119","v":0},{"$f":"成績入力!BH119","v":0},{"$f":"成績入力!BI119","v":0},{"$f":"成績入力!BJ119","v":0},{"$f":"成績入力!BK119","v":0},{"$f":"成績入力!BL119","v":0},null,null,119]
[null,31,5,6,{"$f":"成績入力!AH120","v":101},{"$f":"成績入力!AI120","v":0},{"$f":"成績入力!AJ120","v":0},{"$f":"成績入力!AK120","v":0},{"$f":"成績入力!BM120","v":0},{"$f":"成績入力!BN120","v":0},{"$f":"成績入力!AL120","v":0},{"$f":"成績入力!AM120","v":0},{"$f":"成績入力!AN120","v":0},{"$f":"成績入力!AO120","v":0},{"$f":"成績入力!AP120","v":0},{"$f":"成績入力!AQ120","v":0},{"$f":"成績入力!AR120","v":0},{"$f":"成績入力!AS120","v":0},{"$f":"成績入力!AT120","v":0},{"$f":"成績入力!AU120","v":0},{"$f":"成績入力!AV120","v":0},{"$f":"成績入力!AW120","v":0},{"$f":"成績入力!AX120","v":0},{"$f":"成績入力!AY120","v":0},{"$f":"成績入力!AZ120","v":0},{"$f":"成績入力!BA120","v":0},{"$f":"成績入力!BB120","v":0},{"$f":"成績入力!BC120","v":0},{"$f":"成績入力!BD120","v":0},{"$f":"成績入力!BE120","v":0},{"$f":"成績入力!BF120","v":0},{"$f":"成績入力!BG120","v":0},{"$f":"成績入力!BH120","v":0},{"$f":"成績入力!BI120","v":0},{"$f":"成績入力!BJ120","v":0},{"$f":"成績入力!BK120","v":0},{"$f":"成績入力!BL120","v":0},null,null,120]
[null,32,5,6,{"$f":"成績入力!AH121","v":102},{"$f":"成績入力!AI121","v":0},{"$f":"成績入力!AJ121","v":0},{"$f":"成績入力!AK121","v":0},{"$f":"成績入力!BM121","v":0},{"$f":"成績入力!BN121","v":0},{"$f":"成績入力!AL121","v":0},{"$f":"成績入力!AM121","v":0},{"$f":"成績入力!AN121","v":0},{"$f":"成績入力!AO121","v":0},{"$f":"成績入力!AP121","v":0},{"$f":"成績入力!AQ121","v":0},{"$f":"成績入力!AR121","v":0},{"$f":"成績入力!AS121","v":0},{"$f":"成績入力!AT121","v":0},{"$f":"成績入力!AU121","v":0},{"$f":"成績入力!AV121","v":0},{"$f":"成績入力!AW121","v":0},{"$f":"成績入力!AX121","v":0},{"$f":"成績入力!AY121","v":0},{"$f":"成績入力!AZ121","v":0},{"$f":"成績入力!BA121","v":0},{"$f":"成績入力!BB121","v":0},{"$f":"成績入力!BC121","v":0},{"$f":"成績入力!BD121","v":0},{"$f":"成績入力!BE121","v":0},{"$f":"成績入力!BF121","v":0},{"$f":"成績入力!BG121","v":0},{"$f":"成績入力!BH121","v":0},{"$f":"成績入力!BI121","v":0},{"$f":"成績入力!BJ121","v":0},{"$f":"成績入力!BK121","v":0},{"$f":"成績入力!BL121","v":0},null,null,121]
[null,33,5,{"$f":"RANK(C39,$C$7:$C$56,1)","v":6},{"$f":"成績入力!AH122","v":103},{"$f":"成績入力!AI122","v":0},{"$f":"成績入力!AJ122","v":0},{"$f":"成績入力!AK122","v":0},{"$f":"成績入力!BM122","v":0},{"$f":"成績入力!BN122","v":0},{"$f":"成績入力!AL122","v":0},{"$f":"成績入力!AM122","v":0},{"$f":"成績入力!AN122","v":0},{"$f":"成績入力!AO122","v":0},{"$f":"成績入力!AP122","v":0},{"$f":"成績入力!AQ122","v":0},{"$f":"成績入力!AR122","v":0},{"$f":"成績入力!AS122","v":0},{"$f":"成績入力!AT122","v":0},{"$f":"成績入力!AU122","v":0},{"$f":"成績入力!AV122","v":0},{"$f":"成績入力!AW122","v":0},{"$f":"成績入力!AX122","v":0},{"$f":"成績入力!AY122","v":0},{"$f":"成績入力!AZ122","v":0},{"$f":"成績入力!BA122","v":0},{"$f":"成績入力!BB122","v":0},{"$f":"成績入力!BC122","v":0},{"$f":"成績入力!BD122","v":0},{"$f":"成績入力!BE122","v":0},{"$f":"成績入力!BF122","v":0},{"$f":"成績入力!BG122","v":0},{"$f":"成績入力!BH122","v":0},{"$f":"成績入力!BI122","v":0},{"$f":"成績入力!BJ122","v":0},{"$f":"成績入力!BK122","v":0},{"$f":"成績入力!BL122","v":0},null,null,122]
[null,34,5,6,{"$f":"成績入力!AH123","v":104},{"$f":"成績入力!AI123","v":0},{"$f":"成績入力!AJ123","v":0},{"$f":"成績入力!AK123","v":0},{"$f":"成績入力!BM123","v":0},{"$f":"成績入力!BN123","v":0},{"$f":"成績入力!AL123","v":0},{"$f":"成績入力!AM123","v":0},{"$f":"成績入力!AN123","v":0},{"$f":"成績入力!AO123","v":0},{"$f":"成績入力!AP123","v":0},{"$f":"成績入力!AQ123","v":0},{"$f":"成績入力!AR123","v":0},{"$f":"成績入力!AS123","v":0},{"$f":"成績入力!AT123","v":0},{"$f":"成績入力!AU123","v":0},{"$f":"成績入力!AV123","v":0},{"$f":"成績入力!AW123","v":0},{"$f":"成績入力!AX123","v":0},{"$f":"成績入力!AY123","v":0},{"$f":"成績入力!AZ123","v":0},{"$f":"成績入力!BA123","v":0},{"$f":"成績入力!BB123","v":0},{"$f":"成績入力!BC123","v":0},{"$f":"成績入力!BD123","v":0},{"$f":"成績入力!BE123","v":0},{"$f":"成績入力!BF123","v":0},{"$f":"成績入力!BG123","v":0},{"$f":"成績入力!BH123","v":0},{"$f":"成績入力!BI123","v":0},{"$f":"成績入力!BJ123","v":0},{"$f":"成績入力!BK123","v":0},{"$f":"成績入力!BL123","v":0},null,null,123]
[null,35,5,6,{"$f":"成績入力!AH124","v":105},{"$f":"成績入力!AI124","v":0},{"$f":"成績入力!AJ124","v":0},{"$f":"成績入力!AK124","v":0},{"$f":"成績入力!BM124","v":0},{"$f":"成績入力!BN124","v":0},{"$f":"成績入力!AL124","v":0},{"$f":"成績入力!AM124","v":0},{"$f":"成績入力!AN124","v":0},{"$f":"成績入力!AO124","v":0},{"$f":"成績入力!AP124","v":0},{"$f":"成績入力!AQ124","v":0},{"$f":"成績入力!AR124","v":0},{"$f":"成績入力!AS124","v":0},{"$f":"成績入力!AT124","v":0},{"$f":"成績入力!AU124","v":0},{"$f":"成績入力!AV124","v":0},{"$f":"成績入力!AW124","v":0},{"$f":"成績入力!AX124","v":0},{"$f":"成績入力!AY124","v":0},{"$f":"成績入力!AZ124","v":0},{"$f":"成績入力!BA124","v":0},{"$f":"成績入力!BB124","v":0},{"$f":"成績入力!BC124","v":0},{"$f":"成績入力!BD124","v":0},{"$f":"成績入力!BE124","v":0},{"$f":"成績入力!BF124","v":0},{"$f":"成績入力!BG124","v":0},{"$f":"成績入力!BH124","v":0},{"$f":"成績入力!BI124","v":0},{"$f":"成績入力!BJ124","v":0},{"$f":"成績入力!BK124","v":0},{"$f":"成績入力!BL124","v":0},null,null,124]
[null,36,5,6,{"$f":"成績入力!AH125","v":106},{"$f":"成績入力!AI125","v":0},{"$f":"成績入力!AJ125","v":0},{"$f":"成績入力!AK125","v":0},{"$f":"成績入力!BM125","v":0},{"$f":"成績入力!BN125","v":0},{"$f":"成績入力!AL125","v":0},{"$f":"成績入力!AM125","v":0},{"$f":"成績入力!AN125","v":0},{"$f":"成績入力!AO125","v":0},{"$f":"成績入力!AP125","v":0},{"$f":"成績入力!AQ125","v":0},{"$f":"成績入力!AR125","v":0},{"$f":"成績入力!AS125","v":0},{"$f":"成績入力!AT125","v":0},{"$f":"成績入力!AU125","v":0},{"$f":"成績入力!AV125","v":0},{"$f":"成績入力!AW125","v":0},{"$f":"成績入力!AX125","v":0},{"$f":"成績入力!AY125","v":0},{"$f":"成績入力!AZ125","v":0},{"$f":"成績入力!BA125","v":0},{"$f":"成績入力!BB125","v":0},{"$f":"成績入力!BC125","v":0},{"$f":"成績入力!BD125","v":0},{"$f":"成績入力!BE125","v":0},{"$f":"成績入力!BF125","v":0},{"$f":"成績入力!BG125","v":0},{"$f":"成績入力!BH125","v":0},{"$f":"成績入力!BI125","v":0},{"$f":"成績入力!BJ125","v":0},{"$f":"成績入力!BK125","v":0},{"$f":"成績入力!BL125","v":0},null,null,125]
[null,37,5,6,{"$f":"成績入力!AH126","v":107},{"$f":"成績入力!AI126","v":0},{"$f":"成績入力!AJ126","v":0},{"$f":"成績入力!AK126","v":0},{"$f":"成績入力!BM126","v":0},{"$f":"成績入力!BN126","v":0},{"$f":"成績入力!AL126","v":0},{"$f":"成績入力!AM126","v":0},{"$f":"成績入力!AN126","v":0},{"$f":"成績入力!AO126","v":0},{"$f":"成績入力!AP126","v":0},{"$f":"成績入力!AQ126","v":0},{"$f":"成績入力!AR126","v":0},{"$f":"成績入力!AS126","v":0},{"$f":"成績入力!AT126","v":0},{"$f":"成績入力!AU126","v":0},{"$f":"成績入力!AV126","v":0},{"$f":"成績入力!AW126","v":0},{"$f":"成績入力!AX126","v":0},{"$f":"成績入力!AY126","v":0},{"$f":"成績入力!AZ126","v":0},{"$f":"成績入力!BA126","v":0},{"$f":"成績入力!BB126","v":0},{"$f":"成績入力!BC126","v":0},{"$f":"成績入力!BD126","v":0},{"$f":"成績入力!BE126","v":0},{"$f":"成績入力!BF126","v":0},{"$f":"成績入力!BG126","v":0},{"$f":"成績入力!BH126","v":0},{"$f":"成績入力!BI126","v":0},{"$f":"成績入力!BJ126","v":0},{"$f":"成績入力!BK126","v":0},{"$f":"成績入力!BL126","v":0},null,null,126]
[null,38,5,6,{"$f":"成績入力!AH127","v":108},{"$f":"成績入力!AI127","v":0},{"$f":"成績入力!AJ127","v":0},{"$f":"成績入力!AK127","v":0},{"$f":"成績入力!BM127","v":0},{"$f":"成績入力!BN127","v":0},{"$f":"成績入力!AL127","v":0},{"$f":"成績入力!AM127","v":0},{"$f":"成績入力!AN127","v":0},{"$f":"成績入力!AO127","v":0},{"$f":"成績入力!AP127","v":0},{"$f":"成績入力!AQ127","v":0},{"$f":"成績入力!AR127","v":0},{"$f":"成績入力!AS127","v":0},{"$f":"成績入力!AT127","v":0},{"$f":"成績入力!AU127","v":0},{"$f":"成績入力!AV127","v":0},{"$f":"成績入力!AW127","v":0},{"$f":"成績入力!AX127","v":0},{"$f":"成績入力!AY127","v":0},{"$f":"成績入力!AZ127","v":0},{"$f":"成績入力!BA127","v":0},{"$f":"成績入力!BB127","v":0},{"$f":"成績入力!BC127","v":0},{"$f":"成績入力!BD127","v":0},{"$f":"成績入力!BE127","v":0},{"$f":"成績入力!BF127","v":0},{"$f":"成績入力!BG127","v":0},{"$f":"成績入力!BH127","v":0},{"$f":"成績入力!BI127","v":0},{"$f":"成績入力!BJ127","v":0},{"$f":"成績入力!BK127","v":0},{"$f":"成績入力!BL127","v":0},null,null,127]
[null,39,5,6,{"$f":"成績入力!AH128","v":109},{"$f":"成績入力!AI128","v":0},{"$f":"成績入力!AJ128","v":0},{"$f":"成績入力!AK128","v":0},{"$f":"成績入力!BM128","v":0},{"$f":"成績入力!BN128","v":0},{"$f":"成績入力!AL128","v":0},{"$f":"成績入力!AM128","v":0},{"$f":"成績入力!AN128","v":0},{"$f":"成績入力!AO128","v":0},{"$f":"成績入力!AP128","v":0},{"$f":"成績入力!AQ128","v":0},{"$f":"成績入力!AR128","v":0},{"$f":"成績入力!AS128","v":0},{"$f":"成績入力!AT128","v":0},{"$f":"成績入力!AU128","v":0},{"$f":"成績入力!AV128","v":0},{"$f":"成績入力!AW128","v":0},{"$f":"成績入力!AX128","v":0},{"$f":"成績入力!AY128","v":0},{"$f":"成績入力!AZ128","v":0},{"$f":"成績入力!BA128","v":0},{"$f":"成績入力!BB128","v":0},{"$f":"成績入力!BC128","v":0},{"$f":"成績入力!BD128","v":0},{"$f":"成績入力!BE128","v":0},{"$f":"成績入力!BF128","v":0},{"$f":"成績入力!BG128","v":0},{"$f":"成績入力!BH128","v":0},{"$f":"成績入力!BI128","v":0},{"$f":"成績入力!BJ128","v":0},{"$f":"成績入力!BK128","v":0},{"$f":"成績入力!BL128","v":0},null,null,128]
[null,40,5,6,{"$f":"成績入力!AH129","v":110},{"$f":"成績入力!AI129","v":0},{"$f":"成績入力!AJ129","v":0},{"$f":"成績入力!AK129","v":0},{"$f":"成績入力!BM129","v":0},{"$f":"成績入力!BN129","v":0},{"$f":"成績入力!AL129","v":0},{"$f":"成績入力!AM129","v":0},{"$f":"成績入力!AN129","v":0},{"$f":"成績入力!AO129","v":0},{"$f":"成績入力!AP129","v":0},{"$f":"成績入力!AQ129","v":0},{"$f":"成績入力!AR129","v":0},{"$f":"成績入力!AS129","v":0},{"$f":"成績入力!AT129","v":0},{"$f":"成績入力!AU129","v":0},{"$f":"成績入力!AV129","v":0},{"$f":"成績入力!AW129","v":0},{"$f":"成績入力!AX129","v":0},{"$f":"成績入力!AY129","v":0},{"$f":"成績入力!AZ129","v":0},{"$f":"成績入力!BA129","v":0},{"$f":"成績入力!BB129","v":0},{"$f":"成績入力!BC129","v":0},{"$f":"成績入力!BD129","v":0},{"$f":"成績入力!BE129","v":0},{"$f":"成績入力!BF129","v":0},{"$f":"成績入力!BG129","v":0},{"$f":"成績入力!BH129","v":0},{"$f":"成績入力!BI129","v":0},{"$f":"成績入力!BJ129","v":0},{"$f":"成績入力!BK129","v":0},{"$f":"成績入力!BL129","v":0},null,null,129]
[null,41,5,6,{"$f":"成績入力!AH130","v":111},{"$f":"成績入力!AI130","v":0},{"$f":"成績入力!AJ130","v":0},{"$f":"成績入力!AK130","v":0},{"$f":"成績入力!BM130","v":0},{"$f":"成績入力!BN130","v":0},{"$f":"成績入力!AL130","v":0},{"$f":"成績入力!AM130","v":0},{"$f":"成績入力!AN130","v":0},{"$f":"成績入力!AO130","v":0},{"$f":"成績入力!AP130","v":0},{"$f":"成績入力!AQ130","v":0},{"$f":"成績入力!AR130","v":0},{"$f":"成績入力!AS130","v":0},{"$f":"成績入力!AT130","v":0},{"$f":"成績入力!AU130","v":0},{"$f":"成績入力!AV130","v":0},{"$f":"成績入力!AW130","v":0},{"$f":"成績入力!AX130","v":0},{"$f":"成績入力!AY130","v":0},{"$f":"成績入力!AZ130","v":0},{"$f":"成績入力!BA130","v":0},{"$f":"成績入力!BB130","v":0},{"$f":"成績入力!BC130","v":0},{"$f":"成績入力!BD130","v":0},{"$f":"成績入力!BE130","v":0},{"$f":"成績入力!BF130","v":0},{"$f":"成績入力!BG130","v":0},{"$f":"成績入力!BH130","v":0},{"$f":"成績入力!BI130","v":0},{"$f":"成績入力!BJ130","v":0},{"$f":"成績入力!BK130","v":0},{"$f":"成績入力!BL130","v":0},null,null,130]
[null,42,5,6,{"$f":"成績入力!AH131","v":112},{"$f":"成績入力!AI131","v":0},{"$f":"成績入力!AJ131","v":0},{"$f":"成績入力!AK131","v":0},{"$f":"成績入力!BM131","v":0},{"$f":"成績入力!BN131","v":0},{"$f":"成績入力!AL131","v":0},{"$f":"成績入力!AM131","v":0},{"$f":"成績入力!AN131","v":0},{"$f":"成績入力!AO131","v":0},{"$f":"成績入力!AP131","v":0},{"$f":"成績入力!AQ131","v":0},{"$f":"成績入力!AR131","v":0},{"$f":"成績入力!AS131","v":0},{"$f":"成績入力!AT131","v":0},{"$f":"成績入力!AU131","v":0},{"$f":"成績入力!AV131","v":0},{"$f":"成績入力!AW131","v":0},{"$f":"成績入力!AX131","v":0},{"$f":"成績入力!AY131","v":0},{"$f":"成績入力!AZ131","v":0},{"$f":"成績入力!BA131","v":0},{"$f":"成績入力!BB131","v":0},{"$f":"成績入力!BC131","v":0},{"$f":"成績入力!BD131","v":0},{"$f":"成績入力!BE131","v":0},{"$f":"成績入力!BF131","v":0},{"$f":"成績入力!BG131","v":0},{"$f":"成績入力!BH131","v":0},{"$f":"成績入力!BI131","v":0},{"$f":"成績入力!BJ131","v":0},{"$f":"成績入力!BK131","v":0},{"$f":"成績入力!BL131","v":0},null,null,131]
[null,43,5,6,{"$f":"成績入力!AH132","v":113},{"$f":"成績入力!AI132","v":0},{"$f":"成績入力!AJ132","v":0},{"$f":"成績入力!AK132","v":0},{"$f":"成績入力!BM132","v":0},{"$f":"成績入力!BN132","v":0},{"$f":"成績入力!AL132","v":0},{"$f":"成績入力!AM132","v":0},{"$f":"成績入力!AN132","v":0},{"$f":"成績入力!AO132","v":0},{"$f":"成績入力!AP132","v":0},{"$f":"成績入力!AQ132","v":0},{"$f":"成績入力!AR132","v":0},{"$f":"成績入力!AS132","v":0},{"$f":"成績入力!AT132","v":0},{"$f":"成績入力!AU132","v":0},{"$f":"成績入力!AV132","v":0},{"$f":"成績入力!AW132","v":0},{"$f":"成績入力!AX132","v":0},{"$f":"成績入力!AY132","v":0},{"$f":"成績入力!AZ132","v":0},{"$f":"成績入力!BA132","v":0},{"$f":"成績入力!BB132","v":0},{"$f":"成績入力!BC132","v":0},{"$f":"成績入力!BD132","v":0},{"$f":"成績入力!BE132","v":0},{"$f":"成績入力!BF132","v":0},{"$f":"成績入力!BG132","v":0},{"$f":"成績入力!BH132","v":0},{"$f":"成績入力!BI132","v":0},{"$f":"成績入力!BJ132","v":0},{"$f":"成績入力!BK132","v":0},{"$f":"成績入力!BL132","v":0},null,null,132]
[null,44,5,6,{"$f":"成績入力!AH133","v":114},{"$f":"成績入力!AI133","v":0},{"$f":"成績入力!AJ133","v":0},{"$f":"成績入力!AK133","v":0},{"$f":"成績入力!BM133","v":0},{"$f":"成績入力!BN133","v":0},{"$f":"成績入力!AL133","v":0},{"$f":"成績入力!AM133","v":0},{"$f":"成績入力!AN133","v":0},{"$f":"成績入力!AO133","v":0},{"$f":"成績入力!AP133","v":0},{"$f":"成績入力!AQ133","v":0},{"$f":"成績入力!AR133","v":0},{"$f":"成績入力!AS133","v":0},{"$f":"成績入力!AT133","v":0},{"$f":"成績入力!AU133","v":0},{"$f":"成績入力!AV133","v":0},{"$f":"成績入力!AW133","v":0},{"$f":"成績入力!AX133","v":0},{"$f":"成績入力!AY133","v":0},{"$f":"成績入力!AZ133","v":0},{"$f":"成績入力!BA133","v":0},{"$f":"成績入力!BB133","v":0},{"$f":"成績入力!BC133","v":0},{"$f":"成績入力!BD133","v":0},{"$f":"成績入力!BE133","v":0},{"$f":"成績入力!BF133","v":0},{"$f":"成績入力!BG133","v":0},{"$f":"成績入力!BH133","v":0},{"$f":"成績入力!BI133","v":0},{"$f":"成績入力!BJ133","v":0},{"$f":"成績入力!BK133","v":0},{"$f":"成績入力!BL133","v":0},null,null,133]
[null,45,5,6,{"$f":"成績入力!AH134","v":115},{"$f":"成績入力!AI134","v":0},{"$f":"成績入力!AJ134","v":0},{"$f":"成績入力!AK134","v":0},{"$f":"成績入力!BM134","v":0},{"$f":"成績入力!BN134","v":0},{"$f":"成績入力!AL134","v":0},{"$f":"成績入力!AM134","v":0},{"$f":"成績入力!AN134","v":0},{"$f":"成績入力!AO134","v":0},{"$f":"成績入力!AP134","v":0},{"$f":"成績入力!AQ134","v":0},{"$f":"成績入力!AR134","v":0},{"$f":"成績入力!AS134","v":0},{"$f":"成績入力!AT134","v":0},{"$f":"成績入力!AU134","v":0},{"$f":"成績入力!AV134","v":0},{"$f":"成績入力!AW134","v":0},{"$f":"成績入力!AX134","v":0},{"$f":"成績入力!AY134","v":0},{"$f":"成績入力!AZ134","v":0},{"$f":"成績入力!BA134","v":0},{"$f":"成績入力!BB134","v":0},{"$f":"成績入力!BC134","v":0},{"$f":"成績入力!BD134","v":0},{"$f":"成績入力!BE134","v":0},{"$f":"成績入力!BF134","v":0},{"$f":"成績入力!BG134","v":0},{"$f":"成績入力!BH134","v":0},{"$f":"成績入力!BI134","v":0},{"$f":"成績入力!BJ134","v":0},{"$f":"成績入力!BK134","v":0},{"$f":"成績入力!BL134","v":0},null,null,134]
[null,46,5,6,{"$f":"成績入力!AH135","v":116},{"$f":"成績入力!AI135","v":0},{"$f":"成績入力!AJ135","v":0},{"$f":"成績入力!AK135","v":0},{"$f":"成績入力!BM135","v":0},{"$f":"成績入力!BN135","v":0},{"$f":"成績入力!AL135","v":0},{"$f":"成績入力!AM135","v":0},{"$f":"成績入力!AN135","v":0},{"$f":"成績入力!AO135","v":0},{"$f":"成績入力!AP135","v":0},{"$f":"成績入力!AQ135","v":0},{"$f":"成績入力!AR135","v":0},{"$f":"成績入力!AS135","v":0},{"$f":"成績入力!AT135","v":0},{"$f":"成績入力!AU135","v":0},{"$f":"成績入力!AV135","v":0},{"$f":"成績入力!AW135","v":0},{"$f":"成績入力!AX135","v":0},{"$f":"成績入力!AY135","v":0},{"$f":"成績入力!AZ135","v":0},{"$f":"成績入力!BA135","v":0},{"$f":"成績入力!BB135","v":0},{"$f":"成績入力!BC135","v":0},{"$f":"成績入力!BD135","v":0},{"$f":"成績入力!BE135","v":0},{"$f":"成績入力!BF135","v":0},{"$f":"成績入力!BG135","v":0},{"$f":"成績入力!BH135","v":0},{"$f":"成績入力!BI135","v":0},{"$f":"成績入力!BJ135","v":0},{"$f":"成績入力!BK135","v":0},{"$f":"成績入力!BL135","v":0},null,null,135]
[null,47,5,6,{"$f":"成績入力!AH136","v":117},{"$f":"成績入力!AI136","v":0},{"$f":"成績入力!AJ136","v":0},{"$f":"成績入力!AK136","v":0},{"$f":"成績入力!BM136","v":0},{"$f":"成績入力!BN136","v":0},{"$f":"成績入力!AL136","v":0},{"$f":"成績入力!AM136","v":0},{"$f":"成績入力!AN136","v":0},{"$f":"成績入力!AO136","v":0},{"$f":"成績入力!AP136","v":0},{"$f":"成績入力!AQ136","v":0},{"$f":"成績入力!AR136","v":0},{"$f":"成績入力!AS136","v":0},{"$f":"成績入力!AT136","v":0},{"$f":"成績入力!AU136","v":0},{"$f":"成績入力!AV136","v":0},{"$f":"成績入力!AW136","v":0},{"$f":"成績入力!AX136","v":0},{"$f":"成績入力!AY136","v":0},{"$f":"成績入力!AZ136","v":0},{"$f":"成績入力!BA136","v":0},{"$f":"成績入力!BB136","v":0},{"$f":"成績入力!BC136","v":0},{"$f":"成績入力!BD136","v":0},{"$f":"成績入力!BE136","v":0},{"$f":"成績入力!BF136","v":0},{"$f":"成績入力!BG136","v":0},{"$f":"成績入力!BH136","v":0},{"$f":"成績入力!BI136","v":0},{"$f":"成績入力!BJ136","v":0},{"$f":"成績入力!BK136","v":0},{"$f":"成績入力!BL136","v":0},null,null,136]
[null,48,5,6,{"$f":"成績入力!AH137","v":118},{"$f":"成績入力!AI137","v":0},{"$f":"成績入力!AJ137","v":0},{"$f":"成績入力!AK137","v":0},{"$f":"成績入力!BM137","v":0},{"$f":"成績入力!BN137","v":0},{"$f":"成績入力!AL137","v":0},{"$f":"成績入力!AM137","v":0},{"$f":"成績入力!AN137","v":0},{"$f":"成績入力!AO137","v":0},{"$f":"成績入力!AP137","v":0},{"$f":"成績入力!AQ137","v":0},{"$f":"成績入力!AR137","v":0},{"$f":"成績入力!AS137","v":0},{"$f":"成績入力!AT137","v":0},{"$f":"成績入力!AU137","v":0},{"$f":"成績入力!AV137","v":0},{"$f":"成績入力!AW137","v":0},{"$f":"成績入力!AX137","v":0},{"$f":"成績入力!AY137","v":0},{"$f":"成績入力!AZ137","v":0},{"$f":"成績入力!BA137","v":0},{"$f":"成績入力!BB137","v":0},{"$f":"成績入力!BC137","v":0},{"$f":"成績入力!BD137","v":0},{"$f":"成績入力!BE137","v":0},{"$f":"成績入力!BF137","v":0},{"$f":"成績入力!BG137","v":0},{"$f":"成績入力!BH137","v":0},{"$f":"成績入力!BI137","v":0},{"$f":"成績入力!BJ137","v":0},{"$f":"成績入力!BK137","v":0},{"$f":"成績入力!BL137","v":0},null,null,137]
[null,49,5,6,{"$f":"成績入力!AH138","v":119},{"$f":"成績入力!AI138","v":0},{"$f":"成績入力!AJ138","v":0},{"$f":"成績入力!AK138","v":0},{"$f":"成績入力!BM138","v":0},{"$f":"成績入力!BN138","v":0},{"$f":"成績入力!AL138","v":0},{"$f":"成績入力!AM138","v":0},{"$f":"成績入力!AN138","v":0},{"$f":"成績入力!AO138","v":0},{"$f":"成績入力!AP138","v":0},{"$f":"成績入力!AQ138","v":0},{"$f":"成績入力!AR138","v":0},{"$f":"成績入力!AS138","v":0},{"$f":"成績入力!AT138","v":0},{"$f":"成績入力!AU138","v":0},{"$f":"成績入力!AV138","v":0},{"$f":"成績入力!AW138","v":0},{"$f":"成績入力!AX138","v":0},{"$f":"成績入力!AY138","v":0},{"$f":"成績入力!AZ138","v":0},{"$f":"成績入力!BA138","v":0},{"$f":"成績入力!BB138","v":0},{"$f":"成績入力!BC138","v":0},{"$f":"成績入力!BD138","v":0},{"$f":"成績入力!BE138","v":0},{"$f":"成績入力!BF138","v":0},{"$f":"成績入力!BG138","v":0},{"$f":"成績入力!BH138","v":0},{"$f":"成績入力!BI138","v":0},{"$f":"成績入力!BJ138","v":0},{"$f":"成績入力!BK138","v":0},{"$f":"成績入力!BL138","v":0},null,null,138]
[null,50,5,6,{"$f":"成績入力!AH139","v":120},{"$f":"成績入力!AI139","v":0},{"$f":"成績入力!AJ139","v":0},{"$f":"成績入力!AK139","v":0},{"$f":"成績入力!BM139","v":0},{"$f":"成績入力!BN139","v":0},{"$f":"成績入力!AL139","v":0},{"$f":"成績入力!AM139","v":0},{"$f":"成績入力!AN139","v":0},{"$f":"成績入力!AO139","v":0},{"$f":"成績入力!AP139","v":0},{"$f":"成績入力!AQ139","v":0},{"$f":"成績入力!AR139","v":0},{"$f":"成績入力!AS139","v":0},{"$f":"成績入力!AT139","v":0},{"$f":"成績入力!AU139","v":0},{"$f":"成績入力!AV139","v":0},{"$f":"成績入力!AW139","v":0},{"$f":"成績入力!AX139","v":0},{"$f":"成績入力!AY139","v":0},{"$f":"成績入力!AZ139","v":0},{"$f":"成績入力!BA139","v":0},{"$f":"成績入力!BB139","v":0},{"$f":"成績入力!BC139","v":0},{"$f":"成績入力!BD139","v":0},{"$f":"成績入力!BE139","v":0},{"$f":"成績入力!BF139","v":0},{"$f":"成績入力!BG139","v":0},{"$f":"成績入力!BH139","v":0},{"$f":"成績入力!BI139","v":0},{"$f":"成績入力!BJ139","v":0},{"$f":"成績入力!BK139","v":0},{"$f":"成績入力!BL139","v":0},null,null,139]
[]
[]
[]
[null,null,null,null,null,null,null,null,"回答数・・・・",null,{"$f":"COUNTA(K7:K56)","v":50},{"$f":"COUNTA(L7:L56)","v":50},50,50,50,50,50,50,50,50,50,50,50,50,50,50,50,50,50,50,50,null,{"$f":"COUNTA(AG7:AG56)","v":50}]
[null,null,null,null,null,null,null,null,"正解数・・・・",null,{"$f":"COUNTIF(K7:K56,K5)","v":1},{"$f":"COUNTIF(L7:L56,L5)","v":4},4,3,5,3,4,2,4,5,4,50,50,50,50,50,50,50,50,50,50,null,{"$f":"COUNTIF(AG7:AG56,AG5)","v":50}]
[null,null,null,null,null,null,null,null,"正解率 （％)",null,{"$f":"K61/K60*100","v":2},8,8,6,10,6,8,4,8,10,8,100,100,100,100,100,100,100,100,100,100,null,{"$f":"AG61/AG60*100","v":100}]

{"sheet":"Ｎクラス詳細速報","index":6,"n_rows":62,"n_cols":40,"rows_kept":62,"cut":false,"hidden":false,"merged":[[61,8,61,9],[3,1,4,1],[3,2,4,2],[59,8,59,9],[60,8,60,9]]}
[]
[null,null,null,null,"Ｎ","クラス 成績表",null,null,null,null,{"$f":"Ａ速報!$F$2","v":"トレイル・オリエンテーリング 岩槻城址大会"}]
[]
[null,"行番号","仮順位","順位","エントリー","氏　　名","所　　属","不","合計","合計",1,{"$f":"K4+1","v":2},3,4,5,6,7,8,9,10,11,12,13,14,15,16,17,18,19,20,"TC1","TIME","TC２","TIME","減点","C","TC"]
[null,null,null,null,"番号",null,null,"参加","得点","時間",{"$f":"成績入力!AL152","v":"B"},{"$f":"成績入力!AM152","v":"D"},{"$f":"成績入力!AN152","v":"B"},{"$f":"成績入力!AO152","v":"C"},{"$f":"成績入力!AP152","v":"B"},{"$f":"成績入力!AQ152","v":"B"},{"$f":"成績入力!AR152","v":"B"},{"$f":"成績入力!AS152","v":"C"},{"$f":"成績入力!AT152","v":"C"},{"$f":"成績入力!AU152","v":0},{"$f":"成績入力!AV152","v":0},{"$f":"成績入力!AW152","v":0},{"$f":"成績入力!AX152","v":0},{"$f":"成績入力!AY152","v":0},{"$f":"成績入力!AZ152","v":0},{"$f":"成績入力!BA152","v":0},{"$f":"成績入力!BB152","v":0},{"$f":"成績入力!BC152","v":0},{"$f":"成績入力!BD152","v":0},{"$f":"成績入力!BE152","v":0},{"$f":"成績入力!BF152","v":0},"(秒)",{"$f":"成績入力!$BH$152","v":0},"(秒)","ﾀｲﾑｵｰﾊﾞｰ","得点","得点"]
[null,null,null,null,null,0,0,null,0,0,null,null,null,null,null,null,null,null,null,null,null,null,null,null,null,null,null,null,null,null,null,null,null,null,null,0,0]
[null,1,{"$f":"IF(AND(AJ7=AJ6,AK7=AK6),C6,C6+1)","v":1},{"$f":"RANK(C7,$C$7:$C$56,1)","v":1},{"$f":"成績入力!AH156","v":134},{"$f":"成績入力!AI156","v":"今井　信也"},{"$f":"成績入力!AJ156","v":0},{"$f":"成績入力!AK156","v":0},{"$f":"成績入力!BM156","v":8},{"$f":"成績入力!BN156","v":0},{"$f":"成績入力!AL156","v":"B"},{"$f":"成績入力!AM156","v":"D"},{"$f":"成績入力!AN156","v":"B"},{"$f":"成績入力!AO156","v":"C"},{"$f":"成績入力!AP156","v":"B"},{"$f":"成績入力!AQ156","v":"B"},{"$f":"成績入力!AR156","v":"B"},{"$f":"成績入力!AS156","v":"C"},{"$f":"成績入力!AT156","v":0},{"$f":"成績入力!AU156","v":0},{"$f":"成績入力!AV156","v":0},{"$f":"成績入力!AW156","v":0},{"$f":"成績入力!AX156","v":0},{"$f":"成績入力!AY156","v":0},{"$f":"成績入力!AZ156","v":0},{"$f":"成績入力!BA156","v":0},{"$f":"成績入力!BB156","v":0},{"$f":"成績入力!BC156","v":0},{"$f":"成績入力!BD156","v":0},{"$f":"成績入力!BE156","v":0},{"$f":"成績入力!BF156","v":0},{"$f":"成績入力!BG156","v":0},{"$f":"成績入力!BH156","v":0},{"$f":"成績入力!BI156","v":0},{"$f":"成績入力!BJ156","v":0},{"$f":"成績入力!BK156","v":8},{"$f":"成績入力!BL156","v":0},null,null,153]
[null,{"$f":"B7+1","v":2},2,{"$f":"RANK(C8,$C$7:$C$56,1)","v":2},{"$f":"成績入力!AH153","v":131},{"$f":"成績入力!AI153","v":"斉藤　栄子"},{"$f":"成績入力!AJ153","v":0},{"$f":"成績入力!AK153","v":0},{"$f":"成績入力!BM153","v":6},{"$f":"成績入力!BN153","v":0},{"$f":"成績入力!AL153","v":"B"},{"$f":"成績入力!AM153","v":"D"},{"$f":"成績入力!AN153","v":"B"},{"$f":"成績入力!AO153","v":"C"},{"$f":"成績入力!AP153","v":"A"},{"$f":"成績入力!AQ153","v":"B"},{"$f":"成績入力!AR153","v":"B"},{"$f":"成績入力!AS153","v":"D"},{"$f":"成績入力!AT153","v":0},{"$f":"成績入力!AU153","v":0},{"$f":"成績入力!AV153","v":0},{"$f":"成績入力!AW153","v":0},{"$f":"成績入力!AX153","v":0},{"$f":"成績入力!AY153","v":0},{"$f":"成績入力!AZ153","v":0},{"$f":"成績入力!BA153","v":0},{"$f":"成績入力!BB153","v":0},{"$f":"成績入力!BC153","v":0},{"$f":"成績入力!BD153","v":0},{"$f":"成績入力!BE153","v":0},{"$f":"成績入力!BF153","v":0},{"$f":"成績入力!BG153","v":0},{"$f":"成績入力!BH153","v":0},{"$f":"成績入力!BI153","v":0},{"$f":"成績入力!BJ153","v":0},{"$f":"成績入力!BK153","v":6},{"$f":"成績入力!BL153","v":0},null,null,154]
[null,3,2,{"$f":"RANK(C9,$C$7:$C$56,1)","v":2},{"$f":"成績入力!AH154","v":132},{"$f":"成績入力!AI154","v":"直江　有紀"},{"$f":"成績入力!AJ154","v":0},{"$f":"成績入力!AK154","v":0},{"$f":"成績入力!BM154","v":6},{"$f":"成績入力!BN154","v":0},{"$f":"成績入力!AL154","v":"B"},{"$f":"成績入力!AM154","v":"D"},{"$f":"成績入力!AN154","v":"B"},{"$f":"成績入力!AO154","v":"D"},{"$f":"成績入力!AP154","v":"A"},{"$f":"成績入力!AQ154","v":"B"},{"$f":"成績入力!AR154","v":"B"},{"$f":"成績入力!AS154","v":"C"},{"$f":"成績入力!AT154","v":0},{"$f":"成績入力!AU154","v":0},{"$f":"成績入力!AV154","v":0},{"$f":"成績入力!AW154","v":0},{"$f":"成績入力!AX154","v":0},{"$f":"成績入力!AY154","v":0},{"$f":"成績入力!AZ154","v":0},{"$f":"成績入力!BA154","v":0},{"$f":"成績入力!BB154","v":0},{"$f":"成績入力!BC154","v":0},{"$f":"成績入力!BD154","v":0},{"$f":"成績入力!BE154","v":0},{"$f":"成績入力!BF154","v":0},{"$f":"成績入力!BG154","v":0},{"$f":"成績入力!BH154","v":0},{"$f":"成績入力!BI154","v":0},{"$f":"成績入力!BJ154","v":0},{"$f":"成績入力!BK154","v":6},{"$f":"成績入力!BL154","v":0},null,null,155]
[null,4,3,{"$f":"RANK(C10,$C$7:$C$56,1)","v":4},{"$f":"成績入力!AH155","v":133},{"$f":"成績入力!AI155","v":"鮫島　一郎"},{"$f":"成績入力!AJ155","v":"埼玉県障害者スポーツ指導者協議会"},{"$f":"成績入力!AK155","v":0},{"$f":"成績入力!BM155","v":5},{"$f":"成績入力!BN155","v":0},{"$f":"成績入力!AL155","v":"B"},{"$f":"成績入力!AM155","v":"D"},{"$f":"成績入力!AN155","v":"B"},{"$f":"成績入力!AO155","v":"A"},{"$f":"成績入力!AP155","v":"B"},{"$f":"成績入力!AQ155","v":"C"},{"$f":"成績入力!AR155","v":"B"},{"$f":"成績入力!AS155","v":"D"},{"$f":"成績入力!AT155","v":0},{"$f":"成績入力!AU155","v":0},{"$f":"成績入力!AV155","v":0},{"$f":"成績入力!AW155","v":0},{"$f":"成績入力!AX155","v":0},{"$f":"成績入力!AY155","v":0},{"$f":"成績入力!AZ155","v":0},{"$f":"成績入力!BA155","v":0},{"$f":"成績入力!BB155","v":0},{"$f":"成績入力!BC155","v":0},{"$f":"成績入力!BD155","v":0},{"$f":"成績入力!BE155","v":0},{"$f":"成績入力!BF155","v":0},{"$f":"成績入力!BG155","v":0},{"$f":"成績入力!BH155","v":0},{"$f":"成績入力!BI155","v":0},{"$f":"成績入力!BJ155","v":0},{"$f":"成績入力!BK155","v":5},{"$f":"成績入力!BL155","v":0},null,null,156]
[null,5,4,{"$f":"RANK(C11,$C$7:$C$56,1)","v":5},{"$f":"成績入力!AH157","v":135},{"$f":"成績入力!AI157","v":0},{"$f":"成績入力!AJ157","v":0},{"$f":"成績入力!AK157","v":0},{"$f":"成績入力!BM157","v":0},{"$f":"成績入力!BN157","v":0},{"$f":"成績入力!AL157","v":0},{"$f":"成績入力!AM157","v":0},{"$f":"成績入力!AN157","v":0},{"$f":"成績入力!AO157","v":0},{"$f":"成績入力!AP157","v":0},{"$f":"成績入力!AQ157","v":0},{"$f":"成績入力!AR157","v":0},{"$f":"成績入力!AS157","v":0},{"$f":"成績入力!AT157","v":0},{"$f":"成績入力!AU157","v":0},{"$f":"成績入力!AV157","v":0},{"$f":"成績入力!AW157","v":0},{"$f":"成績入力!AX157","v":0},{"$f":"成績入力!AY157","v":0},{"$f":"成績入力!AZ157","v":0},{"$f":"成績入力!BA157","v":0},{"$f":"成績入力!BB157","v":0},{"$f":"成績入力!BC157","v":0},{"$f":"成績入力!BD157","v":0},{"$f":"成績入力!BE157","v":0},{"$f":"成績入力!BF157","v":0},{"$f":"成績入力!BG157","v":0},{"$f":"成績入力!BH157","v":0},{"$f":"成績入力!BI157","v":0},{"$f":"成績入力!BJ157","v":0},{"$f":"成績入力!BK157","v":0},{"$f":"成績入力!BL157","v":0},null,null,157]
[null,6,4,5,{"$f":"成績入力!AH158","v":136},{"$f":"成績入力!AI158","v":0},{"$f":"成績入力!AJ158","v":0},{"$f":"成績入力!AK158","v":0},{"$f":"成績入力!BM158","v":0},{"$f":"成績入力!BN158","v":0},{"$f":"成績入力!AL158","v":0},{"$f":"成績入力!AM158","v":0},{"$f":"成績入力!AN158","v":0},{"$f":"成績入力!AO158","v":0},{"$f":"成績入力!AP158","v":0},{"$f":"成績入力!AQ158","v":0},{"$f":"成績入力!AR158","v":0},{"$f":"成績入力!AS158","v":0},{"$f":"成績入力!AT158","v":0},{"$f":"成績入力!AU158","v":0},{"$f":"成績入力!AV158","v":0},{"$f":"成績入力!AW158","v":0},{"$f":"成績入力!AX158","v":0},{"$f":"成績入力!AY158","v":0},{"$f":"成績入力!AZ158","v":0},{"$f":"成績入力!BA158","v":0},{"$f":"成績入力!BB158","v":0},{"$f":"成績入力!BC158","v":0},{"$f":"成績入力!BD158","v":0},{"$f":"成績入力!BE158","v":0},{"$f":"成績入力!BF158","v":0},{"$f":"成績入力!BG158","v":0},{"$f":"成績入力!BH158","v":0},{"$f":"成績入力!BI158","v":0},{"$f":"成績入力!BJ158","v":0},{"$f":"成績入力!BK158","v":0},{"$f":"成績入力!BL158","v":0},null,null,158]
[null,7,4,5,{"$f":"成績入力!AH159","v":137},{"$f":"成績入力!AI159","v":0},{"$f":"成績入力!AJ159","v":0},{"$f":"成績入力!AK159","v":0},{"$f":"成績入力!BM159","v":0},{"$f":"成績入力!BN159","v":0},{"$f":"成績入力!AL159","v":0},{"$f":"成績入力!AM159","v":0},{"$f":"成績入力!AN159","v":0},{"$f":"成績入力!AO159","v":0},{"$f":"成績入力!AP159","v":0},{"$f":"成績入力!AQ159","v":0},{"$f":"成績入力!AR159","v":0},{"$f":"成績入力!AS159","v":0},{"$f":"成績入力!AT159","v":0},{"$f":"成績入力!AU159","v":0},{"$f":"成績入力!AV159","v":0},{"$f":"成績入力!AW159","v":0},{"$f":"成績入力!AX159","v":0},{"$f":"成績入力!AY159","v":0},{"$f":"成績入力!AZ159","v":0},{"$f":"成績入力!BA159","v":0},{"$f":"成績入力!BB159","v":0},{"$f":"成績入力!BC159","v":0},{"$f":"成績入力!BD159","v":0},{"$f":"成績入力!BE159","v":0},{"$f":"成績入力!BF159","v":0},{"$f":"成績入力!BG159","v":0},{"$f":"成績入力!BH159","v":0},{"$f":"成績入力!BI159","v":0},{"$f":"成績入力!BJ159","v":0},{"$f":"成績入力!BK159","v":0},{"$f":"成績入力!BL159","v":0},null,null,159]
[null,8,4,5,{"$f":"成績入力!AH160","v":138},{"$f":"成績入力!AI160","v":0},{"$f":"成績入力!AJ160","v":0},{"$f":"成績入力!AK160","v":0},{"$f":"成績入力!BM160","v":0},{"$f":"成績入力!BN160","v":0},{"$f":"成績入力!AL160","v":0},{"$f":"成績入力!AM160","v":0},{"$f":"成績入力!AN160","v":0},{"$f":"成績入力!AO160","v":0},{"$f":"成績入力!AP160","v":0},{"$f":"成績入力!AQ160","v":0},{"$f":"成績入力!AR160","v":0},{"$f":"成績入力!AS160","v":0},{"$f":"成績入力!AT160","v":0},{"$f":"成績入力!AU160","v":0},{"$f":"成績入力!AV160","v":0},{"$f":"成績入力!AW160","v":0},{"$f":"成績入力!AX160","v":0},{"$f":"成績入力!AY160","v":0},{"$f":"成績入力!AZ160","v":0},{"$f":"成績入力!BA160","v":0},{"$f":"成績入力!BB160","v":0},{"$f":"成績入力!BC160","v":0},{"$f":"成績入力!BD160","v":0},{"$f":"成績入力!BE160","v":0},{"$f":"成績入力!BF160","v":0},{"$f":"成績入力!BG160","v":0},{"$f":"成績入力!BH160","v":0},{"$f":"成績入力!BI160","v":0},{"$f":"成績入力!BJ160","v":0},{"$f":"成績入力!BK160","v":0},{"$f":"成績入力!BL160","v":0},null,null,160]
[null,9,4,5,{"$f":"成績入力!AH161","v":139},{"$f":"成績入力!AI161","v":0},{"$f":"成績入力!AJ161","v":0},{"$f":"成績入力!AK161","v":0},{"$f":"成績入力!BM161","v":0},{"$f":"成績入力!BN161","v":0},{"$f":"成績入力!AL161","v":0},{"$f":"成績入力!AM161","v":0},{"$f":"成績入力!AN161","v":0},{"$f":"成績入力!AO161","v":0},{"$f":"成績入力!AP161","v":0},{"$f":"成績入力!AQ161","v":0},{"$f":"成績入力!AR161","v":0},{"$f":"成績入力!AS161","v":0},{"$f":"成績入力!AT161","v":0},{"$f":"成績入力!AU161","v":0},{"$f":"成績入力!AV161","v":0},{"$f":"成績入力!AW161","v":0},{"$f":"成績入力!AX161","v":0},{"$f":"成績入力!AY161","v":0},{"$f":"成績入力!AZ161","v":0},{"$f":"成績入力!BA161","v":0},{"$f":"成績入力!BB161","v":0},{"$f":"成績入力!BC161","v":0},{"$f":"成績入力!BD161","v":0},{"$f":"成績入力!BE161","v":0},{"$f":"成績入力!BF161","v":0},{"$f":"成績入力!BG161","v":0},{"$f":"成績入力!BH161","v":0},{"$f":"成績入力!BI161","v":0},{"$f":"成績入力!BJ161","v":0},{"$f":"成績入力!BK161","v":0},{"$f":"成績入力!BL161","v":0},null,null,161]
[null,10,4,5,{"$f":"成績入力!AH162","v":140},{"$f":"成績入力!AI162","v":0},{"$f":"成績入力!AJ162","v":0},{"$f":"成績入力!AK162","v":0},{"$f":"成績入力!BM162","v":0},{"$f":"成績入力!BN162","v":0},{"$f":"成績入力!AL162","v":0},{"$f":"成績入力!AM162","v":0},{"$f":"成績入力!AN162","v":0},{"$f":"成績入力!AO162","v":0},{"$f":"成績入力!AP162","v":0},{"$f":"成績入力!AQ162","v":0},{"$f":"成績入力!AR162","v":0},{"$f":"成績入力!AS162","v":0},{"$f":"成績入力!AT162","v":0},{"$f":"成績入力!AU162","v":0},{"$f":"成績入力!AV162","v":0},{"$f":"成績入力!AW162","v":0},{"$f":"成績入力!AX162","v":0},{"$f":"成績入力!AY162","v":0},{"$f":"成績入力!AZ162","v":0},{"$f":"成績入力!BA162","v":0},{"$f":"成績入力!BB162","v":0},{"$f":"成績入力!BC162","v":0},{"$f":"成績入力!BD162","v":0},{"$f":"成績入力!BE162","v":0},{"$f":"成績入力!BF162","v":0},{"$f":"成績入力!BG162","v":0},{"$f":"成績入力!BH162","v":0},{"$f":"成績入力!BI162","v":0},{"$f":"成績入力!BJ162","v":0},{"$f":"成績入力!BK162","v":0},{"$f":"成績入力!BL162","v":0},null,null,162]
[null,11,4,5,{"$f":"成績入力!AH163","v":141},{"$f":"成績入力!AI163","v":0},{"$f":"成績入力!AJ163","v":0},{"$f":"成績入力!AK163","v":0},{"$f":"成績入力!BM163","v":0},{"$f":"成績入力!BN163","v":0},{"$f":"成績入力!AL163","v":0},{"$f":"成績入力!AM163","v":0},{"$f":"成績入力!AN163","v":0},{"$f":"成績入力!AO163","v":0},{"$f":"成績入力!AP163","v":0},{"$f":"成績入力!AQ163","v":0},{"$f":"成績入力!AR163","v":0},{"$f":"成績入力!AS163","v":0},{"$f":"成績入力!AT163","v":0},{"$f":"成績入力!AU163","v":0},{"$f":"成績入力!AV163","v":0},{"$f":"成績入力!AW163","v":0},{"$f":"成績入力!AX163","v":0},{"$f":"成績入力!AY163","v":0},{"$f":"成績入力!AZ163","v":0},{"$f":"成績入力!BA163","v":0},{"$f":"成績入力!BB163","v":0},{"$f":"成績入力!BC163","v":0},{"$f":"成績入力!BD163","v":0},{"$f":"成績入力!BE163","v":0},{"$f":"成績入力!BF163","v":0},{"$f":"成績入力!BG163","v":0},{"$f":"成績入力!BH163","v":0},{"$f":"成績入力!BI163","v":0},{"$f":"成績入力!BJ163","v":0},{"$f":"成績入力!BK163","v":0},{"$f":"成績入力!BL163","v":0},null,null,163]
[null,12,4,5,{"$f":"成績入力!AH164","v":142},{"$f":"成績入力!AI164","v":0},{"$f":"成績入力!AJ164","v":0},{"$f":"成績入力!AK164","v":0},{"$f":"成績入力!BM164","v":0},{"$f":"成績入力!BN164","v":0},{"$f":"成績入力!AL164","v":0},{"$f":"成績入力!AM164","v":0},{"$f":"成績入力!AN164","v":0},{"$f":"成績入力!AO164","v":0},{"$f":"成績入力!AP164","v":0},{"$f":"成績入力!AQ164","v":0},{"$f":"成績入力!AR164","v":0},{"$f":"成績入力!AS164","v":0},{"$f":"成績入力!AT164","v":0},{"$f":"成績入力!AU164","v":0},{"$f":"成績入力!AV164","v":0},{"$f":"成績入力!AW164","v":0},{"$f":"成績入力!AX164","v":0},{"$f":"成績入力!AY164","v":0},{"$f":"成績入力!AZ164","v":0},{"$f":"成績入力!BA164","v":0},{"$f":"成績入力!BB164","v":0},{"$f":"成績入力!BC164","v":0},{"$f":"成績入力!BD164","v":0},{"$f":"成績入力!BE164","v":0},{"$f":"成績入力!BF164","v":0},{"$f":"成績入力!BG164","v":0},{"$f":"成績入力!BH164","v":0},{"$f":"成績入力!BI164","v":0},{"$f":"成績入力!BJ164","v":0},{"$f":"成績入力!BK164","v":0},{"$f":"成績入力!BL164","v":0},null,null,164]
[null,13,4,5,{"$f":"成績入力!AH165","v":143},{"$f":"成績入力!AI165","v":0},{"$f":"成績入力!AJ165","v":0},{"$f":"成績入力!AK165","v":0},{"$f":"成績入力!BM165","v":0},{"$f":"成績入力!BN165","v":0},{"$f":"成績入力!AL165","v":0},{"$f":"成績入力!AM165","v":0},{"$f":"成績入力!AN165","v":0},{"$f":"成績入力!AO165","v":0},{"$f":"成績入力!AP165","v":0},{"$f":"成績入力!AQ165","v":0},{"$f":"成績入力!AR165","v":0},{"$f":"成績入力!AS165","v":0},{"$f":"成績入力!AT165","v":0},{"$f":"成績入力!AU165","v":0},{"$f":"成績入力!AV165","v":0},{"$f":"成績入力!AW165","v":0},{"$f":"成績入力!AX165","v":0},{"$f":"成績入力!AY165","v":0},{"$f":"成績入力!AZ165","v":0},{"$f":"成績入力!BA165","v":0},{"$f":"成績入力!BB165","v":0},{"$f":"成績入力!BC165","v":0},{"$f":"成績入力!BD165","v":0},{"$f":"成績入力!BE165","v":0},{"$f":"成績入力!BF165","v":0},{"$f":"成績入力!BG165","v":0},{"$f":"成績入力!BH165","v":0},{"$f":"成績入力!BI165","v":0},{"$f":"成績入力!BJ165","v":0},{"$f":"成績入力!BK165","v":0},{"$f":"成績入力!BL165","v":0},null,null,165]
[null,14,4,5,{"$f":"成績入力!AH166","v":144},{"$f":"成績入力!AI166","v":0},{"$f":"成績入力!AJ166","v":0},{"$f":"成績入力!AK166","v":0},{"$f":"成績入力!BM166","v":0},{"$f":"成績入力!BN166","v":0},{"$f":"成績入力!AL166","v":0},{"$f":"成績入力!AM166","v":0},{"$f":"成績入力!AN166","v":0},{"$f":"成績入力!AO166","v":0},{"$f":"成績入力!AP166","v":0},{"$f":"成績入力!AQ166","v":0},{"$f":"成績入力!AR166","v":0},{"$f":"成績入力!AS166","v":0},{"$f":"成績入力!AT166","v":0},{"$f":"成績入力!AU166","v":0},{"$f":"成績入力!AV166","v":0},{"$f":"成績入力!AW166","v":0},{"$f":"成績入力!AX166","v":0},{"$f":"成績入力!AY166","v":0},{"$f":"成績入力!AZ166","v":0},{"$f":"成績入力!BA166","v":0},{"$f":"成績入力!BB166","v":0},{"$f":"成績入力!BC166","v":0},{"$f":"成績入力!BD166","v":0},{"$f":"成績入力!BE166","v":0},{"$f":"成績入力!BF166","v":0},{"$f":"成績入力!BG166","v":0},{"$f":"成績入力!BH166","v":0},{"$f":"成績入力!BI166","v":0},{"$f":"成績入力!BJ166","v":0},{"$f":"成績入力!BK166","v":0},{"$f":"成績入力!BL166","v":0},null,null,166]
[null,15,4,5,{"$f":"成績入力!AH167","v":145},{"$f":"成績入力!AI167","v":0},{"$f":"成績入力!AJ167","v":0},{"$f":"成績入力!AK167","v":0},{"$f":"成績入力!BM167","v":0},{"$f":"成績入力!BN167","v":0},{"$f":"成績入力!AL167","v":0},{"$f":"成績入力!AM167","v":0},{"$f":"成績入力!AN167","v":0},{"$f":"成績入力!AO167","v":0},{"$f":"成績入力!AP167","v":0},{"$f":"成績入力!AQ167","v":0},{"$f":"成績入力!AR167","v":0},{"$f":"成績入力!AS167","v":0},{"$f":"成績入力!AT167","v":0},{"$f":"成績入力!AU167","v":0},{"$f":"成績入力!AV167","v":0},{"$f":"成績入力!AW167","v":0},{"$f":"成績入力!AX167","v":0},{"$f":"成績入力!AY167","v":0},{"$f":"成績入力!AZ167","v":0},{"$f":"成績入力!BA167","v":0},{"$f":"成績入力!BB167","v":0},{"$f":"成績入力!BC167","v":0},{"$f":"成績入力!BD167","v":0},{"$f":"成績入力!BE167","v":0},{"$f":"成績入力!BF167","v":0},{"$f":"成績入力!BG167","v":0},{"$f":"成績入力!BH167","v":0},{"$f":"成績入力!BI167","v":0},{"$f":"成績入力!BJ167","v":0},{"$f":"成績入力!BK167","v":0},{"$f":"成績入力!BL167","v":0},null,null,167]
[null,16,4,5,{"$f":"成績入力!AH168","v":146},{"$f":"成績入力!AI168","v":0},{"$f":"成績入力!AJ168","v":0},{"$f":"成績入力!AK168","v":0},{"$f":"成績入力!BM168","v":0},{"$f":"成績入力!BN168","v":0},{"$f":"成績入力!AL168","v":0},{"$f":"成績入力!AM168","v":0},{"$f":"成績入力!AN168","v":0},{"$f":"成績入力!AO168","v":0},{"$f":"成績入力!AP168","v":0},{"$f":"成績入力!AQ168","v":0},{"$f":"成績入力!AR168","v":0},{"$f":"成績入力!AS168","v":0},{"$f":"成績入力!AT168","v":0},{"$f":"成績入力!AU168","v":0},{"$f":"成績入力!AV168","v":0},{"$f":"成績入力!AW168","v":0},{"$f":"成績入力!AX168","v":0},{"$f":"成績入力!AY168","v":0},{"$f":"成績入力!AZ168","v":0},{"$f":"成績入力!BA168","v":0},{"$f":"成績入力!BB168","v":0},{"$f":"成績入力!BC168","v":0},{"$f":"成績入力!BD168","v":0},{"$f":"成績入力!BE168","v":0},{"$f":"成績入力!BF168","v":0},{"$f":"成績入力!BG168","v":0},{"$f":"成績入力!BH168","v":0},{"$f":"成績入力!BI168","v":0},{"$f":"成績入力!BJ168","v":0},{"$f":"成績入力!BK168","v":0},{"$f":"成績入力!BL168","v":0},null,null,168]
[null,17,4,5,{"$f":"成績入力!AH169","v":147},{"$f":"成績入力!AI169","v":0},{"$f":"成績入力!AJ169","v":0},{"$f":"成績入力!AK169","v":0},{"$f":"成績入力!BM169","v":0},{"$f":"成績入力!BN169","v":0},{"$f":"成績入力!AL169","v":0},{"$f":"成績入力!AM169","v":0},{"$f":"成績入力!AN169","v":0},{"$f":"成績入力!AO169","v":0},{"$f":"成績入力!AP169","v":0},{"$f":"成績入力!AQ169","v":0},{"$f":"成績入力!AR169","v":0},{"$f":"成績入力!AS169","v":0},{"$f":"成績入力!AT169","v":0},{"$f":"成績入力!AU169","v":0},{"$f":"成績入力!AV169","v":0},{"$f":"成績入力!AW169","v":0},{"$f":"成績入力!AX169","v":0},{"$f":"成績入力!AY169","v":0},{"$f":"成績入力!AZ169","v":0},{"$f":"成績入力!BA169","v":0},{"$f":"成績入力!BB169","v":0},{"$f":"成績入力!BC169","v":0},{"$f":"成績入力!BD169","v":0},{"$f":"成績入力!BE169","v":0},{"$f":"成績入力!BF169","v":0},{"$f":"成績入力!BG169","v":0},{"$f":"成績入力!BH169","v":0},{"$f":"成績入力!BI169","v":0},{"$f":"成績入力!BJ169","v":0},{"$f":"成績入力!BK169","v":0},{"$f":"成績入力!BL169","v":0},null,null,169]
[null,18,4,5,{"$f":"成績入力!AH170","v":148},{"$f":"成績入力!AI170","v":0},{"$f":"成績入力!AJ170","v":0},{"$f":"成績入力!AK170","v":0},{"$f":"成績入力!BM170","v":0},{"$f":"成績入力!BN170","v":0},{"$f":"成績入力!AL170","v":0},{"$f":"成績入力!AM170","v":0},{"$f":"成績入力!AN170","v":0},{"$f":"成績入力!AO170","v":0},{"$f":"成績入力!AP170","v":0},{"$f":"成績入力!AQ170","v":0},{"$f":"成績入力!AR170","v":0},{"$f":"成績入力!AS170","v":0},{"$f":"成績入力!AT170","v":0},{"$f":"成績入力!AU170","v":0},{"$f":"成績入力!AV170","v":0},{"$f":"成績入力!AW170","v":0},{"$f":"成績入力!AX170","v":0},{"$f":"成績入力!AY170","v":0},{"$f":"成績入力!AZ170","v":0},{"$f":"成績入力!BA170","v":0},{"$f":"成績入力!BB170","v":0},{"$f":"成績入力!BC170","v":0},{"$f":"成績入力!BD170","v":0},{"$f":"成績入力!BE170","v":0},{"$f":"成績入力!BF170","v":0},{"$f":"成績入力!BG170","v":0},{"$f":"成績入力!BH170","v":0},{"$f":"成績入力!BI170","v":0},{"$f":"成績入力!BJ170","v":0},{"$f":"成績入力!BK170","v":0},{"$f":"成績入力!BL170","v":0},null,null,170]
[null,19,4,5,{"$f":"成績入力!AH171","v":149},{"$f":"成績入力!AI171","v":0},{"$f":"成績入力!AJ171","v":0},{"$f":"成績入力!AK171","v":0},{"$f":"成績入力!BM171","v":0},{"$f":"成績入力!BN171","v":0},{"$f":"成績入力!AL171","v":0},{"$f":"成績入力!AM171","v":0},{"$f":"成績入力!AN171","v":0},{"$f":"成績入力!AO171","v":0},{"$f":"成績入力!AP171","v":0},{"$f":"成績入力!AQ171","v":0},{"$f":"成績入力!AR171","v":0},{"$f":"成績入力!AS171","v":0},{"$f":"成績入力!AT171","v":0},{"$f":"成績入力!AU171","v":0},{"$f":"成績入力!AV171","v":0},{"$f":"成績入力!AW171","v":0},{"$f":"成績入力!AX171","v":0},{"$f":"成績入力!AY171","v":0},{"$f":"成績入力!AZ171","v":0},{"$f":"成績入力!BA171","v":0},{"$f":"成績入力!BB171","v":0},{"$f":"成績入力!BC171","v":0},{"$f":"成績入力!BD171","v":0},{"$f":"成績入力!BE171","v":0},{"$f":"成績入力!BF171","v":0},{"$f":"成績入力!BG171","v":0},{"$f":"成績入力!BH171","v":0},{"$f":"成績入力!BI171","v":0},{"$f":"成績入力!BJ171","v":0},{"$f":"成績入力!BK171","v":0},{"$f":"成績入力!BL171","v":0},null,null,171]
[null,20,4,5,{"$f":"成績入力!AH172","v":150},{"$f":"成績入力!AI172","v":0},{"$f":"成績入力!AJ172","v":0},{"$f":"成績入力!AK172","v":0},{"$f":"成績入力!BM172","v":0},{"$f":"成績入力!BN172","v":0},{"$f":"成績入力!AL172","v":0},{"$f":"成績入力!AM172","v":0},{"$f":"成績入力!AN172","v":0},{"$f":"成績入力!AO172","v":0},{"$f":"成績入力!AP172","v":0},{"$f":"成績入力!AQ172","v":0},{"$f":"成績入力!AR172","v":0},{"$f":"成績入力!AS172","v":0},{"$f":"成績入力!AT172","v":0},{"$f":"成績入力!AU172","v":0},{"$f":"成績入力!AV172","v":0},{"$f":"成績入力!AW172","v":0},{"$f":"成績入力!AX172","v":0},{"$f":"成績入力!AY172","v":0},{"$f":"成績入力!AZ172","v":0},{"$f":"成績入力!BA172","v":0},{"$f":"成績入力!BB172","v":0},{"$f":"成績入力!BC172","v":0},{"$f":"成績入力!BD172","v":0},{"$f":"成績入力!BE172","v":0},{"$f":"成績入力!BF172","v":0},{"$f":"成績入力!BG172","v":0},{"$f":"成績入力!BH172","v":0},{"$f":"成績入力!BI172","v":0},{"$f":"成績入力!BJ172","v":0},{"$f":"成績入力!BK172","v":0},{"$f":"成績入力!BL172","v":0},null,null,172]
[null,21,4,5,{"$f":"成績入力!AH173","v":151},{"$f":"成績入力!AI173","v":0},{"$f":"成績入力!AJ173","v":0},{"$f":"成績入力!AK173","v":0},{"$f":"成績入力!BM173","v":0},{"$f":"成績入力!BN173","v":0},{"$f":"成績入力!AL173","v":0},{"$f":"成績入力!AM173","v":0},{"$f":"成績入力!AN173","v":0},{"$f":"成績入力!AO173","v":0},{"$f":"成績入力!AP173","v":0},{"$f":"成績入力!AQ173","v":0},{"$f":"成績入力!AR173","v":0},{"$f":"成績入力!AS173","v":0},{"$f":"成績入力!AT173","v":0},{"$f":"成績入力!AU173","v":0},{"$f":"成績入力!AV173","v":0},{"$f":"成績入力!AW173","v":0},{"$f":"成績入力!AX173","v":0},{"$f":"成績入力!AY173","v":0},{"$f":"成績入力!AZ173","v":0},{"$f":"成績入力!BA173","v":0},{"$f":"成績入力!BB173","v":0},{"$f":"成績入力!BC173","v":0},{"$f":"成績入力!BD173","v":0},{"$f":"成績入力!BE173","v":0},{"$f":"成績入力!BF173","v":0},{"$f":"成績入力!BG173","v":0},{"$f":"成績入力!BH173","v":0},{"$f":"成績入力!BI173","v":0},{"$f":"成績入力!BJ173","v":0},{"$f":"成績入力!BK173","v":0},{"$f":"成績入力!BL173","v":0},null,null,173]
[null,22,4,5,{"$f":"成績入力!AH174","v":152},{"$f":"成績入力!AI174","v":0},{"$f":"成績入力!AJ174","v":0},{"$f":"成績入力!AK174","v":0},{"$f":"成績入力!BM174","v":0},{"$f":"成績入力!BN174","v":0},{"$f":"成績入力!AL174","v":0},{"$f":"成績入力!AM174","v":0},{"$f":"成績入力!AN174","v":0},{"$f":"成績入力!AO174","v":0},{"$f":"成績入力!AP174","v":0},{"$f":"成績入力!AQ174","v":0},{"$f":"成績入力!AR174","v":0},{"$f":"成績入力!AS174","v":0},{"$f":"成績入力!AT174","v":0},{"$f":"成績入力!AU174","v":0},{"$f":"成績入力!AV174","v":0},{"$f":"成績入力!AW174","v":0},{"$f":"成績入力!AX174","v":0},{"$f":"成績入力!AY174","v":0},{"$f":"成績入力!AZ174","v":0},{"$f":"成績入力!BA174","v":0},{"$f":"成績入力!BB174","v":0},{"$f":"成績入力!BC174","v":0},{"$f":"成績入力!BD174","v":0},{"$f":"成績入力!BE174","v":0},{"$f":"成績入力!BF174","v":0},{"$f":"成績入力!BG174","v":0},{"$f":"成績入力!BH174","v":0},{"$f":"成績入力!BI174","v":0},{"$f":"成績入力!BJ174","v":0},{"$f":"成績入力!BK174","v":0},{"$f":"成績入力!BL174","v":0},null,null,174]
[null,23,4,5,{"$f":"成績入力!AH175","v":153},{"$f":"成績入力!AI175","v":0},{"$f":"成績入力!AJ175","v":0},{"$f":"成績入力!AK175","v":0},{"$f":"成績入力!BM175","v":0},{"$f":"成績入力!BN175","v":0},{"$f":"成績入力!AL175","v":0},{"$f":"成績入力!AM175","v":0},{"$f":"成績入力!AN175","v":0},{"$f":"成績入力!AO175","v":0},{"$f":"成績入力!AP175","v":0},{"$f":"成績入力!AQ175","v":0},{"$f":"成績入力!AR175","v":0},{"$f":"成績入力!AS175","v":0},{"$f":"成績入力!AT175","v":0},{"$f":"成績入力!AU175","v":0},{"$f":"成績入力!AV175","v":0},{"$f":"成績入力!AW175","v":0},{"$f":"成績入力!AX175","v":0},{"$f":"成績入力!AY175","v":0},{"$f":"成績入力!AZ175","v":0},{"$f":"成績入力!BA175","v":0},{"$f":"成績入力!BB175","v":0},{"$f":"成績入力!BC175","v":0},{"$f":"成績入力!BD175","v":0},{"$f":"成績入力!BE175","v":0},{"$f":"成績入力!BF175","v":0},{"$f":"成績入力!BG175","v":0},{"$f":"成績入力!BH175","v":0},{"$f":"成績入力!BI175","v":0},{"$f":"成績入力!BJ175","v":0},{"$f":"成績入力!BK175","v":0},{"$f":"成績入力!BL175","v":0},null,null,175]
[null,24,4,5,{"$f":"成績入力!AH176","v":154},{"$f":"成績入力!AI176","v":0},{"$f":"成績入力!AJ176","v":0},{"$f":"成績入力!AK176","v":0},{"$f":"成績入力!BM176","v":0},{"$f":"成績入力!BN176","v":0},{"$f":"成績入力!AL176","v":0},{"$f":"成績入力!AM176","v":0},{"$f":"成績入力!AN176","v":0},{"$f":"成績入力!AO176","v":0},{"$f":"成績入力!AP176","v":0},{"$f":"成績入力!AQ176","v":0},{"$f":"成績入力!AR176","v":0},{"$f":"成績入力!AS176","v":0},{"$f":"成績入力!AT176","v":0},{"$f":"成績入力!AU176","v":0},{"$f":"成績入力!AV176","v":0},{"$f":"成績入力!AW176","v":0},{"$f":"成績入力!AX176","v":0},{"$f":"成績入力!AY176","v":0},{"$f":"成績入力!AZ176","v":0},{"$f":"成績入力!BA176","v":0},{"$f":"成績入力!BB176","v":0},{"$f":"成績入力!BC176","v":0},{"$f":"成績入力!BD176","v":0},{"$f":"成績入力!BE176","v":0},{"$f":"成績入力!BF176","v":0},{"$f":"成績入力!BG176","v":0},{"$f":"成績入力!BH176","v":0},{"$f":"成績入力!BI176","v":0},{"$f":"成績入力!BJ176","v":0},{"$f":"成績入力!BK176","v":0},{"$f":"成績入力!BL176","v":0},null,null,176]
[null,25,4,5,{"$f":"成績入力!AH177","v":155},{"$f":"成績入力!AI177","v":0},{"$f":"成績入力!AJ177","v":0},{"$f":"成績入力!AK177","v":0},{"$f":"成績入力!BM177","v":0},{"$f":"成績入力!BN177","v":0},{"$f":"成績入力!AL177","v":0},{"$f":"成績入力!AM177","v":0},{"$f":"成績入力!AN177","v":0},{"$f":"成績入力!AO177","v":0},{"$f":"成績入力!AP177","v":0},{"$f":"成績入力!AQ177","v":0},{"$f":"成績入力!AR177","v":0},{"$f":"成績入力!AS177","v":0},{"$f":"成績入力!AT177","v":0},{"$f":"成績入力!AU177","v":0},{"$f":"成績入力!AV177","v":0},{"$f":"成績入力!AW177","v":0},{"$f":"成績入力!AX177","v":0},{"$f":"成績入力!AY177","v":0},{"$f":"成績入力!AZ177","v":0},{"$f":"成績入力!BA177","v":0},{"$f":"成績入力!BB177","v":0},{"$f":"成績入力!BC177","v":0},{"$f":"成績入力!BD177","v":0},{"$f":"成績入力!BE177","v":0},{"$f":"成績入力!BF177","v":0},{"$f":"成績入力!BG177","v":0},{"$f":"成績入力!BH177","v":0},{"$f":"成績入力!BI177","v":0},{"$f":"成績入力!BJ177","v":0},{"$f":"成績入力!BK177","v":0},{"$f":"成績入力!BL177","v":0},null,null,177]
[null,26,4,5,{"$f":"成績入力!AH178","v":156},{"$f":"成績入力!AI178","v":0},{"$f":"成績入力!AJ178","v":0},{"$f":"成績入力!AK178","v":0},{"$f":"成績入力!BM178","v":0},{"$f":"成績入力!BN178","v":0},{"$f":"成績入力!AL178","v":0},{"$f":"成績入力!AM178","v":0},{"$f":"成績入力!AN178","v":0},{"$f":"成績入力!AO178","v":0},{"$f":"成績入力!AP178","v":0},{"$f":"成績入力!AQ178","v":0},{"$f":"成績入力!AR178","v":0},{"$f":"成績入力!AS178","v":0},{"$f":"成績入力!AT178","v":0},{"$f":"成績入力!AU178","v":0},{"$f":"成績入力!AV178","v":0},{"$f":"成績入力!AW178","v":0},{"$f":"成績入力!AX178","v":0},{"$f":"成績入力!AY178","v":0},{"$f":"成績入力!AZ178","v":0},{"$f":"成績入力!BA178","v":0},{"$f":"成績入力!BB178","v":0},{"$f":"成績入力!BC178","v":0},{"$f":"成績入力!BD178","v":0},{"$f":"成績入力!BE178","v":0},{"$f":"成績入力!BF178","v":0},{"$f":"成績入力!BG178","v":0},{"$f":"成績入力!BH178","v":0},{"$f":"成績入力!BI178","v":0},{"$f":"成績入力!BJ178","v":0},{"$f":"成績入力!BK178","v":0},{"$f":"成績入力!BL178","v":0},null,null,178]
[null,27,4,5,{"$f":"成績入力!AH179","v":157},{"$f":"成績入力!AI179","v":0},{"$f":"成績入力!AJ179","v":0},{"$f":"成績入力!AK179","v":0},{"$f":"成績入力!BM179","v":0},{"$f":"成績入力!BN179","v":0},{"$f":"成績入力!AL179","v":0},{"$f":"成績入力!AM179","v":0},{"$f":"成績入力!AN179","v":0},{"$f":"成績入力!AO179","v":0},{"$f":"成績入力!AP179","v":0},{"$f":"成績入力!AQ179","v":0},{"$f":"成績入力!AR179","v":0},{"$f":"成績入力!AS179","v":0},{"$f":"成績入力!AT179","v":0},{"$f":"成績入力!AU179","v":0},{"$f":"成績入力!AV179","v":0},{"$f":"成績入力!AW179","v":0},{"$f":"成績入力!AX179","v":0},{"$f":"成績入力!AY179","v":0},{"$f":"成績入力!AZ179","v":0},{"$f":"成績入力!BA179","v":0},{"$f":"成績入力!BB179","v":0},{"$f":"成績入力!BC179","v":0},{"$f":"成績入力!BD179","v":0},{"$f":"成績入力!BE179","v":0},{"$f":"成績入力!BF179","v":0},{"$f":"成績入力!BG179","v":0},{"$f":"成績入力!BH179","v":0},{"$f":"成績入力!BI179","v":0},{"$f":"成績入力!BJ179","v":0},{"$f":"成績入力!BK179","v":0},{"$f":"成績入力!BL179","v":0},null,null,179]
[null,28,4,5,{"$f":"成績入力!AH180","v":158},{"$f":"成績入力!AI180","v":0},{"$f":"成績入力!AJ180","v":0},{"$f":"成績入力!AK180","v":0},{"$f":"成績入力!BM180","v":0},{"$f":"成績入力!BN180","v":0},{"$f":"成績入力!AL180","v":0},{"$f":"成績入力!AM180","v":0},{"$f":"成績入力!AN180","v":0},{"$f":"成績入力!AO180","v":0},{"$f":"成績入力!AP180","v":0},{"$f":"成績入力!AQ180","v":0},{"$f":"成績入力!AR180","v":0},{"$f":"成績入力!AS180","v":0},{"$f":"成績入力!AT180","v":0},{"$f":"成績入力!AU180","v":0},{"$f":"成績入力!AV180","v":0},{"$f":"成績入力!AW180","v":0},{"$f":"成績入力!AX180","v":0},{"$f":"成績入力!AY180","v":0},{"$f":"成績入力!AZ180","v":0},{"$f":"成績入力!BA180","v":0},{"$f":"成績入力!BB180","v":0},{"$f":"成績入力!BC180","v":0},{"$f":"成績入力!BD180","v":0},{"$f":"成績入力!BE180","v":0},{"$f":"成績入力!BF180","v":0},{"$f":"成績入力!BG180","v":0},{"$f":"成績入力!BH180","v":0},{"$f":"成績入力!BI180","v":0},{"$f":"成績入力!BJ180","v":0},{"$f":"成績入力!BK180","v":0},{"$f":"成績入力!BL180","v":0},null,null,180]
[null,29,4,5,{"$f":"成績入力!AH181","v":159},{"$f":"成績入力!AI181","v":0},{"$f":"成績入力!AJ181","v":0},{"$f":"成績入力!AK181","v":0},{"$f":"成績入力!BM181","v":0},{"$f":"成績入力!BN181","v":0},{"$f":"成績入力!AL181","v":0},{"$f":"成績入力!AM181","v":0},{"$f":"成績入力!AN181","v":0},{"$f":"成績入力!AO181","v":0},{"$f":"成績入力!AP181","v":0},{"$f":"成績入力!AQ181","v":0},{"$f":"成績入力!AR181","v":0},{"$f":"成績入力!AS181","v":0},{"$f":"成績入力!AT181","v":0},{"$f":"成績入力!AU181","v":0},{"$f":"成績入力!AV181","v":0},{"$f":"成績入力!AW181","v":0},{"$f":"成績入力!AX181","v":0},{"$f":"成績入力!AY181","v":0},{"$f":"成績入力!AZ181","v":0},{"$f":"成績入力!BA181","v":0},{"$f":"成績入力!BB181","v":0},{"$f":"成績入力!BC181","v":0},{"$f":"成績入力!BD181","v":0},{"$f":"成績入力!BE181","v":0},{"$f":"成績入力!BF181","v":0},{"$f":"成績入力!BG181","v":0},{"$f":"成績入力!BH181","v":0},{"$f":"成績入力!BI181","v":0},{"$f":"成績入力!BJ181","v":0},{"$f":"成績入力!BK181","v":0},{"$f":"成績入力!BL181","v":0},null,null,181]
[null,30,4,5,{"$f":"成績入力!AH182","v":160},{"$f":"成績入力!AI182","v":0},{"$f":"成績入力!AJ182","v":0},{"$f":"成績入力!AK182","v":0},{"$f":"成績入力!BM182","v":0},{"$f":"成績入力!BN182","v":0},{"$f":"成績入力!AL182","v":0},{"$f":"成績入力!AM182","v":0},{"$f":"成績入力!AN182","v":0},{"$f":"成績入力!AO182","v":0},{"$f":"成績入力!AP182","v":0},{"$f":"成績入力!AQ182","v":0},{"$f":"成績入力!AR182","v":0},{"$f":"成績入力!AS182","v":0},{"$f":"成績入力!AT182","v":0},{"$f":"成績入力!AU182","v":0},{"$f":"成績入力!AV182","v":0},{"$f":"成績入力!AW182","v":0},{"$f":"成績入力!AX182","v":0},{"$f":"成績入力!AY182","v":0},{"$f":"成績入力!AZ182","v":0},{"$f":"成績入力!BA182","v":0},{"$f":"成績入力!BB182","v":0},{"$f":"成績入力!BC182","v":0},{"$f":"成績入力!BD182","v":0},{"$f":"成績入力!BE182","v":0},{"$f":"成績入力!BF182","v":0},{"$f":"成績入力!BG182","v":0},{"$f":"成績入力!BH182","v":0},{"$f":"成績入力!BI182","v":0},{"$f":"成績入力!BJ182","v":0},{"$f":"成績入力!BK182","v":0},{"$f":"成績入力!BL182","v":0},null,null,182]
[null,31,4,5,{"$f":"成績入力!AH183","v":161},{"$f":"成績入力!AI183","v":0},{"$f":"成績入力!AJ183","v":0},{"$f":"成績入力!AK183","v":0},{"$f":"成績入力!BM183","v":0},{"$f":"成績入力!BN183","v":0},{"$f":"成績入力!AL183","v":0},{"$f":"成績入力!AM183","v":0},{"$f":"成績入力!AN183","v":0},{"$f":"成績入力!AO183","v":0},{"$f":"成績入力!AP183","v":0},{"$f":"成績入力!AQ183","v":0},{"$f":"成績入力!AR183","v":0},{"$f":"成績入力!AS183","v":0},{"$f":"成績入力!AT183","v":0},{"$f":"成績入力!AU183","v":0},{"$f":"成績入力!AV183","v":0},{"$f":"成績入力!AW183","v":0},{"$f":"成績入力!AX183","v":0},{"$f":"成績入力!AY183","v":0},{"$f":"成績入力!AZ183","v":0},{"$f":"成績入力!BA183","v":0},{"$f":"成績入力!BB183","v":0},{"$f":"成績入力!BC183","v":0},{"$f":"成績入力!BD183","v":0},{"$f":"成績入力!BE183","v":0},{"$f":"成績入力!BF183","v":0},{"$f":"成績入力!BG183","v":0},{"$f":"成績入力!BH183","v":0},{"$f":"成績入力!BI183","v":0},{"$f":"成績入力!BJ183","v":0},{"$f":"成績入力!BK183","v":0},{"$f":"成績入力!BL183","v":0},null,null,183]
[null,32,4,5,{"$f":"成績入力!AH184","v":162},{"$f":"成績入力!AI184","v":0},{"$f":"成績入力!AJ184","v":0},{"$f":"成績入力!AK184","v":0},{"$f":"成績入力!BM184","v":0},{"$f":"成績入力!BN184","v":0},{"$f":"成績入力!AL184","v":0},{"$f":"成績入力!AM184","v":0},{"$f":"成績入力!AN184","v":0},{"$f":"成績入力!AO184","v":0},{"$f":"成績入力!AP184","v":0},{"$f":"成績入力!AQ184","v":0},{"$f":"成績入力!AR184","v":0},{"$f":"成績入力!AS184","v":0},{"$f":"成績入力!AT184","v":0},{"$f":"成績入力!AU184","v":0},{"$f":"成績入力!AV184","v":0},{"$f":"成績入力!AW184","v":0},{"$f":"成績入力!AX184","v":0},{"$f":"成績入力!AY184","v":0},{"$f":"成績入力!AZ184","v":0},{"$f":"成績入力!BA184","v":0},{"$f":"成績入力!BB184","v":0},{"$f":"成績入力!BC184","v":0},{"$f":"成績入力!BD184","v":0},{"$f":"成績入力!BE184","v":0},{"$f":"成績入力!BF184","v":0},{"$f":"成績入力!BG184","v":0},{"$f":"成績入力!BH184","v":0},{"$f":"成績入力!BI184","v":0},{"$f":"成績入力!BJ184","v":0},{"$f":"成績入力!BK184","v":0},{"$f":"成績入力!BL184","v":0},null,null,184]
[null,33,{"$f":"IF(AND(AJ39=AJ38,AK39=AK38),C38,C38+1)","v":4},{"$f":"RANK(C39,$C$7:$C$56,1)","v":5},{"$f":"成績入力!AH185","v":163},{"$f":"成績入力!AI185","v":0},{"$f":"成績入力!AJ185","v":0},{"$f":"成績入力!AK185","v":0},{"$f":"成績入力!BM185","v":0},{"$f":"成績入力!BN185","v":0},{"$f":"成績入力!AL185","v":0},{"$f":"成績入力!AM185","v":0},{"$f":"成績入力!AN185","v":0},{"$f":"成績入力!AO185","v":0},{"$f":"成績入力!AP185","v":0},{"$f":"成績入力!AQ185","v":0},{"$f":"成績入力!AR185","v":0},{"$f":"成績入力!AS185","v":0},{"$f":"成績入力!AT185","v":0},{"$f":"成績入力!AU185","v":0},{"$f":"成績入力!AV185","v":0},{"$f":"成績入力!AW185","v":0},{"$f":"成績入力!AX185","v":0},{"$f":"成績入力!AY185","v":0},{"$f":"成績入力!AZ185","v":0},{"$f":"成績入力!BA185","v":0},{"$f":"成績入力!BB185","v":0},{"$f":"成績入力!BC185","v":0},{"$f":"成績入力!BD185","v":0},{"$f":"成績入力!BE185","v":0},{"$f":"成績入力!BF185","v":0},{"$f":"成績入力!BG185","v":0},{"$f":"成績入力!BH185","v":0},{"$f":"成績入力!BI185","v":0},{"$f":"成績入力!BJ185","v":0},{"$f":"成績入力!BK185","v":0},{"$f":"成績入力!BL185","v":0},null,null,185]
[null,{"$f":"B39+1","v":34},4,5,{"$f":"成績入力!AH186","v":164},{"$f":"成績入力!AI186","v":0},{"$f":"成績入力!AJ186","v":0},{"$f":"成績入力!AK186","v":0},{"$f":"成績入力!BM186","v":0},{"$f":"成績入力!BN186","v":0},{"$f":"成績入力!AL186","v":0},{"$f":"成績入力!AM186","v":0},{"$f":"成績入力!AN186","v":0},{"$f":"成績入力!AO186","v":0},{"$f":"成績入力!AP186","v":0},{"$f":"成績入力!AQ186","v":0},{"$f":"成績入力!AR186","v":0},{"$f":"成績入力!AS186","v":0},{"$f":"成績入力!AT186","v":0},{"$f":"成績入力!AU186","v":0},{"$f":"成績入力!AV186","v":0},{"$f":"成績入力!AW186","v":0},{"$f":"成績入力!AX186","v":0},{"$f":"成績入力!AY186","v":0},{"$f":"成績入力!AZ186","v":0},{"$f":"成績入力!BA186","v":0},{"$f":"成績入力!BB186","v":0},{"$f":"成績入力!BC186","v":0},{"$f":"成績入力!BD186","v":0},{"$f":"成績入力!BE186","v":0},{"$f":"成績入力!BF186","v":0},{"$f":"成績入力!BG186","v":0},{"$f":"成績入力!BH186","v":0},{"$f":"成績入力!BI186","v":0},{"$f":"成績入力!BJ186","v":0},{"$f":"成績入力!BK186","v":0},{"$f":"成績入力!BL186","v":0},null,null,186]
[null,35,4,5,{"$f":"成績入力!AH187","v":165},{"$f":"成績入力!AI187","v":0},{"$f":"成績入力!AJ187","v":0},{"$f":"成績入力!AK187","v":0},{"$f":"成績入力!BM187","v":0},{"$f":"成績入力!BN187","v":0},{"$f":"成績入力!AL187","v":0},{"$f":"成績入力!AM187","v":0},{"$f":"成績入力!AN187","v":0},{"$f":"成績入力!AO187","v":0},{"$f":"成績入力!AP187","v":0},{"$f":"成績入力!AQ187","v":0},{"$f":"成績入力!AR187","v":0},{"$f":"成績入力!AS187","v":0},{"$f":"成績入力!AT187","v":0},{"$f":"成績入力!AU187","v":0},{"$f":"成績入力!AV187","v":0},{"$f":"成績入力!AW187","v":0},{"$f":"成績入力!AX187","v":0},{"$f":"成績入力!AY187","v":0},{"$f":"成績入力!AZ187","v":0},{"$f":"成績入力!BA187","v":0},{"$f":"成績入力!BB187","v":0},{"$f":"成績入力!BC187","v":0},{"$f":"成績入力!BD187","v":0},{"$f":"成績入力!BE187","v":0},{"$f":"成績入力!BF187","v":0},{"$f":"成績入力!BG187","v":0},{"$f":"成績入力!BH187","v":0},{"$f":"成績入力!BI187","v":0},{"$f":"成績入力!BJ187","v":0},{"$f":"成績入力!BK187","v":0},{"$f":"成績入力!BL187","v":0},null,null,187]
[null,36,4,5,{"$f":"成績入力!AH188","v":166},{"$f":"成績入力!AI188","v":0},{"$f":"成績入力!AJ188","v":0},{"$f":"成績入力!AK188","v":0},{"$f":"成績入力!BM188","v":0},{"$f":"成績入力!BN188","v":0},{"$f":"成績入力!AL188","v":0},{"$f":"成績入力!AM188","v":0},{"$f":"成績入力!AN188","v":0},{"$f":"成績入力!AO188","v":0},{"$f":"成績入力!AP188","v":0},{"$f":"成績入力!AQ188","v":0},{"$f":"成績入力!AR188","v":0},{"$f":"成績入力!AS188","v":0},{"$f":"成績入力!AT188","v":0},{"$f":"成績入力!AU188","v":0},{"$f":"成績入力!AV188","v":0},{"$f":"成績入力!AW188","v":0},{"$f":"成績入力!AX188","v":0},{"$f":"成績入力!AY188","v":0},{"$f":"成績入力!AZ188","v":0},{"$f":"成績入力!BA188","v":0},{"$f":"成績入力!BB188","v":0},{"$f":"成績入力!BC188","v":0},{"$f":"成績入力!BD188","v":0},{"$f":"成績入力!BE188","v":0},{"$f":"成績入力!BF188","v":0},{"$f":"成績入力!BG188","v":0},{"$f":"成績入力!BH188","v":0},{"$f":"成績入力!BI188","v":0},{"$f":"成績入力!BJ188","v":0},{"$f":"成績入力!BK188","v":0},{"$f":"成績入力!BL188","v":0},null,null,188]
[null,37,4,5,{"$f":"成績入力!AH189","v":167},{"$f":"成績入力!AI189","v":0},{"$f":"成績入力!AJ189","v":0},{"$f":"成績入力!AK189","v":0},{"$f":"成績入力!BM189","v":0},{"$f":"成績入力!BN189","v":0},{"$f":"成績入力!AL189","v":0},{"$f":"成績入力!AM189","v":0},{"$f":"成績入力!AN189","v":0},{"$f":"成績入力!AO189","v":0},{"$f":"成績入力!AP189","v":0},{"$f":"成績入力!AQ189","v":0},{"$f":"成績入力!AR189","v":0},{"$f":"成績入力!AS189","v":0},{"$f":"成績入力!AT189","v":0},{"$f":"成績入力!AU189","v":0},{"$f":"成績入力!AV189","v":0},{"$f":"成績入力!AW189","v":0},{"$f":"成績入力!AX189","v":0},{"$f":"成績入力!AY189","v":0},{"$f":"成績入力!AZ189","v":0},{"$f":"成績入力!BA189","v":0},{"$f":"成績入力!BB189","v":0},{"$f":"成績入力!BC189","v":0},{"$f":"成績入力!BD189","v":0},{"$f":"成績入力!BE189","v":0},{"$f":"成績入力!BF189","v":0},{"$f":"成績入力!BG189","v":0},{"$f":"成績入力!BH189","v":0},{"$f":"成績入力!BI189","v":0},{"$f":"成績入力!BJ189","v":0},{"$f":"成績入力!BK189","v":0},{"$f":"成績入力!BL189","v":0},null,null,189]
[null,38,4,5,{"$f":"成績入力!AH190","v":168},{"$f":"成績入力!AI190","v":0},{"$f":"成績入力!AJ190","v":0},{"$f":"成績入力!AK190","v":0},{"$f":"成績入力!BM190","v":0},{"$f":"成績入力!BN190","v":0},{"$f":"成績入力!AL190","v":0},{"$f":"成績入力!AM190","v":0},{"$f":"成績入力!AN190","v":0},{"$f":"成績入力!AO190","v":0},{"$f":"成績入力!AP190","v":0},{"$f":"成績入力!AQ190","v":0},{"$f":"成績入力!AR190","v":0},{"$f":"成績入力!AS190","v":0},{"$f":"成績入力!AT190","v":0},{"$f":"成績入力!AU190","v":0},{"$f":"成績入力!AV190","v":0},{"$f":"成績入力!AW190","v":0},{"$f":"成績入力!AX190","v":0},{"$f":"成績入力!AY190","v":0},{"$f":"成績入力!AZ190","v":0},{"$f":"成績入力!BA190","v":0},{"$f":"成績入力!BB190","v":0},{"$f":"成績入力!BC190","v":0},{"$f":"成績入力!BD190","v":0},{"$f":"成績入力!BE190","v":0},{"$f":"成績入力!BF190","v":0},{"$f":"成績入力!BG190","v":0},{"$f":"成績入力!BH190","v":0},{"$f":"成績入力!BI190","v":0},{"$f":"成績入力!BJ190","v":0},{"$f":"成績入力!BK190","v":0},{"$f":"成績入力!BL190","v":0},null,null,190]
[null,39,4,5,{"$f":"成績入力!AH191","v":169},{"$f":"成績入力!AI191","v":0},{"$f":"成績入力!AJ191","v":0},{"$f":"成績入力!AK191","v":0},{"$f":"成績入力!BM191","v":0},{"$f":"成績入力!BN191","v":0},{"$f":"成績入力!AL191","v":0},{"$f":"成績入力!AM191","v":0},{"$f":"成績入力!AN191","v":0},{"$f":"成績入力!AO191","v":0},{"$f":"成績入力!AP191","v":0},{"$f":"成績入力!AQ191","v":0},{"$f":"成績入力!AR191","v":0},{"$f":"成績入力!AS191","v":0},{"$f":"成績入力!AT191","v":0},{"$f":"成績入力!AU191","v":0},{"$f":"成績入力!AV191","v":0},{"$f":"成績入力!AW191","v":0},{"$f":"成績入力!AX191","v":0},{"$f":"成績入力!AY191","v":0},{"$f":"成績入力!AZ191","v":0},{"$f":"成績入力!BA191","v":0},{"$f":"成績入力!BB191","v":0},{"$f":"成績入力!BC191","v":0},{"$f":"成績入力!BD191","v":0},{"$f":"成績入力!BE191","v":0},{"$f":"成績入力!BF191","v":0},{"$f":"成績入力!BG191","v":0},{"$f":"成績入力!BH191","v":0},{"$f":"成績入力!BI191","v":0},{"$f":"成績入力!BJ191","v":0},{"$f":"成績入力!BK191","v":0},{"$f":"成績入力!BL191","v":0},null,null,191]
[null,40,4,5,{"$f":"成績入力!AH192","v":170},{"$f":"成績入力!AI192","v":0},{"$f":"成績入力!AJ192","v":0},{"$f":"成績入力!AK192","v":0},{"$f":"成績入力!BM192","v":0},{"$f":"成績入力!BN192","v":0},{"$f":"成績入力!AL192","v":0},{"$f":"成績入力!AM192","v":0},{"$f":"成績入力!AN192","v":0},{"$f":"成績入力!AO192","v":0},{"$f":"成績入力!AP192","v":0},{"$f":"成績入力!AQ192","v":0},{"$f":"成績入力!AR192","v":0},{"$f":"成績入力!AS192","v":0},{"$f":"成績入力!AT192","v":0},{"$f":"成績入力!AU192","v":0},{"$f":"成績入力!AV192","v":0},{"$f":"成績入力!AW192","v":0},{"$f":"成績入力!AX192","v":0},{"$f":"成績入力!AY192","v":0},{"$f":"成績入力!AZ192","v":0},{"$f":"成績入力!BA192","v":0},{"$f":"成績入力!BB192","v":0},{"$f":"成績入力!BC192","v":0},{"$f":"成績入力!BD192","v":0},{"$f":"成績入力!BE192","v":0},{"$f":"成績入力!BF192","v":0},{"$f":"成績入力!BG192","v":0},{"$f":"成績入力!BH192","v":0},{"$f":"成績入力!BI192","v":0},{"$f":"成績入力!BJ192","v":0},{"$f":"成績入力!BK192","v":0},{"$f":"成績入力!BL192","v":0},null,null,192]
[null,41,4,5,{"$f":"成績入力!AH193","v":171},{"$f":"成績入力!AI193","v":0},{"$f":"成績入力!AJ193","v":0},{"$f":"成績入力!AK193","v":0},{"$f":"成績入力!BM193","v":0},{"$f":"成績入力!BN193","v":0},{"$f":"成績入力!AL193","v":0},{"$f":"成績入力!AM193","v":0},{"$f":"成績入力!AN193","v":0},{"$f":"成績入力!AO193","v":0},{"$f":"成績入力!AP193","v":0},{"$f":"成績入力!AQ193","v":0},{"$f":"成績入力!AR193","v":0},{"$f":"成績入力!AS193","v":0},{"$f":"成績入力!AT193","v":0},{"$f":"成績入力!AU193","v":0},{"$f":"成績入力!AV193","v":0},{"$f":"成績入力!AW193","v":0},{"$f":"成績入力!AX193","v":0},{"$f":"成績入力!AY193","v":0},{"$f":"成績入力!AZ193","v":0},{"$f":"成績入力!BA193","v":0},{"$f":"成績入力!BB193","v":0},{"$f":"成績入力!BC193","v":0},{"$f":"成績入力!BD193","v":0},{"$f":"成績入力!BE193","v":0},{"$f":"成績入力!BF193","v":0},{"$f":"成績入力!BG193","v":0},{"$f":"成績入力!BH193","v":0},{"$f":"成績入力!BI193","v":0},{"$f":"成績入力!BJ193","v":0},{"$f":"成績入力!BK193","v":0},{"$f":"成績入力!BL193","v":0},null,null,193]
[null,42,4,5,{"$f":"成績入力!AH194","v":172},{"$f":"成績入力!AI194","v":0},{"$f":"成績入力!AJ194","v":0},{"$f":"成績入力!AK194","v":0},{"$f":"成績入力!BM194","v":0},{"$f":"成績入力!BN194","v":0},{"$f":"成績入力!AL194","v":0},{"$f":"成績入力!AM194","v":0},{"$f":"成績入力!AN194","v":0},{"$f":"成績入力!AO194","v":0},{"$f":"成績入力!AP194","v":0},{"$f":"成績入力!AQ194","v":0},{"$f":"成績入力!AR194","v":0},{"$f":"成績入力!AS194","v":0},{"$f":"成績入力!AT194","v":0},{"$f":"成績入力!AU194","v":0},{"$f":"成績入力!AV194","v":0},{"$f":"成績入力!AW194","v":0},{"$f":"成績入力!AX194","v":0},{"$f":"成績入力!AY194","v":0},{"$f":"成績入力!AZ194","v":0},{"$f":"成績入力!BA194","v":0},{"$f":"成績入力!BB194","v":0},{"$f":"成績入力!BC194","v":0},{"$f":"成績入力!BD194","v":0},{"$f":"成績入力!BE194","v":0},{"$f":"成績入力!BF194","v":0},{"$f":"成績入力!BG194","v":0},{"$f":"成績入力!BH194","v":0},{"$f":"成績入力!BI194","v":0},{"$f":"成績入力!BJ194","v":0},{"$f":"成績入力!BK194","v":0},{"$f":"成績入力!BL194","v":0},null,null,194]
[null,43,4,5,{"$f":"成績入力!AH195","v":173},{"$f":"成績入力!AI195","v":0},{"$f":"成績入力!AJ195","v":0},{"$f":"成績入力!AK195","v":0},{"$f":"成績入力!BM195","v":0},{"$f":"成績入力!BN195","v":0},{"$f":"成績入力!AL195","v":0},{"$f":"成績入力!AM195","v":0},{"$f":"成績入力!AN195","v":0},{"$f":"成績入力!AO195","v":0},{"$f":"成績入力!AP195","v":0},{"$f":"成績入力!AQ195","v":0},{"$f":"成績入力!AR195","v":0},{"$f":"成績入力!AS195","v":0},{"$f":"成績入力!AT195","v":0},{"$f":"成績入力!AU195","v":0},{"$f":"成績入力!AV195","v":0},{"$f":"成績入力!AW195","v":0},{"$f":"成績入力!AX195","v":0},{"$f":"成績入力!AY195","v":0},{"$f":"成績入力!AZ195","v":0},{"$f":"成績入力!BA195","v":0},{"$f":"成績入力!BB195","v":0},{"$f":"成績入力!BC195","v":0},{"$f":"成績入力!BD195","v":0},{"$f":"成績入力!BE195","v":0},{"$f":"成績入力!BF195","v":0},{"$f":"成績入力!BG195","v":0},{"$f":"成績入力!BH195","v":0},{"$f":"成績入力!BI195","v":0},{"$f":"成績入力!BJ195","v":0},{"$f":"成績入力!BK195","v":0},{"$f":"成績入力!BL195","v":0},null,null,195]
[null,44,4,5,{"$f":"成績入力!AH196","v":174},{"$f":"成績入力!AI196","v":0},{"$f":"成績入力!AJ196","v":0},{"$f":"成績入力!AK196","v":0},{"$f":"成績入力!BM196","v":0},{"$f":"成績入力!BN196","v":0},{"$f":"成績入力!AL196","v":0},{"$f":"成績入力!AM196","v":0},{"$f":"成績入力!AN196","v":0},{"$f":"成績入力!AO196","v":0},{"$f":"成績入力!AP196","v":0},{"$f":"成績入力!AQ196","v":0},{"$f":"成績入力!AR196","v":0},{"$f":"成績入力!AS196","v":0},{"$f":"成績入力!AT196","v":0},{"$f":"成績入力!AU196","v":0},{"$f":"成績入力!AV196","v":0},{"$f":"成績入力!AW196","v":0},{"$f":"成績入力!AX196","v":0},{"$f":"成績入力!AY196","v":0},{"$f":"成績入力!AZ196","v":0},{"$f":"成績入力!BA196","v":0},{"$f":"成績入力!BB196","v":0},{"$f":"成績入力!BC196","v":0},{"$f":"成績入力!BD196","v":0},{"$f":"成績入力!BE196","v":0},{"$f":"成績入力!BF196","v":0},{"$f":"成績入力!BG196","v":0},{"$f":"成績入力!BH196","v":0},{"$f":"成績入力!BI196","v":0},{"$f":"成績入力!BJ196","v":0},{"$f":"成績入力!BK196","v":0},{"$f":"成績入力!BL196","v":0},null,null,196]
[null,45,4,5,{"$f":"成績入力!AH197","v":175},{"$f":"成績入力!AI197","v":0},{"$f":"成績入力!AJ197","v":0},{"$f":"成績入力!AK197","v":0},{"$f":"成績入力!BM197","v":0},{"$f":"成績入力!BN197","v":0},{"$f":"成績入力!AL197","v":0},{"$f":"成績入力!AM197","v":0},{"$f":"成績入力!AN197","v":0},{"$f":"成績入力!AO197","v":0},{"$f":"成績入力!AP197","v":0},{"$f":"成績入力!AQ197","v":0},{"$f":"成績入力!AR197","v":0},{"$f":"成績入力!AS197","v":0},{"$f":"成績入力!AT197","v":0},{"$f":"成績入力!AU197","v":0},{"$f":"成績入力!AV197","v":0},{"$f":"成績入力!AW197","v":0},{"$f":"成績入力!AX197","v":0},{"$f":"成績入力!AY197","v":0},{"$f":"成績入力!AZ197","v":0},{"$f":"成績入力!BA197","v":0},{"$f":"成績入力!BB197","v":0},{"$f":"成績入力!BC197","v":0},{"$f":"成績入力!BD197","v":0},{"$f":"成績入力!BE197","v":0},{"$f":"成績入力!BF197","v":0},{"$f":"成績入力!BG197","v":0},{"$f":"成績入力!BH197","v":0},{"$f":"成績入力!BI197","v":0},{"$f":"成績入力!BJ197","v":0},{"$f":"成績入力!BK197","v":0},{"$f":"成績入力!BL197","v":0},null,null,197]
[null,46,4,5,{"$f":"成績入力!AH198","v":176},{"$f":"成績入力!AI198","v":0},{"$f":"成績入力!AJ198","v":0},{"$f":"成績入力!AK198","v":0},{"$f":"成績入力!BM198","v":0},{"$f":"成績入力!BN198","v":0},{"$f":"成績入力!AL198","v":0},{"$f":"成績入力!AM198","v":0},{"$f":"成績入力!AN198","v":0},{"$f":"成績入力!AO198","v":0},{"$f":"成績入力!AP198","v":0},{"$f":"成績入力!AQ198","v":0},{"$f":"成績入力!AR198","v":0},{"$f":"成績入力!AS198","v":0},{"$f":"成績入力!AT198","v":0},{"$f":"成績入力!AU198","v":0},{"$f":"成績入力!AV198","v":0},{"$f":"成績入力!AW198","v":0},{"$f":"成績入力!AX198","v":0},{"$f":"成績入力!AY198","v":0},{"$f":"成績入力!AZ198","v":0},{"$f":"成績入力!BA198","v":0},{"$f":"成績入力!BB198","v":0},{"$f":"成績入力!BC198","v":0},{"$f":"成績入力!BD198","v":0},{"$f":"成績入力!BE198","v":0},{"$f":"成績入力!BF198","v":0},{"$f":"成績入力!BG198","v":0},{"$f":"成績入力!BH198","v":0},{"$f":"成績入力!BI198","v":0},{"$f":"成績入力!BJ198","v":0},{"$f":"成績入力!BK198","v":0},{"$f":"成績入力!BL198","v":0},null,null,198]
[null,47,4,5,{"$f":"成績入力!AH199","v":177},{"$f":"成績入力!AI199","v":0},{"$f":"成績入力!AJ199","v":0},{"$f":"成績入力!AK199","v":0},{"$f":"成績入力!BM199","v":0},{"$f":"成績入力!BN199","v":0},{"$f":"成績入力!AL199","v":0},{"$f":"成績入力!AM199","v":0},{"$f":"成績入力!AN199","v":0},{"$f":"成績入力!AO199","v":0},{"$f":"成績入力!AP199","v":0},{"$f":"成績入力!AQ199","v":0},{"$f":"成績入力!AR199","v":0},{"$f":"成績入力!AS199","v":0},{"$f":"成績入力!AT199","v":0},{"$f":"成績入力!AU199","v":0},{"$f":"成績入力!AV199","v":0},{"$f":"成績入力!AW199","v":0},{"$f":"成績入力!AX199","v":0},{"$f":"成績入力!AY199","v":0},{"$f":"成績入力!AZ199","v":0},{"$f":"成績入力!BA199","v":0},{"$f":"成績入力!BB199","v":0},{"$f":"成績入力!BC199","v":0},{"$f":"成績入力!BD199","v":0},{"$f":"成績入力!BE199","v":0},{"$f":"成績入力!BF199","v":0},{"$f":"成績入力!BG199","v":0},{"$f":"成績入力!BH199","v":0},{"$f":"成績入力!BI199","v":0},{"$f":"成績入力!BJ199","v":0},{"$f":"成績入力!BK199","v":0},{"$f":"成績入力!BL199","v":0},null,null,199]
[null,48,4,5,{"$f":"成績入力!AH200","v":178},{"$f":"成績入力!AI200","v":0},{"$f":"成績入力!AJ200","v":0},{"$f":"成績入力!AK200","v":0},{"$f":"成績入力!BM200","v":0},{"$f":"成績入力!BN200","v":0},{"$f":"成績入力!AL200","v":0},{"$f":"成績入力!AM200","v":0},{"$f":"成績入力!AN200","v":0},{"$f":"成績入力!AO200","v":0},{"$f":"成績入力!AP200","v":0},{"$f":"成績入力!AQ200","v":0},{"$f":"成績入力!AR200","v":0},{"$f":"成績入力!AS200","v":0},{"$f":"成績入力!AT200","v":0},{"$f":"成績入力!AU200","v":0},{"$f":"成績入力!AV200","v":0},{"$f":"成績入力!AW200","v":0},{"$f":"成績入力!AX200","v":0},{"$f":"成績入力!AY200","v":0},{"$f":"成績入力!AZ200","v":0},{"$f":"成績入力!BA200","v":0},{"$f":"成績入力!BB200","v":0},{"$f":"成績入力!BC200","v":0},{"$f":"成績入力!BD200","v":0},{"$f":"成績入力!BE200","v":0},{"$f":"成績入力!BF200","v":0},{"$f":"成績入力!BG200","v":0},{"$f":"成績入力!BH200","v":0},{"$f":"成績入力!BI200","v":0},{"$f":"成績入力!BJ200","v":0},{"$f":"成績入力!BK200","v":0},{"$f":"成績入力!BL200","v":0},null,null,200]
[null,49,4,5,{"$f":"成績入力!AH201","v":179},{"$f":"成績入力!AI201","v":0},{"$f":"成績入力!AJ201","v":0},{"$f":"成績入力!AK201","v":0},{"$f":"成績入力!BM201","v":0},{"$f":"成績入力!BN201","v":0},{"$f":"成績入力!AL201","v":0},{"$f":"成績入力!AM201","v":0},{"$f":"成績入力!AN201","v":0},{"$f":"成績入力!AO201","v":0},{"$f":"成績入力!AP201","v":0},{"$f":"成績入力!AQ201","v":0},{"$f":"成績入力!AR201","v":0},{"$f":"成績入力!AS201","v":0},{"$f":"成績入力!AT201","v":0},{"$f":"成績入力!AU201","v":0},{"$f":"成績入力!AV201","v":0},{"$f":"成績入力!AW201","v":0},{"$f":"成績入力!AX201","v":0},{"$f":"成績入力!AY201","v":0},{"$f":"成績入力!AZ201","v":0},{"$f":"成績入力!BA201","v":0},{"$f":"成績入力!BB201","v":0},{"$f":"成績入力!BC201","v":0},{"$f":"成績入力!BD201","v":0},{"$f":"成績入力!BE201","v":0},{"$f":"成績入力!BF201","v":0},{"$f":"成績入力!BG201","v":0},{"$f":"成績入力!BH201","v":0},{"$f":"成績入力!BI201","v":0},{"$f":"成績入力!BJ201","v":0},{"$f":"成績入力!BK201","v":0},{"$f":"成績入力!BL201","v":0},null,null,201]
[null,50,4,5,{"$f":"成績入力!AH202","v":180},{"$f":"成績入力!AI202","v":0},{"$f":"成績入力!AJ202","v":0},{"$f":"成績入力!AK202","v":0},{"$f":"成績入力!BM202","v":0},{"$f":"成績入力!BN202","v":0},{"$f":"成績入力!AL202","v":0},{"$f":"成績入力!AM202","v":0},{"$f":"成績入力!AN202","v":0},{"$f":"成績入力!AO202","v":0},{"$f":"成績入力!AP202","v":0},{"$f":"成績入力!AQ202","v":0},{"$f":"成績入力!AR202","v":0},{"$f":"成績入力!AS202","v":0},{"$f":"成績入力!AT202","v":0},{"$f":"成績入力!AU202","v":0},{"$f":"成績入力!AV202","v":0},{"$f":"成績入力!AW202","v":0},{"$f":"成績入力!AX202","v":0},{"$f":"成績入力!AY202","v":0},{"$f":"成績入力!AZ202","v":0},{"$f":"成績入力!BA202","v":0},{"$f":"成績入力!BB202","v":0},{"$f":"成績入力!BC202","v":0},{"$f":"成績入力!BD202","v":0},{"$f":"成績入力!BE202","v":0},{"$f":"成績入力!BF202","v":0},{"$f":"成績入力!BG202","v":0},{"$f":"成績入力!BH202","v":0},{"$f":"成績入力!BI202","v":0},{"$f":"成績入力!BJ202","v":0},{"$f":"成績入力!BK202","v":0},{"$f":"成績入力!BL202","v":0},null,null,202]
[]
[]
[null,null,null,null,null,null,null,null,null,null,1,2,3,4,5,6,7,8,9,10,11,12,13,14,15,16,17,18,19,20,"TC1",null,"TC2"]
[null,null,null,null,null,null,null,null,"回答数・・・・",null,{"$f":"COUNTA(K7:K56)","v":50},{"$f":"COUNTA(L7:L56)","v":50},50,50,50,50,50,50,50,50,50,50,50,50,50,50,50,50,50,50,50,null,{"$f":"COUNTA(AG7:AG56)","v":50}]
[null,null,null,null,null,null,null,null,"正解数・・・・",null,{"$f":"COUNTIF(K7:K56,K5)","v":4},4,4,2,2,3,4,2,0,50,50,50,50,50,50,50,50,50,50,50,50,null,{"$f":"COUNTIF(AG7:AG56,AG5)","v":50}]
[null,null,null,null,null,null,null,null,"正解率 （％)",null,{"$f":"K61/K60*100","v":8},8,8,4,4,6,8,4,0,100,100,100,100,100,100,100,100,100,100,100,100,null,{"$f":"AG61/AG60*100","v":100}]